BEGIN:VCALENDAR
VERSION:2.0
PRODID:-//Mercados Medievales - ECPv6.15.20//NONSGML v1.0//EN
CALSCALE:GREGORIAN
METHOD:PUBLISH
X-ORIGINAL-URL:https://demercadosmedievales.info
X-WR-CALDESC:Eventos para Mercados Medievales
REFRESH-INTERVAL;VALUE=DURATION:PT1H
X-Robots-Tag:noindex
X-PUBLISHED-TTL:PT1H
BEGIN:VTIMEZONE
TZID:Europe/Madrid
BEGIN:DAYLIGHT
TZOFFSETFROM:+0100
TZOFFSETTO:+0200
TZNAME:CEST
DTSTART:20250330T010000
END:DAYLIGHT
BEGIN:STANDARD
TZOFFSETFROM:+0200
TZOFFSETTO:+0100
TZNAME:CET
DTSTART:20251026T010000
END:STANDARD
BEGIN:DAYLIGHT
TZOFFSETFROM:+0100
TZOFFSETTO:+0200
TZNAME:CEST
DTSTART:20260329T010000
END:DAYLIGHT
BEGIN:STANDARD
TZOFFSETFROM:+0200
TZOFFSETTO:+0100
TZNAME:CET
DTSTART:20261025T010000
END:STANDARD
BEGIN:DAYLIGHT
TZOFFSETFROM:+0100
TZOFFSETTO:+0200
TZNAME:CEST
DTSTART:20270328T010000
END:DAYLIGHT
BEGIN:STANDARD
TZOFFSETFROM:+0200
TZOFFSETTO:+0100
TZNAME:CET
DTSTART:20271031T010000
END:STANDARD
END:VTIMEZONE
BEGIN:VEVENT
DTSTART;TZID=Europe/Madrid:20260402T000000
DTEND;TZID=Europe/Madrid:20260405T235959
DTSTAMP:20260422T034336
CREATED:20260218T084523Z
LAST-MODIFIED:20260218T084525Z
UID:10003223-1775088000-1775433599@demercadosmedievales.info
SUMMARY:Gran Mercado Romano de Ponferrada 2026 (León)
DESCRIPTION:El Gran Mercado Romano de Ponferrada (León) se celebrará los días 2\, 3\, 4 y 5 de abril en los Jardines del Sil\, transformando este emblemático espacio en un auténtico enclave de la antigua Roma. \n\n\n\n\n\n\n\n \n\n\n\nÍndice Mercado Romano de PonferradaInformación del Mercado Romano de PonferradaCartel del Gran Mercado Romano de Ponferrada 2026 (León)Sobre Ponferrada.. historia viva entre templarios y romanos🚗 Cómo llegarMercados Medievales 2026: Fechas y Localidades ConfirmadasPara más información puedes consultar :¿Te apuntas? Síguenos y no te pierdas de nada.En Resumen…\n\n\n\n \n\n\n\nMercado Romano de Ponferrada\n\n\n\nPonferrada volverá a viajar en el tiempo con la celebración del Gran Mercado Romano\, organizado por Lancelot Medieval\, referente nacional en mercados temáticos y recreaciones históricas. \n\n\n\nLos Jardines del Sil acogerán durante cuatro días un mercado ambientado en época romana\, donde los visitantes podrán disfrutar de puestos tematizados\, animación itinerante y atracciones para todos los públicos. Además\, el evento contará con publicidad específica y vigilancia disuasoria para garantizar el buen desarrollo de la actividad. \n\n\n\n \n\n\n\n\n\n\n\n\n\n\n \n\n\n\nInformación del Mercado Romano de Ponferrada\n\n\n\n\nEvento: Mercado Romano de Ponferrada\n\n\n\nFechas: 02 al 05 de Abril del 2026\n\n\n\nMontaje: 02 de Abril a las 9:00 h\n\n\n\nInauguración : 02 de Abril por la tarde\n\n\n\nUbicación: Jardines del Sil\n\n\n\nLocalidad: Ponferrada ( LEON )\n\n\n\nContenido: Mercado romano\, artesanía y gastronomía\n\n\n\nPeriodicidad: Anual\n\n\n\nRequisitos : Puestos con ambientación de mercado romano (estructura de madera o decoración acorde). Documentación en regla (autónomos\, Seguridad Social y\, si aplica\, carné de manipulación de alimentos).\n\n\n\nServicios que proporcionara el organizador: LUZ\, AGUA\, PUBLICIDAD\, VIGILANCIA DISUASORIA\, ANIMACION Y ATRACCIONES.\n\n\n\nEntidad organizadora: LANCELOT MEDIEVAL\n\n Manuel – Teléfono / WhatsApp: 607 677 701\n\n\n\nCorreo electrónico: info@lancelotmedieval.com\n\n\n\n\n\n\n \n\n\n\nCartel del Gran Mercado Romano de Ponferrada 2026 (León)\n\n\n\nGran Mercado Romano de Ponferrada 2026 (León)\n\n\n\n \n\n\n\nSobre Ponferrada.. historia viva entre templarios y romanos\n\n\n\nPonferrada\, capital de la comarca del Bierzo\, es uno de los destinos históricos más importantes de la provincia de León. Destaca por su imponente Castillo de los Templarios y su papel clave en el Camino de Santiago. \n\n\n\n🚗 Cómo llegar\n\n\n\nPonferrada está bien comunicada por la A-6 (Autovía del Noroeste)\, con conexión directa desde León\, Galicia y Madrid. También dispone de estación de tren con conexiones regionales y nacionales. \n\n\n\n\n\n \n\n\n\nMercado Romano de Ponferrada\n\n\n\n \n\n\n\nMercados Medievales 2026: Fechas y Localidades Confirmadas\n\n\n\n\n\n\n\nEspaña cuenta con una de las agendas de ferias temáticas más ricas del mundo\, combinando gastronomía tradicional\, artesanía de autor y espectáculos en vivo. Si buscas un plan diferente para el fin de semana o quieres conocer el patrimonio de una forma única\, esta es tu guía definitiva. Leer más \n\n\n\nPara más información puedes consultar :\n\n\n\n\nPuedes Consultar en esté enlace las  Ferias y Mercados en España\n\n\n\nHaz clic en ESTE enlace :  Conoce los Organizadores de Mercados y Ferias\n\n\n\n\n¿Te apuntas? Síguenos y no te pierdas de nada.\n\n\n\n\nTelegram\n\n\n\nNewsletter\n\n\n\nWhatsApp\n\n\n\nInstagram\n\n\n\nPor supuesto en Facebook\n\n\n\n\nEn Resumen…
URL:https://demercadosmedievales.info/mercadomedieval/gran-mercado-romano-de-ponferrada-2026-leon/
LOCATION:Ponferrada (León) (***)\, Ponferrada\, León\, España
CATEGORIES:Cartel,Castilla y Leon,León,Mercado romano
ATTACH;FMTTYPE=image/jpeg:https://demercadosmedievales.info/wp-content/uploads/2026/02/romano_ponferrada_fb-1.jpg
ORGANIZER;CN="Lancelot medieval":MAILTO:info@lancelotmedieval.com
GEO:42.5499958;-6.598259
END:VEVENT
END:VCALENDAR