BEGIN:VCALENDAR
VERSION:2.0
PRODID:-//Mercados Medievales - ECPv6.15.20//NONSGML v1.0//EN
CALSCALE:GREGORIAN
METHOD:PUBLISH
X-WR-CALNAME:Mercados Medievales
X-ORIGINAL-URL:https://demercadosmedievales.info
X-WR-CALDESC:Eventos para Mercados Medievales
REFRESH-INTERVAL;VALUE=DURATION:PT1H
X-Robots-Tag:noindex
X-PUBLISHED-TTL:PT1H
BEGIN:VTIMEZONE
TZID:Europe/Madrid
BEGIN:DAYLIGHT
TZOFFSETFROM:+0100
TZOFFSETTO:+0200
TZNAME:CEST
DTSTART:20250330T010000
END:DAYLIGHT
BEGIN:STANDARD
TZOFFSETFROM:+0200
TZOFFSETTO:+0100
TZNAME:CET
DTSTART:20251026T010000
END:STANDARD
BEGIN:DAYLIGHT
TZOFFSETFROM:+0100
TZOFFSETTO:+0200
TZNAME:CEST
DTSTART:20260329T010000
END:DAYLIGHT
BEGIN:STANDARD
TZOFFSETFROM:+0200
TZOFFSETTO:+0100
TZNAME:CET
DTSTART:20261025T010000
END:STANDARD
BEGIN:DAYLIGHT
TZOFFSETFROM:+0100
TZOFFSETTO:+0200
TZNAME:CEST
DTSTART:20270328T010000
END:DAYLIGHT
BEGIN:STANDARD
TZOFFSETFROM:+0200
TZOFFSETTO:+0100
TZNAME:CET
DTSTART:20271031T010000
END:STANDARD
END:VTIMEZONE
BEGIN:VEVENT
DTSTART;TZID=Europe/Madrid:20260813T000000
DTEND;TZID=Europe/Madrid:20260816T235959
DTSTAMP:20260422T022925
CREATED:20260310T104633Z
LAST-MODIFIED:20260313T065244Z
UID:10003294-1786579200-1786924799@demercadosmedievales.info
SUMMARY:Mercado Renacentista de Medina del Campo 2026 – Feria Imperiales y Comuneros
DESCRIPTION:El Mercado Renacentista de Medina del Campo 2026 se celebrará del 13 al 16 de agosto en el corazón de Medina del Campo\, dentro de la reconocida XIX Feria “Imperiales y Comuneros”. \n\n\n\n\n\n\n\n \n\n\n\nÍndice Mercado Renacentista de Medina del CampoInformación para artesanos y mercaderesComo llegar al Mercado Renacentista de Medina del Campo 🏰 Medina del Campo: donde el Renacimiento vuelve a vivirMercados Medievales 2026: Fechas y Localidades ConfirmadasPara más información puedes consultar :¿Te apuntas? Síguenos y no te pierdas de nada.En Resumen\n\n\n\n \n\n\n\nMercado Renacentista de Medina del Campo\n\n\n\nLa Semana Renacentista de Medina del Campo vuelve a llenar las calles de historia con uno de los eventos más importantes del calendario cultural de Castilla y León: el Mercado Renacentista de la Feria Imperiales y Comuneros. \n\n\n\nDurante cuatro días\, el centro histórico de la localidad acogerá un gran mercado temático con puestos de artesanía\, gastronomía y ambientación renacentista. Además\, el evento contará con un amplio programa de actividades que atraerá a miles de visitantes. \n\n\n\nEntre las propuestas destacadas se encuentran: \n\n\n\n🎭 Campamentos imperiales y comuneros🎺 Animación musical y teatral🎪 Espectáculos y pasacalles🛠 Talleres de oficios antiguos🎠 Juegos y atracciones infantiles \n\n\n\nEl mercado se desarrollará en las principales calles y plazas del casco histórico y también en el entorno del emblemático Castillo de La Mota\, uno de los monumentos más importantes de la provincia. \n\n\n\nLa organización del mercado corre a cargo de La Fragua de Vulcano\, que regresa a Medina del Campo tras haber impulsado las primeras ediciones del mercado renacentista en 2008 y 2009. \n\n\n\nAdemás\, la participación en el mercado es gratuita\, lo que lo convierte en una excelente oportunidad para artesanos y mercaderes que quieran formar parte de uno de los eventos históricos más importantes del verano. \n\n\n\n \n\n\n\nInformación para artesanos y mercaderes\n\n\n\n\n📅 Fechas: 13\, 14\, 15 y 16 de agosto de 2026📍 Lugar: Centro histórico de Medina del Campo ( VALLADOLID )\n\n\n\n💰 Participación: Mercado gratuito\n\n\n\n🎭 Actividades destacadas\n\nCampamentos imperiales y comuneros\n\n\n\nAnimación musical y teatral\n\n\n\nEspectáculos y pasacalles\n\n\n\nTalleres de oficios antiguos\n\n\n\nZona infantil\n\n\n\n\n\n📩 Información e inscripciones 📧 gestion@espectculosamb.com\n\n\n\nOrganiza : la fragua de vulcano\n\n\n\n\n \n\n\n\nMercado Renacentista de Medina del Campo\n\n\n\n \n\n\n\n\n\n\n\nComo llegar al Mercado Renacentista de Medina del Campo \n\n\n\nEl mercado se celebra en Medina del Campo\, histórica villa de la provincia de Valladolid\, conocida por su enorme patrimonio histórico y por su papel clave en la historia de Castilla durante la Edad Media y el Renacimiento. \n\n\n\nSu imponente Castillo de La Mota y su tradición ferial convierten a la localidad en uno de los destinos culturales más visitados de la región. \n\n\n\n🏰 Medina del Campo: donde el Renacimiento vuelve a vivir\n\n\n\n📍 Medina del Campo se encuentra al sur de la provincia de Valladolid. \n\n\n\n🚗 Acceso directo por la A-6 (Madrid – A Coruña) y la A-62 (Valladolid – Salamanca).🚆 Estación de tren en la propia localidad con conexiones desde Madrid\, Valladolid y otras ciudades. \n\n\n\n\n\n \n\n\n\nMercados Medievales 2026: Fechas y Localidades Confirmadas\n\n\n\n\n\n\n\nEspaña cuenta con una de las agendas de ferias temáticas más ricas del mundo\, combinando gastronomía tradicional\, artesanía de autor y espectáculos en vivo. Si buscas un plan diferente para el fin de semana o quieres conocer el patrimonio de una forma única\, esta es tu guía definitiva. Leer más \n\n\n\nPara más información puedes consultar :\n\n\n\n\nPuedes Consultar en esté enlace las  Ferias y Mercados en España\n\n\n\nHaz clic en ESTE enlace :  Conoce los Organizadores de Mercados y Ferias\n\n\n\n\n¿Te apuntas? Síguenos y no te pierdas de nada.\n\n\n\n\nTelegram\n\n\n\nNewsletter\n\n\n\nWhatsApp\n\n\n\nInstagram\n\n\n\nPor supuesto en Facebook\n\n\n\n\nEn Resumen
URL:https://demercadosmedievales.info/mercadomedieval/mercado-renacentista-de-medina-del-campo/
LOCATION:Medina del Campo (Valladolid) (***)\, Medina del Campo\, Valladolid\, 47400
CATEGORIES:Castilla y Leon,Mercado Renacentista y Siglo de Oro,Valladolid
ATTACH;FMTTYPE=image/jpeg:https://demercadosmedievales.info/wp-content/uploads/2026/03/RENACENTISTA_medina_fb.jpg
ORGANIZER;CN="La Fragua de Vulcano":MAILTO:lafragua@espectaculosamb.com
GEO:41.310852;-4.9139228
END:VEVENT
END:VCALENDAR