BEGIN:VCALENDAR
VERSION:2.0
PRODID:-//Mercados Medievales - ECPv6.15.20//NONSGML v1.0//EN
CALSCALE:GREGORIAN
METHOD:PUBLISH
X-WR-CALNAME:Mercados Medievales
X-ORIGINAL-URL:https://demercadosmedievales.info
X-WR-CALDESC:Eventos para Mercados Medievales
REFRESH-INTERVAL;VALUE=DURATION:PT1H
X-Robots-Tag:noindex
X-PUBLISHED-TTL:PT1H
BEGIN:VTIMEZONE
TZID:Europe/Madrid
BEGIN:DAYLIGHT
TZOFFSETFROM:+0100
TZOFFSETTO:+0200
TZNAME:CEST
DTSTART:20230326T010000
END:DAYLIGHT
BEGIN:STANDARD
TZOFFSETFROM:+0200
TZOFFSETTO:+0100
TZNAME:CET
DTSTART:20231029T010000
END:STANDARD
BEGIN:DAYLIGHT
TZOFFSETFROM:+0100
TZOFFSETTO:+0200
TZNAME:CEST
DTSTART:20240331T010000
END:DAYLIGHT
BEGIN:STANDARD
TZOFFSETFROM:+0200
TZOFFSETTO:+0100
TZNAME:CET
DTSTART:20241027T010000
END:STANDARD
BEGIN:DAYLIGHT
TZOFFSETFROM:+0100
TZOFFSETTO:+0200
TZNAME:CEST
DTSTART:20250330T010000
END:DAYLIGHT
BEGIN:STANDARD
TZOFFSETFROM:+0200
TZOFFSETTO:+0100
TZNAME:CET
DTSTART:20251026T010000
END:STANDARD
BEGIN:DAYLIGHT
TZOFFSETFROM:+0100
TZOFFSETTO:+0200
TZNAME:CEST
DTSTART:20260329T010000
END:DAYLIGHT
BEGIN:STANDARD
TZOFFSETFROM:+0200
TZOFFSETTO:+0100
TZNAME:CET
DTSTART:20261025T010000
END:STANDARD
END:VTIMEZONE
BEGIN:VEVENT
DTSTART;TZID=Europe/Madrid:20250418T000000
DTEND;TZID=Europe/Madrid:20250421T235959
DTSTAMP:20260421T024101
CREATED:20250124T172701Z
LAST-MODIFIED:20250305T203048Z
UID:10002135-1744934400-1745279999@demercadosmedievales.info
SUMMARY:Mercado Renacentista de Bocairent del 18 al 21 de Abril del 2025 (Valencia)
DESCRIPTION:Abierta la convocatoria para participar en el próximo Mercado Renacentista de Bocairent 2025 (Valencia): Fechas\, Actividades y Tradición. \n\n\n\n\n\n\n\nMercado Renacentista\n\n\n\nInformación del evento\n\n\n\n\nFecha: 18 al 21 de Abril  de  2025 \n\n\n\nPlazo de inscripción :  \n\n\n\nLugar: en calles del centro de la localidad\n\n\n\nPoblación:  Bocairent ( VALENCIA ) Bocairente es un municipio de la Comunidad Valenciana\, España. Se sitúa en el extremo sur de la provincia de Valencia\, en la comarca del Valle de Albaida. Cuenta con una población de 4148 habitantes.\n\n\n\nOferta a exponer:    Alimentación\, Gastronomía\, Artesanía y complementos.\n\n\n\nSerá inaugurado  : El día 18 de Abril\n\n\n\nRequisitos : Parada de Madera o de Metal\, Documentación vigente\, Carné de Manipulación de Alimentos en caso de ser necesario .\n\n\n\nServicios que proporcionara el organizador: Luz y Vigilancia Nocturna\n\n\n\nEntidad organizadora:  Eventos Bayarri\n\n\n\n\n \n\n\n\n\n\n\n\n\n\n\nInformación del organizador : \n\n\n\nLa organización y decoración de este evento están a cargo de Eventos Bayarri . Para más detalles sobre el proceso de inscripción\, tarifas y requisitos específicos\, contacta a través de: \n\n\n\n\nCorreo electrónico :   gerencia.eventosbayarri@gmail.cominfo.eventosbayarri@gmail.com\n\n\n\nTeléfono / WhatsApp : 665356940 \, WhatsApp 695.69.00.70\n\n\n\nPersonas de contacto : Álvaro Bayarri\n\n\n\nFacebook : https://www.facebook.com/people/Eventos-Bayarri/100067679978002/ \n\n\n\nInstagram :  https://www.instagram.com/eventosbayarri_gestiones/\n\n\n\nX ( Twitter ) :\n\n\n\nWeb :\n\n\n\nDescubre las próximas ferias y mercados en su agenda:   Eventos Bayarri  \n\n\n\n\n \n\n\n\nDescripción del evento: Bocairent\, en la provincia de Valencia\, se prepara para acoger el Mercado Renacentista 2025\, un evento que promete transportar a sus visitantes a la época del Renacimiento. Del 18 al 21 de abril\, las calles del casco antiguo se llenarán de vida\, historia y tradición\, ofreciendo una experiencia inolvidable para toda la familia. \n\n\n\n \n\n\n\n\n\n\n\n\n\n\nUn viaje al pasado\n\n\n\nEl Mercado Renacentista no es solo un lugar para comprar productos artesanales\, sino también una oportunidad para revivir una de las épocas más fascinantes de la historia. En el corazón de Bocairent\, conocido por su belleza y su rica herencia cultural\, podrás disfrutar de: \n\n\n\n\nPuestos de artesanía y gastronomía: Productos locales y elaboraciones tradicionales que deleitarán todos los sentidos.\n\n\n\nEspectáculos en vivo: Música\, teatro y recreaciones históricas que darán vida al Renacimiento en cada rincón.\n\n\n\nActividades para todas las edades: Talleres\, exhibiciones y espectáculos pensados para que toda la familia disfrute.\n\n\n\n\nUn entorno único\n\n\n\nEl Mercado se celebra en el casco antiguo de Bocairent\, un lugar que parece sacado de otra época. Sus calles empedradas y su arquitectura histórica proporcionan el marco perfecto para un evento que combina cultura\, entretenimiento y tradición. \n\n\n\n\n\n\n\nMercado renacentista\n\n\n\nUn mercado renacentista es un evento temático que recrea la atmósfera y la cultura del Renacimiento en Europa. Estos mercados suelen ser celebraciones de varios días de duración que incluyen actividades y espectáculos en vivo\, demostraciones artesanales\, puestos de comida y bebida\, y vendedores que ofrecen productos y artesanías que recuerdan a la época. \n\n\n\nA diferencia de los mercados medievales\, los mercados renacentistas se centran en la cultura\, el arte y la ciencia de la época del Renacimiento\, que tuvo lugar en Europa desde el siglo XIV hasta el siglo XVII. Durante este período\, hubo un gran renacimiento en el arte\, la literatura\, la música\, la arquitectura y las ciencias\, y los mercados renacentistas intentan recrear esa atmósfera de innovación y creatividad. \n\n\n\nLos mercados renacentistas pueden ser educativos y divertidos para toda la familia\, ya que ofrecen una experiencia única que permite aprender sobre la historia y la cultura del Renacimiento. Además\, pueden ser una oportunidad para apoyar a los artesanos  y probar comidas y bebidas tradicionales de la época\, así como disfrutar de música\, teatro y otras actividades en vivo. \n\n\n\nVestuario para un mercado renacentista\n\n\n\nEl vestuario para un mercado renacentista varía dependiendo del papel que se desempeñe en el evento y del lugar y época específicos del Renacimiento que se esté representando. Sin embargo\, en general\, el vestuario suele estar inspirado en la moda de la época renacentista europea\, que se caracterizaba por telas y diseños lujosos y elaborados. \n\n\n\nPara los hombres\, el vestuario puede incluir pantalones y camisas largas\, chaquetas y capas\, así como sombreros de ala ancha y zapatos de cuero. Para las mujeres\, los vestidos largos con mangas acampanadas y cinturas ajustadas son comunes\, y se pueden agregar accesorios como sombreros\, capas y joyas. \n\n\n\nLos colores suelen ser oscuros y ricos\, como el rojo\, el morado y el dorado\, y los tejidos pueden incluir sedas\, terciopelos y brocados. También es común el uso de elementos decorativos como bordados\, encajes y detalles en oro o plata. \n\n\n\nEs importante tener en cuenta que el vestuario para un mercado renacentista no tiene que ser auténtico históricamente\, sino que puede ser una interpretación moderna de la moda de la época. Lo más importante es que el vestuario se ajuste al ambiente del evento y contribuya a la atmósfera renacentista. \n\n\n\nAcerca de .. Bocairent\n\n\n\nBocairente es un municipio de la Comunidad Valenciana\, España. Se sitúa en el extremo sur de la provincia de Valencia\, en la comarca del Valle de Albaida. Cuenta con una población de 4148 habitantes. \n\n\n\n\n\n\n\n\n\nFerias y Mercados Medievales :\n\n\n\n\nEventos de LA PROVINCIA DE VALENCIA\n\n\n\nCalendario de Mercados Medievales en Abril\n\n\n\nFerias y Mercados en España\n\n\n\nOrganizadores de Mercados y Ferias\n\n\n\n\n\n\n\n\n\nVisita nuestro Calendario de Eventos para obtener detalles de: Calendario 2025: Planifica con anticipación y no te pierdas ninguna cita.\n\n\n\n\n\nLos Mercados y Ferias Medievales Las ferias medievales son auténticos viajes en el tiempo. Estos eventos recrean la atmósfera de la Edad Media. Leer más…\n\n\n\n\nSigue disfrutando de MercadosMedievales.net:\n\n\n\n\nTelegram: Recibe nuestras noticias y contenido exclusivo (clic aquí).\n\n\n\nNewsletter: Recibe un correos con nuestras últimas noticias (clic aquí).\n\n\n\nWhatsApp: Suscríbete para ver nuestros mejores vídeos (clic aquí).\n\n\n\nInstagram:  Síguenos en Instagram ( clic aquí )\n\n\n\n\n \n\n\n\n\n\n\n\n\n\n\n\nMercadosmedievales.net \n\n\n\nLas ferias medievales son auténticos viajes en el tiempo. Estos eventos recrean la atmósfera de la Edad Media….  \n\n\n\n\n\n\nBuscar \n\n\nSearch\n					\n				\n\n\n\n\n\nSocial \n\n\n\n\nFacebook \n\n\n\nInstagram \n\n\n\nTwitter
URL:https://demercadosmedievales.info/mercadomedieval/mercado-renacentista-de-bocairent-del-18-al-21-de-abril-del-2025-valencia/
LOCATION:Bocairent (Valencia) (***)\, Spain
CATEGORIES:Cartel,Comunidad valenciana,Mercado Renacentista y Siglo de Oro,Valencia
ATTACH;FMTTYPE=image/jpeg:https://demercadosmedievales.info/wp-content/uploads/2025/01/mercado-renacentista-bocairent-1080.jpg
ORGANIZER;CN="Eventos Bayarri":MAILTO:gerencia.eventosbayarri@gmail.com
GEO:40.463667;-3.74922
END:VEVENT
BEGIN:VEVENT
DTSTART;TZID=Europe/Madrid:20240222T080000
DTEND;TZID=Europe/Madrid:20240222T170000
DTSTAMP:20260421T024101
CREATED:20240222T090456Z
LAST-MODIFIED:20240222T090456Z
UID:10000938-1708588800-1708621200@demercadosmedievales.info
SUMMARY:Del 29 de Marzo al 01 de Abril Mercado Renacentista de Bocairent 2024
DESCRIPTION:Las calles del centro de Bocairent acogerán el Mercado Renacentista y diversas actividades de animación\, organizado por Eventos Bayarri. \n \n+ Detalles del Mercado Renacentista\nCuando se celebra ?\nLos días 29 de Marzo al 01 de Abril del 2024 \nEn que localidad y provincia ?\nBocairent\, VALENCIA \nCual será la ubicación dentro de la localidad ?\nen calles del centro de la localidad \nQuién lo organiza ?\nEventos Bayarri \nComo participo en el MERCADO ?\nLlamando por Teléfono: 665356940 \, Enviando un mensaje por WhatsApp 695.69.00.70 \nó enviando un email : gerencia.eventosbayarri@gmail.com\ninfo.eventosbayarri@gmail.com \n \nAcerca de Bocairent\nBocairente es un municipio de la Comunidad Valenciana\, España. Se sitúa en el extremo sur de la provincia de Valencia\, en la comarca del Valle de Albaida. \nUn poco de historia sobre Bocairent\nEs al filo de la era Cristiana cuando la leyenda situa la destrucción por los romanos del poblado íberico del Cabezo de Mariola\, siendo estos íberos de la Contestanía los fundadores de la mayor parte de pueblos que circundan la Sierra Mariola. De ellos nos ha quedado el famoso León Ibérico de Bocairent \, obra al parecer del siglo IV a.C.\, hoy en el Museo de San Pío V de Valencia. Como los filólogos hacen derivar la palabra Bocairent de Bocarius\, leyenda y filología coinciden en asignar el origen de Bocairent a la época romana. \nDurante la época musulmana\, Bocairent fue pueblo de cierta excelencia ya que era un de los pocos donde se celebraban mercados y estaba altamente especializado en el tejido de linos y en la fabricación de paños blancos que lograron gran renombre. \n Al llegar el siglo XI\, entró a formar parte del Reino de Taifa de Dénia siendo el castillo Bukaïran uno de los más importantes de este Reino. En esta época nació el poeta bocairentino Abu Marq Muhamar lbm Ruhaim autor de «mozarkas o jarchas» escritas en mozárabe y que en 1121 formó parte del corte de Almojarife ostentando los cargos de Almojarife y Dulwizaratán. \nA pesar de la desaparición del castillo de Bukaïran y del paso de los años\, las calzadas de esta época árabe no han sufrido prácticamente alteración manteniendo el modelo urbanístico islámico. Esto dota al Barrio Medieval de Bocairent de una belleza y atracción singular que sin duda apreciaremos durante los recorridos que les proponemos por el mismo. \nMercado renacentista\nUn mercado renacentista es un evento temático que recrea la atmósfera y la cultura del Renacimiento en Europa. Estos mercados suelen ser celebraciones de varios días de duración que incluyen actividades y espectáculos en vivo\, demostraciones artesanales\, puestos de comida y bebida\, y vendedores que ofrecen productos y artesanías que recuerdan a la época. \nA diferencia de los mercados medievales\, los mercados renacentistas se centran en la cultura\, el arte y la ciencia de la época del Renacimiento\, que tuvo lugar en Europa desde el siglo XIV hasta el siglo XVII. Durante este período\, hubo un gran renacimiento en el arte\, la literatura\, la música\, la arquitectura y las ciencias\, y los mercados renacentistas intentan recrear esa atmósfera de innovación y creatividad. \nLos mercados renacentistas pueden ser educativos y divertidos para toda la familia\, ya que ofrecen una experiencia única que permite aprender sobre la historia y la cultura del Renacimiento. Además\, pueden ser una oportunidad para apoyar a los artesanos  y probar comidas y bebidas tradicionales de la época\, así como disfrutar de música\, teatro y otras actividades en vivo. \nVestuario para un mercado renacentista\nEl vestuario para un mercado renacentista varía dependiendo del papel que se desempeñe en el evento y del lugar y época específicos del Renacimiento que se esté representando. Sin embargo\, en general\, el vestuario suele estar inspirado en la moda de la época renacentista europea\, que se caracterizaba por telas y diseños lujosos y elaborados. \nPara los hombres\, el vestuario puede incluir pantalones y camisas largas\, chaquetas y capas\, así como sombreros de ala ancha y zapatos de cuero. Para las mujeres\, los vestidos largos con mangas acampanadas y cinturas ajustadas son comunes\, y se pueden agregar accesorios como sombreros\, capas y joyas. \nLos colores suelen ser oscuros y ricos\, como el rojo\, el morado y el dorado\, y los tejidos pueden incluir sedas\, terciopelos y brocados. También es común el uso de elementos decorativos como bordados\, encajes y detalles en oro o plata. \nEs importante tener en cuenta que el vestuario para un mercado renacentista no tiene que ser auténtico históricamente\, sino que puede ser una interpretación moderna de la moda de la época. Lo más importante es que el vestuario se ajuste al ambiente del evento y contribuya a la atmósfera renacentista. \n 
URL:https://demercadosmedievales.info/mercadomedieval/del-29-de-marzo-al-01-de-abril-mercado-renacentista-de-bocairent-2024/
CATEGORIES:Eventos Bayarri,Mercado Medieval,Valencia
ATTACH;FMTTYPE=image/jpeg:https://demercadosmedievales.info/wp-content/uploads/2024/01/mercado_renacentista_bocairent_2024-f.jpg
END:VEVENT
END:VCALENDAR