BEGIN:VCALENDAR
VERSION:2.0
PRODID:-//Mercados Medievales - ECPv6.15.20//NONSGML v1.0//EN
CALSCALE:GREGORIAN
METHOD:PUBLISH
X-ORIGINAL-URL:https://demercadosmedievales.info
X-WR-CALDESC:Eventos para Mercados Medievales
REFRESH-INTERVAL;VALUE=DURATION:PT1H
X-Robots-Tag:noindex
X-PUBLISHED-TTL:PT1H
BEGIN:VTIMEZONE
TZID:Europe/Madrid
BEGIN:DAYLIGHT
TZOFFSETFROM:+0100
TZOFFSETTO:+0200
TZNAME:CEST
DTSTART:20230326T010000
END:DAYLIGHT
BEGIN:STANDARD
TZOFFSETFROM:+0200
TZOFFSETTO:+0100
TZNAME:CET
DTSTART:20231029T010000
END:STANDARD
BEGIN:DAYLIGHT
TZOFFSETFROM:+0100
TZOFFSETTO:+0200
TZNAME:CEST
DTSTART:20240331T010000
END:DAYLIGHT
BEGIN:STANDARD
TZOFFSETFROM:+0200
TZOFFSETTO:+0100
TZNAME:CET
DTSTART:20241027T010000
END:STANDARD
BEGIN:DAYLIGHT
TZOFFSETFROM:+0100
TZOFFSETTO:+0200
TZNAME:CEST
DTSTART:20250330T010000
END:DAYLIGHT
BEGIN:STANDARD
TZOFFSETFROM:+0200
TZOFFSETTO:+0100
TZNAME:CET
DTSTART:20251026T010000
END:STANDARD
END:VTIMEZONE
BEGIN:VEVENT
DTSTART;TZID=Europe/Madrid:20241226T000000
DTEND;TZID=Europe/Madrid:20241231T235959
DTSTAMP:20260420T112350
CREATED:20241124T130544Z
LAST-MODIFIED:20241223T061802Z
UID:10001975-1735171200-1735689599@demercadosmedievales.info
SUMMARY:2 Mercado de Navidad de Parla 2024 (Madrid)
DESCRIPTION:El 2do Mercado Navideño de Parla te espera! Del 26 al 31 de Diciembre en la plaza de La Guardia Civil\, podrás dar a conocer tus creaciones al publico visitante.  \n\n\n\n\n\n\n \n\n\n\n\nFerias de NavidadLlegan las fechas de los mercados navideños\,  consulta el calendario de Ferias Y Mercados de navidad . \n\n\n\n\n \n\n\n\nMercado de Navidad de Parla\n\n\n\nCartel  \n\n\n\n\n\n\n\nProgramación – Próximamente\n\n\n\n** Próximamente dispondremos del cartel y del programa con las actividades previstas. \n\n\n\nInformación básica del Mercado\n\n\n\n📅 Fechas del mercado:Del 26 al 31 de diciembre 2024 \n\n\n\n📍 Ubicación:Plaza de La Guardia Civil\, Parla\, MADRID \n\n\n\n¿Qué se ofrece?Una oportunidad de exponer y vender tus productos a un público amplio durante una de las épocas más mágicas del año. Este mercado es conocido por su enfoque en: \n\n\n\n\nArtesanía única y de calidad.\n\n\n\nRegalos originales.\n\n\n\nDulces y productos gastronómicos típicos de la Navidad.\n\n\n\n\nPasos para participar como expositor\n\n\n\nLa empresa DEGLADIS EVENTOS TEMATICOS es la encargado de organizar y coordinar este evento. \n\n\n\nContactar por teléfono o correo electrónico  :  EMAIL : Degladis.serviciostematicos@gmail.comTELEFONO : 674687996 \n\n\n\n\nMercado Navideño de Parla 2024 (Madrid) 1ro.\n\n\n\n\nMás fechas  Puedes conocer mas ferias y mercados en está provincia\, consultando nuestra sección de Eventos de la provincia de Madrid \n\n\n\n\n\n\n\n \n\n\n\nOtros eventos del organizadorConsulta Aquí otras ferias y mercados que organizará la empresa Degladis servicios temáticos \n\n\n\notros mercados temáticos y FeriasSi quieres conocer cuando se realizan más ferias y mercados\, puedes consultarlos visitando nuestro   Calendario de Eventos \n\n\n\nCalendario 2024\n\n\n\nCalendario 2025\n\n\n\nSobre los Mercados Medievales\n\n\n\nLas ferias medievales son eventos que recrean la atmósfera de la Edad Media. Por lo general\, se llevan a cabo en pueblos o ciudades\, y presentan puestos de vendedores que venden artesanías\, alimentos y bebidas. También puede haber entretenimiento\, como justas\, música y baile. \n\n\n\nTags:  Mercado Navideño de Parla\, Parla\,Navidad\,Mercado de Navidad de Parla\,2024\,España\,Madrid\, \n\n\n\n\n\n\n\nOrganiza :\n\n\n\n\n\nLugar : \n\n\n\nParla es un municipio y localidad española de la Comunidad de Madrid\, situada 20 km al sur de la capital del país. La superficie del término municipal es de 24\,43 km² y su población de 133 004 habitantes.
URL:https://demercadosmedievales.info/mercadomedieval/2-mercado-de-navidad-de-parla-2024-madrid/
LOCATION:Parla (Madrid) (***)\, en el centro\, Parla\, Comunidad de Madrid\, España
CATEGORIES:Cartel,Comunidad de Madrid,Mercados de navidad
ATTACH;FMTTYPE=image/jpeg:https://demercadosmedievales.info/wp-content/uploads/2024/11/mercado_navidad_parla_cartel.jpg
ORGANIZER;CN="Degladis servicios tem%C3%A1ticos":MAILTO:Degladis.serviciostematicos@gmail.com
GEO:40.232367;-3.768906
X-APPLE-STRUCTURED-LOCATION;VALUE=URI;X-ADDRESS=Parla (Madrid) (***) en el centro Parla Comunidad de Madrid España;X-APPLE-RADIUS=500;X-TITLE=en el centro:geo:-3.768906,40.232367
END:VEVENT
BEGIN:VEVENT
DTSTART;TZID=Europe/Madrid:20241220T000000
DTEND;TZID=Europe/Madrid:20241224T235959
DTSTAMP:20260420T112350
CREATED:20241124T123312Z
LAST-MODIFIED:20241217T110841Z
UID:10001974-1734652800-1735084799@demercadosmedievales.info
SUMMARY:Mercado Navideño de Parla 2024 (Madrid) 1ro.
DESCRIPTION:El 2do Mercado Navideño de Parla te espera! Del 26 al 31 de Diciembre en la plaza de La Guardia Civil\, podrás dar a conocer tus creaciones al publico visitante.  \n\n\n \n\n\n\n\n\n\n\n \n\n\n\n\nFerias de NavidadLlegan las fechas de los mercados navideños\,  consulta el calendario de Ferias Y Mercados de navidad . \n\n\n\n\n \n\n\n\nMercado de Navidad de Parla\n\n\n\nApertura del Mercado Navideño el viernes 20 a las 17:00 horas.Plaza de la Guardia Civil.El horario será de 11:00 a 14:00 y de 17:00 a 22:00 horas el resto de días.   \n\n\n\nCartel  \n\n\n\n\n\n\n\nProgramación – Próximamente\n\n\n\n** Próximamente dispondremos del cartel y del programa con las actividades previstas. \n\n\n\nInformación básica del Mercado\n\n\n\n📅 Fechas del mercado:Del 20 al 24 de diciembre 2024 \n\n\n\n📍 Ubicación:Plaza de La Guardia Civil\, Parla\, MADRID \n\n\n\n¿Qué se ofrece?Una oportunidad de exponer y vender tus productos a un público amplio durante una de las épocas más mágicas del año. Este mercado es conocido por su enfoque en: \n\n\n\n\nArtesanía única y de calidad.\n\n\n\nRegalos originales.\n\n\n\nDulces y productos gastronómicos típicos de la Navidad.\n\n\n\n\nPasos para participar como expositor\n\n\n\nLa empresa DEGLADIS EVENTOS TEMATICOS es la encargado de organizar y coordinar este evento. \n\n\n\nContactar por teléfono o correo electrónico  :  EMAIL : Degladis.serviciostematicos@gmail.comTELEFONO : 674687996 \n\n\n\n\n2 Mercado de Navidad de Parla 2024 (Madrid)\n\n\n\n\nMás fechas  Puedes conocer mas ferias y mercados en está provincia\, consultando nuestra sección de Eventos de la provincia de Madrid \n\n\n\nOtros eventos del organizadorConsulta Aquí otras ferias y mercados que organizará la empresa Degladis servicios temáticos \n\n\n\notros mercados temáticos y FeriasSi quieres conocer cuando se realizan más ferias y mercados\, puedes consultarlos visitando nuestro   Calendario de Eventos \n\n\n\nCalendario 2024\n\n\n\nCalendario 2025\n\n\n\nSobre los Mercados Medievales\n\n\n\nLas ferias medievales son eventos que recrean la atmósfera de la Edad Media. Por lo general\, se llevan a cabo en pueblos o ciudades\, y presentan puestos de vendedores que venden artesanías\, alimentos y bebidas. También puede haber entretenimiento\, como justas\, música y baile. \n\n\n\nTags:  Mercado Navideño de Parla\, Parla\,Navidad\,Mercado de Navidad de Parla\,2024\,España\,Madrid\, \n\n\n\n\n\n\n\nOrganiza :\n\n\n\n\n\nLugar : \n\n\n\nParla es un municipio y localidad española de la Comunidad de Madrid\, situada 20 km al sur de la capital del país. La superficie del término municipal es de 24\,43 km² y su población de 133 004 habitantes.
URL:https://demercadosmedievales.info/mercadomedieval/mercado-navideno-de-parla-2024-madrid-1ro/
LOCATION:Parla (Madrid) (***)\, en el centro\, Parla\, Comunidad de Madrid\, España
CATEGORIES:Cartel,Comunidad de Madrid,Mercados de navidad
ATTACH;FMTTYPE=image/jpeg:https://demercadosmedievales.info/wp-content/uploads/2024/11/navidad_parla_2024_F.jpg
ORGANIZER;CN="Degladis servicios tem%C3%A1ticos":MAILTO:Degladis.serviciostematicos@gmail.com
GEO:40.232367;-3.768906
X-APPLE-STRUCTURED-LOCATION;VALUE=URI;X-ADDRESS=Parla (Madrid) (***) en el centro Parla Comunidad de Madrid España;X-APPLE-RADIUS=500;X-TITLE=en el centro:geo:-3.768906,40.232367
END:VEVENT
END:VCALENDAR