BEGIN:VCALENDAR
VERSION:2.0
PRODID:-//Mercados Medievales - ECPv6.15.20//NONSGML v1.0//EN
CALSCALE:GREGORIAN
METHOD:PUBLISH
X-WR-CALNAME:Mercados Medievales
X-ORIGINAL-URL:https://demercadosmedievales.info
X-WR-CALDESC:Eventos para Mercados Medievales
REFRESH-INTERVAL;VALUE=DURATION:PT1H
X-Robots-Tag:noindex
X-PUBLISHED-TTL:PT1H
BEGIN:VTIMEZONE
TZID:Europe/Madrid
BEGIN:DAYLIGHT
TZOFFSETFROM:+0100
TZOFFSETTO:+0200
TZNAME:CEST
DTSTART:20230326T010000
END:DAYLIGHT
BEGIN:STANDARD
TZOFFSETFROM:+0200
TZOFFSETTO:+0100
TZNAME:CET
DTSTART:20231029T010000
END:STANDARD
BEGIN:DAYLIGHT
TZOFFSETFROM:+0100
TZOFFSETTO:+0200
TZNAME:CEST
DTSTART:20240331T010000
END:DAYLIGHT
BEGIN:STANDARD
TZOFFSETFROM:+0200
TZOFFSETTO:+0100
TZNAME:CET
DTSTART:20241027T010000
END:STANDARD
BEGIN:DAYLIGHT
TZOFFSETFROM:+0100
TZOFFSETTO:+0200
TZNAME:CEST
DTSTART:20250330T010000
END:DAYLIGHT
BEGIN:STANDARD
TZOFFSETFROM:+0200
TZOFFSETTO:+0100
TZNAME:CET
DTSTART:20251026T010000
END:STANDARD
END:VTIMEZONE
BEGIN:VEVENT
DTSTART;TZID=Europe/Madrid:20241213T000000
DTEND;TZID=Europe/Madrid:20241222T235959
DTSTAMP:20260420T171236
CREATED:20241206T183330Z
LAST-MODIFIED:20241207T153607Z
UID:10002003-1734048000-1734911999@demercadosmedievales.info
SUMMARY:Fira de Nadal del Distrito de Gracia en Barcelona 2024
DESCRIPTION:La magia de la Navidad llega a Barcelona\, y este año\, la Fira de Nadal busca expositores y artistas para formar parte de su encantador mercado.  \n\n\n \n\n\n\n\n\n\n\nConvocatoria Abierta para la Fira de Nadal 2024\n\n\n\n Si eres artesano\, comerciante o especialista en actividades lúdicas\, ¡esta es tu oportunidad para unirte a uno de los eventos más destacados de la temporada navideña en la ciudad! \n\n\n\n \n\n\n\n\n\n\n\n \n\n\n\nDetalles del Evento\n\n\n\n📅 Fechas: Del 13 al 22 de diciembre de 2024📍 Ubicación: Paseo de Sant Joan\, distrito de Gràcia\, Barcelona.🔸 Extensión: Entre las calles Industria y Rosselló. \n\n\n\nLa Fira de Nadal transforma este icónico paseo en un espacio lleno de luces\, aromas y experiencias navideñas\, perfecto para toda la familia. \n\n\n\n\n\n\n\n¿Qué Ofrece la Fira de Nadal?\n\n\n\nLa feria es mucho más que un mercado. Combina: \n\n\n\n\nPuestos de productos artesanales: Desde regalos únicos hasta decoraciones hechas a mano.\n\n\n\nGastronomía típica navideña: Dulces\, castañas asadas y bebidas tradicionales.\n\n\n\nTalleres participativos: Espacios interactivos para que los visitantes puedan crear sus propios recuerdos navideños.\n\n\n\nActividades para niños: Pintacaras\, globoflexia y animaciones diseñadas para los más pequeños.\n\n\n\n\n\n\n\n\n¿Por Qué Participar?\n\n\n\n\nExposición única: Ubicado en el corazón de Barcelona\, el evento atrae a miles de visitantes locales y turistas.\n\n\n\nAmbiente festivo: La decoración y programación crean el escenario perfecto para promocionar productos o servicios.\n\n\n\nInteracción directa: Participar te permitirá conectar con una amplia variedad de clientes en un ambiente acogedor y familiar.\n\n\n\n\n\n\n\n\n¿Cómo Participar?\n\n\n\nLa convocatoria está abierta para: \n\n\n\n\nArtesanos y creadores de productos exclusivos.\n\n\n\nComerciantes de alimentos y bebidas con temática navideña.\n\n\n\nAnimadores y especialistas en actividades lúdicas y talleres.\n\n\n\n\n \n\n\n\nEmpresa organizadora :\n\n\n\nLa organización y decoración de este evento están a cargo de Galaico Edicions . Para más detalles sobre el proceso de inscripción\, tarifas y requisitos específicos\, contacta a través de: \n\n\n\n\nTeléfono de CONTACTO:  661572101\n\n\n\nCorreo electrónico : galaikocat@gmail.com\n\n\n\n\n\n\n\n\nÚnete a la Magia Navideña\n\n\n\nLa Fira de Nadal es una celebración que combina tradición\, creatividad y alegría navideña. Ya seas un profesional del sector o un artista independiente\, este es el lugar ideal para compartir tu talento con el público de Barcelona. \n\n\n\n¡Haz que estas fiestas sean inolvidables para todos y forma parte de la Fira de Nadal 2024! \n\n\n\nMás Ferias y Mercados en la Provincia\n\n\n\nExplora otros eventos en tu zona visitando nuestra sección de  Eventos de LA PROVINCIA DE BARCELONA \, donde encontrarás información actualizada sobre ferias\, mercados y actividades para todas las edades. \n\n\n\n\n\n\n\nOtros Eventos del Organizador\n\n\n\nLa empresa \, experta en gestión y ambientación de mercados\, organiza muchos más eventos como este a lo largo del año. Descubre las próximas ferias y mercados en su agenda:👉 Consulta Aquí para acceder al calendario de eventos temáticos. \n\n\n\n\n\n\n\nMás Mercados Temáticos y Ferias\n\n\n\n¿Quieres saber cuándo y dónde se realizarán más ferias y mercados?Visita nuestro Calendario de Eventos para obtener detalles de: \n\n\n\nCalendario 2025: Planifica con anticipación y no te pierdas ninguna cita. \n\n\n\n\n\n\n\nSobre los Mercados Medievales\n\n\n\nLas ferias medievales son auténticos viajes en el tiempo. Estos eventos recrean la atmósfera de la Edad Media \n\n\n\nFira de Nadal 2024\,Feria de Navidad Barcelona\,Mercado navideño Barcelona\,Paseo Sant Joan Navidad\,Actividades navideñas \,Barcelona\,Artesanos Barcelona\, Navidad\,Expositores\, feria navideña\,Talleres navideños para niños\, \n\n\n\n\n\nOrganiza :\n\n\n\n\n\nLugar: \n\n\n\nEl paseo de San Juan​ es una calle de Barcelona situada en los distritos del Ensanche y Gracia. Se dio este nombre al paseo en recuerdo del antiguo paseo de Sant Joan o paseo Nuevo\, empezado en el año 1795 y acabado en 1802\, que bordeaba la explanada de la Ciudadela\, y que desapareció al ser derribada la fortaleza.
URL:https://demercadosmedievales.info/mercadomedieval/fira-de-nadal-del-distrito-de-gracia-en-barcelona-2024/
LOCATION:Barcelona (Paseo de Sant Joan\, distrito de Gràcia)\, Paseo de Sant Joan\, distrito de Gràcia\, Barcelona\, Barcelona\, España
CATEGORIES:Barcelona,Mercados de navidad
ATTACH;FMTTYPE=image/jpeg:https://demercadosmedievales.info/wp-content/uploads/2024/12/fira_nadal_barcelona_2024_F-1.jpg
ORGANIZER;CN="Galaico edicions":MAILTO:galaikocat@gmail.com
END:VEVENT
END:VCALENDAR