BEGIN:VCALENDAR
VERSION:2.0
PRODID:-//Mercados Medievales - ECPv6.15.20//NONSGML v1.0//EN
CALSCALE:GREGORIAN
METHOD:PUBLISH
X-WR-CALNAME:Mercados Medievales
X-ORIGINAL-URL:https://demercadosmedievales.info
X-WR-CALDESC:Eventos para Mercados Medievales
REFRESH-INTERVAL;VALUE=DURATION:PT1H
X-Robots-Tag:noindex
X-PUBLISHED-TTL:PT1H
BEGIN:VTIMEZONE
TZID:Europe/Madrid
BEGIN:DAYLIGHT
TZOFFSETFROM:+0100
TZOFFSETTO:+0200
TZNAME:CEST
DTSTART:20250330T010000
END:DAYLIGHT
BEGIN:STANDARD
TZOFFSETFROM:+0200
TZOFFSETTO:+0100
TZNAME:CET
DTSTART:20251026T010000
END:STANDARD
BEGIN:DAYLIGHT
TZOFFSETFROM:+0100
TZOFFSETTO:+0200
TZNAME:CEST
DTSTART:20260329T010000
END:DAYLIGHT
BEGIN:STANDARD
TZOFFSETFROM:+0200
TZOFFSETTO:+0100
TZNAME:CET
DTSTART:20261025T010000
END:STANDARD
BEGIN:DAYLIGHT
TZOFFSETFROM:+0100
TZOFFSETTO:+0200
TZNAME:CEST
DTSTART:20270328T010000
END:DAYLIGHT
BEGIN:STANDARD
TZOFFSETFROM:+0200
TZOFFSETTO:+0100
TZNAME:CET
DTSTART:20271031T010000
END:STANDARD
END:VTIMEZONE
BEGIN:VEVENT
DTSTART;TZID=Europe/Madrid:20260109T000000
DTEND;TZID=Europe/Madrid:20260111T235959
DTSTAMP:20260423T004823
CREATED:20260104T192056Z
LAST-MODIFIED:20260104T193038Z
UID:10003082-1767916800-1768175999@demercadosmedievales.info
SUMMARY:Mercado Modernista de Oliva\, Valencia 2026
DESCRIPTION:Mercado Modernista de Oliva del 9 al 11 de enero de 2026. Talleres\, calderos\, ambientación histórica y premios al mejor puesto. \n\n\n\n\n\n\n\n \n\n\n\n \n\n\n\nOliva\, donde la historia cobra vida en clave modernista\n\n\n\nOliva acoge del 9 al 11 de enero de 2026 su Mercado Modernista de Oliva\, una cita cultural y comercial que transforma el centro del municipio en un auténtico viaje a finales del siglo XIX y principios del XX. \n\n\n\nDurante todo el fin de semana\, el mercado contará con una cuidada ambientación modernista\, puestos decorados con estética de época y participantes vestidos acorde a la temática. El público podrá disfrutar de calderos tradicionales\, talleres para todos los públicos\, una exposición de bicicletas antiguas y la presencia de grupos modernistas con vestimenta histórica. \n\n\n\nAdemás\, se premiará la implicación y el esfuerzo de los participantes con el premio al mejor puesto y el premio a la mejor vestimenta\, fomentando así la recreación histórica y la calidad estética del evento. \n\n\n\nUn mercado pensado para disfrutar en familia\, atraer visitantes y poner en valor el patrimonio cultural y festivo de Oliva. \n\n\n\n \n\n\n\nProgramación de actividades del Mercado Modernista de Oliva\n\n\n\n\n\n\n\nViernes 9 de enero\n\n\n\n\n17.00 h: inauguración\, talleres y atracciones.\n\n\n\n19.00 h: inauguración oficial de la Fira Modernista; taller de pinta máscaras y atracciones.\n\n\n\n19.00 h: inauguración de la Fira Gastronòmica de les Associacions (plaza de Ganguis).\n\n\n\n\nSábado 10 de enero\n\n\n\n\n08.00 h: inicio de la elaboración de las Calderes de Sant Antoni (c/ Sant Vicent) con la colaboración de los Festers del carrer de Sant Vicent.\n\n\n\n12.00 h: visitas guiadas por lugares emblemáticos de la ciudad.\n\n\n\n12.30 h a 14.30 h: actuación del grupo “Simply” (plaza de Ganguis).\n\n\n\n13.00 h: sesión vermut (Mercado Municipal).\n\n\n\n13.15 h: reparto del almuerzo popular de las Calderes de Sant Antoni.\n\n\n\n14.30 h: comida teatralizada (carpa del mercado).\n\n\n\n16.00 h: exhibición de croquet.\n\n\n\n21.00 h a 00.30 h: actuación del grupo “Sonados Band” (plaza de Ganguis).\n\n\n\n\nDomingo 11 de enero\n\n\n\n\nDurante toda la mañana: juegos de madera populares y gigantes (c/ Sant Vicent)\, a cargo de la Concejalía de Juventud.\n\n\n\n10.00 h: recepción y almuerzo de los grupos modernistas de bicis clásicas Las Galgas y AC Modernista de Novelda (carpa del mercado).\n\n\n\n11.00 h: visitas guiadas por lugares emblemáticos de la ciudad.\n\n\n\n12.30 h: desfilada de bicicletas antiguas (AC Las Galgas de Yecla y Santomera).\n\n\n\n13.00 h: recorrido por el mercado del grupo AC Modernista de Novelda con indumentaria de gala.\n\n\n\n16.00 h: vals “El Danubi Blau” (carpa del mercado) a cargo de AC Modernista de Novelda.\n\n\n\n17.00 h: nuevo recorrido por el mercado con indumentaria de gala (AC Modernista de Novelda).\n\n\n\n21.00 h: clausura de la Fira Modernista.\n\n\n\n\nDomingo 18 de enero\n\n\n\n\n10.00 h: reparto de chocolate (plaza de Ganguis).\n\n\n\n10.00 h: almuerzo popular para carreteros y caballistas (c/ Sant Vicent) a cargo de los Festers del carrer.\n\n\n\n11.00 h: misa solemne en la ermita del santo; al finalizar\, reparto de pan bendito.\n\n\n\n12.00 h: recorrido de los Festers con el santo desde la ermita por varias calles\, con acompañamiento de tabal y dolçaina y animales pequeños.\n\n\n\n12.15 h: inicio de la bendición de animales (c/ Sant Vicent)\, según indicaciones de la organización.\n\n\n\n\n \n\n\n\nInformación del Mercado Modernista de Oliva\n\n\n\n\nLocalización: Oliva (VALENCIA)\n\n\n\nFechas: Del 9 al 11 de enero de 2026\n\n\n\nApertura: Viernes 9 de enero: apertura al público a las 17:00 h\n\n\n\nMontaje: viernes 9 a partir de las 10:00 h\n\n\n\nVestimenta y decoración modernista obligatoria\n\n\n\nEstética recomendada: colores de época (especialmente tonos rojos y vestimenta tradicional)\n\n\n\nOrganiza: ArcomeTeléfono: 685 589 326Emails: ad.arcome@gmail.com\, ferias.arcome@gmail.com\n\n\n\n\n\n\n\n\n\n\n\n \n\n\n\nOliva\, historia viva entre el mar y la tradición\n\n\n\nOliva es una localidad valenciana con una fuerte identidad histórica y cultural\, situada entre el mar Mediterráneo y el Parque Natural de la Marjal Pego-Oliva. Con un rico pasado agrícola\, comercial y modernista\, su casco urbano conserva calles con encanto\, edificios históricos y una intensa vida social. Además\, su cercanía a la costa y su tradición festiva la convierten en un punto de encuentro habitual para eventos culturales\, ferias y mercados temáticos que atraen tanto a vecinos como a visitantes de toda la comarca. \n\n\n\n\n\n\n\n\n\n\n\n\n \n\n\n\n \n\n\n\nPara más información puedes consultar :\n\n\n\n\nPuedes Consultar en esté enlace las Ferias y Mercados en España\n\n\n\nHaz clic en ESTE enlace :  Conoce los Organizadores de Mercados y Ferias\n\n\n\n\nSi quieres seguirnos en las Redes Sociales\, aquí te dejamos los enlaces :\n\n\n\n\nTelegram\n\n\n\nNewsletter\n\n\n\nWhatsApp\n\n\n\nInstagram\n\n\n\nPor supuesto en Facebook
URL:https://demercadosmedievales.info/mercadomedieval/mercado-modernista-de-oliva-valencia-2026/
LOCATION:Oliva ( Valencia ) (***)\, en el centro historico\, Oliva\, Valencia\, España
CATEGORIES:Comunidad valenciana,Mercado modernista,Valencia
ATTACH;FMTTYPE=image/jpeg:https://demercadosmedievales.info/wp-content/uploads/2026/01/MODERNISTA_OLIVA_2026_programa.jpg
ORGANIZER;CN="Arcome":MAILTO:ferias.arcome@gmail.com // ad.arcome@gmail.com
GEO:39.4782333;-0.380187
X-APPLE-STRUCTURED-LOCATION;VALUE=URI;X-ADDRESS=Oliva ( Valencia ) (***) en el centro historico Oliva Valencia España;X-APPLE-RADIUS=500;X-TITLE=en el centro historico:geo:-0.380187,39.4782333
END:VEVENT
END:VCALENDAR