BEGIN:VCALENDAR
VERSION:2.0
PRODID:-//Mercados Medievales - ECPv6.15.20//NONSGML v1.0//EN
CALSCALE:GREGORIAN
METHOD:PUBLISH
X-ORIGINAL-URL:https://demercadosmedievales.info
X-WR-CALDESC:Eventos para Mercados Medievales
REFRESH-INTERVAL;VALUE=DURATION:PT1H
X-Robots-Tag:noindex
X-PUBLISHED-TTL:PT1H
BEGIN:VTIMEZONE
TZID:Europe/Madrid
BEGIN:DAYLIGHT
TZOFFSETFROM:+0100
TZOFFSETTO:+0200
TZNAME:CEST
DTSTART:20230326T010000
END:DAYLIGHT
BEGIN:STANDARD
TZOFFSETFROM:+0200
TZOFFSETTO:+0100
TZNAME:CET
DTSTART:20231029T010000
END:STANDARD
BEGIN:DAYLIGHT
TZOFFSETFROM:+0100
TZOFFSETTO:+0200
TZNAME:CEST
DTSTART:20240331T010000
END:DAYLIGHT
BEGIN:STANDARD
TZOFFSETFROM:+0200
TZOFFSETTO:+0100
TZNAME:CET
DTSTART:20241027T010000
END:STANDARD
BEGIN:DAYLIGHT
TZOFFSETFROM:+0100
TZOFFSETTO:+0200
TZNAME:CEST
DTSTART:20250330T010000
END:DAYLIGHT
BEGIN:STANDARD
TZOFFSETFROM:+0200
TZOFFSETTO:+0100
TZNAME:CET
DTSTART:20251026T010000
END:STANDARD
END:VTIMEZONE
BEGIN:VEVENT
DTSTART;TZID=Europe/Madrid:20241109T000000
DTEND;TZID=Europe/Madrid:20241110T235959
DTSTAMP:20260424T152621
CREATED:20240827T082941Z
LAST-MODIFIED:20240827T092448Z
UID:10001653-1731110400-1731283199@demercadosmedievales.info
SUMMARY:Mercado Modernista Els Pallaresos (Tarragona) 2024
DESCRIPTION:Mercado Modernista en Oliva del 9 al 11 de enero de 2026 con talleres\, calderos\, ambientación de época y premios a los mejores puestos.  \n\n\n \n \nMercado Modernista\n \nEste mercado lleva 4 años realizándose\, servicios que ofrece. vigilancia nocturna\, puntos de luz\, actividades diversas y publicidad. \nCartel\nProximamente \nProgramación \nProximamente \n** Próximamente dispondremos del cartel y del programa con las actividades previstas. \nInformación básica del Mercado\nFecha de celebración Los dias 9 y 10 de Noviembre del  2024 \nDonde se realizaEn la localidad de Els Pallaresos que pertenece a la provincia de  TARRAGONA \nInformación del Organizador\nAssociació medieval de TarragonaJosep Maria Valderrama MajoralComo participarInformación e Inscripciones:valde027@gmail.comteléfono 695.191.607 \nMás fechas  Puedes conocer mas ferias y mercados en está provincia\, consultando nuestra sección de Eventos de Tarragona \nOtros eventosConsulta Aquí otras ferias y mercados que organizará la  Associació medieval de Tarragona \notros mercados temáticos y FeriasSi quieres conocer cuando se realizan más ferias y mercados\, puedes consultarlos visitando nuestro  👀 Calendario de Eventos \nCalendario 2024\nSobre los Mercados Medievales \n\n\n\n\n\n   \n\n\n\n\n\n\n\nDetalles del organizador\n\n\n\n\n\nLocalización\n\n\n\nEls Pallaresos​ es un municipio y localidad española de la provincia de Tarragona\, en la comunidad autónoma de Cataluña. El término municipal\, ubicado en la comarca del Tarragonés\, en la orilla izquierda del río Francolí\, tiene una población de 4963 habitantes (INE 2023).
URL:https://demercadosmedievales.info/mercadomedieval/mercado-modernista-els-pallaresos-tarragona-2024/
LOCATION:Els Pallaresos (Tarragona) (***)\, Els Pallaresos\, Tarragona\, 43151
CATEGORIES:Mercado modernista,Tarragona
ATTACH;FMTTYPE=image/jpeg:https://demercadosmedievales.info/wp-content/uploads/2024/08/modernista_els_pallaresos_f.jpg
ORGANIZER;CN="Associaci%C3%B3 medieval de Tarragona":MAILTO:valde027@gmail.com
GEO:41.1752824;1.2704491
END:VEVENT
END:VCALENDAR