BEGIN:VCALENDAR
VERSION:2.0
PRODID:-//Mercados Medievales - ECPv6.15.20//NONSGML v1.0//EN
CALSCALE:GREGORIAN
METHOD:PUBLISH
X-ORIGINAL-URL:https://demercadosmedievales.info
X-WR-CALDESC:Eventos para Mercados Medievales
REFRESH-INTERVAL;VALUE=DURATION:PT1H
X-Robots-Tag:noindex
X-PUBLISHED-TTL:PT1H
BEGIN:VTIMEZONE
TZID:Europe/Madrid
BEGIN:DAYLIGHT
TZOFFSETFROM:+0100
TZOFFSETTO:+0200
TZNAME:CEST
DTSTART:20240331T010000
END:DAYLIGHT
BEGIN:STANDARD
TZOFFSETFROM:+0200
TZOFFSETTO:+0100
TZNAME:CET
DTSTART:20241027T010000
END:STANDARD
BEGIN:DAYLIGHT
TZOFFSETFROM:+0100
TZOFFSETTO:+0200
TZNAME:CEST
DTSTART:20250330T010000
END:DAYLIGHT
BEGIN:STANDARD
TZOFFSETFROM:+0200
TZOFFSETTO:+0100
TZNAME:CET
DTSTART:20251026T010000
END:STANDARD
BEGIN:DAYLIGHT
TZOFFSETFROM:+0100
TZOFFSETTO:+0200
TZNAME:CEST
DTSTART:20260329T010000
END:DAYLIGHT
BEGIN:STANDARD
TZOFFSETFROM:+0200
TZOFFSETTO:+0100
TZNAME:CET
DTSTART:20261025T010000
END:STANDARD
END:VTIMEZONE
BEGIN:VEVENT
DTSTART;TZID=Europe/Madrid:20250509T000000
DTEND;TZID=Europe/Madrid:20250510T235959
DTSTAMP:20260423T043449
CREATED:20250306T180320Z
LAST-MODIFIED:20250508T072002Z
UID:10002288-1746748800-1746921599@demercadosmedievales.info
SUMMARY:Programación Mercado Medieval Fiesta «O Día De Colón» De Combarro – Poio (Pontevedra)
DESCRIPTION:Este viernes 9 y sábado 10 de mayo\, Combarro celebrará el “Día de Colón”\, una festividad única que transforma sus calles y plazas en un escenario medieval. \n\n\n\n\n\n\n\nMercado Medieval O Día de Colón \n\n\n\nDurante estas jornadas\, el municipio rinde homenaje a la figura de Cristóbal Colón\, defendiendo con orgullo la teoría de su origen gallego. Así\, entre historia y tradición\, Combarro viaja al pasado para revivir uno de los debates más fascinantes sobre el célebre navegante. \n\n\n\nCARTEL \n\n\n\n\n\n\n\n \n\n\n\nProgramación de actividades \n\n\n\n\n\n\n\n \n\n\n\nInformación del evento\n\n\n\n\nFecha: 09 AL 11 DE MAYO de  2025 \n\n\n\nLugar: PLAZA DA CHOUSA\, PLAZA DEL ALMIRANTE Y PLAYA DEL PUERTO SANTO\n\n\n\nPoblación: COMBARRO ( PONTEVEDRA ) Combarro es una parroquia del municipio de Poyo\, en la provincia gallega de Pontevedra\n\n\n\nEntidad organizadora:  Asociaciones Combrus\, VidesNovas y Asociación cultural e deportiva Leucoiña.\n\nEmail de contacto : asociacioncombrus@hotmail.com\n\n\n\n\n\n\n\nDOCUMENTACIÓN A PRESENTAR JUNTO CON LA SOLICITUD\n\n\n\nDeberán enviarse a la dirección de correo electrónicoasociacioncombrus@hotmail.com especificando los siguientes contenidos: \n\n\n\nLas medidas de la parada.La actividad que se va a ejercer.Fotos de los productos y de los puestos.Carta de artesano. (si la tienen)Documentación autónomo\,…. \n\n\n\n\n \n\n\n\nNORMAS DE ORGANIZACIÓN\n\n\n\nEl precio del metro lineal será de 15 euros por cada metro de artesanía.Una vez sea seleccionado para participar en nuestro evento el pago serealizará mediante transferencia bancaria a nombre de Asociación Cultural\,Xuvenil e Deportiva Combrus indicando en la siguiente cuenta con nº 2080-5419-92-3040110364 en la entidad ABANCA su nombre y apellidos.No se permitirá montar ningún puesto sin el correspondiente justificante depago.La organización será la encargada de ubicar puestos\, paradas\, barracas\, etc..\,que vayan a ser instalados en la parte del Mercado Medieval gestionadadirectamente por el.La ubicación no podrá ser modificada sin autorización expresa de laorganización. \n\n\n\nHORARIO \n\n\n\nLos horarios de apertura y cierre de los puestos\, paradas\, barracas\, etc..\, semarcará según la actividad a realizar\, siendo normalmente el horario delMercado Medieval de 17:00 a 22:00 viernes y de 10:00h a 22:00h. del Sábado. \n\n\n\nMONTAJE Y DESMONTAJE\n\n\n\nEl tema de montaje y desmontaje correrá a cargo de un regidor nombrado porlas asociaciones\, así que en su debido momento y una vez aceptada lasolicitud\, se les indicará la hora para montar y desmontar el puesto. \n\n\n\nNORMAS Y SERVICIOS\n\n\n\n\nLa organización pondrá a disposición de los usuarios un servicio de vigilanciade carácter disuasorio\, por tanto no será responsable de robos o destrozos quepudieran ocurrir.\n\n\n\nLos asistentes se hacen responsables de los productos que ponen a la venta\,eximiendo a la Asociación y al Ayuntamiento de cualquier responsabilidad enesta actividad.\n\n\n\nEl cambio de zona o área del puesto\, sin autorización\, implica la anulación delpermiso de instalación y supondrá el cierre del puesto que abandonará elmercado.\n\n\n\nLas labores de suministro o reposición de existencias en los puestos seefectuarán en todo momento según las normas de la Policía Local o lasinstrucciones del personal de protección Civil a este efecto. Así como habráque respetar las instrucciones de ambas instituciones en cuanto a la posiblecirculación o estacionamiento de vehículos y personas alrededor del puesto.\n\n\n\nLa instalación del puesto requerirá\, además\, del comprobante de pago yaenunciado\, la firma de una copia de estas normas en señal de su conocimientoy aceptación de las mismas\n\n\n\n\nSOLICITUDES DE PARTICIPACIÓN\n\n\n\n\nLas solicitudes de participación\, debidamente cumplimentadas y recibidasdentro de la fecha límite fijada\, se resolverán con carácter inapelable por laorganización\, quien aceptará o denegará la admisión sin tener que justificar elmotivo del fallo.\n\n\n\nLas admisiones quedarán limitadas al número de espacios libres disponibles\,según la configuración del evento. Si la solicitud no fuera admitida\, a peticióndel interesado\, se procedería a la devolución de los documentos enviados a laOrganización.\n\n\n\nLa organización podrá dejar en reserva algunas de las solicitudes previas departicipación\, por si se produjese la renuncia expresa de alguno de losadmitidos\, o hubiese baja por incumplimiento de alguna de las normasestablecidas.\n\n\n\n\nNORMAS ESTÉTICAS\n\n\n\n\nLas medidas de cada parada serán las adecuadas\, con la anchura de la calleen donde se ubiquen y dejando siempre paso suficiente para los visitantes\,pensando siempre en el bienestar de todos los participantes.\n\n\n\nTendrán que estar montadas con jaimas o paradas artesanales de colores\,pero nunca transparentes.\n\n\n\nLa estructura de los puestos no podrá mostrar nada de metal o plástico\, y losacabados consistirán en cerramientos de cañizo o de todo tipo de maderas ydemás materiales antiguos.\n\n\n\nLas lonas y el material utilizado tiene que ser ignífugos.\n\n\n\nTodas aquellas personas que trabajen en las paradas deben ir ataviados conropajes de la época medieval.\n\n\n\nLa música ambiental será de estilo medieval o similar.\n\n\n\nLa organización no facilitará vestuario ni otros elementos decorativos.\n\n\n\nEl incumplimiento de estas normas será motivo de exclusión en añosposteriores.\n\n\n\n\nPRECIOS\n\n\n\nLa lista de precios no se alterará a lo largo del día. No se podrá cobrar preciosabusivos ni modificar la calidad del producto en venta. \n\n\n\nQUEDA PROHIBIDO Y PUEDE SER CAUSA DE EXCLUSIÓN\n\n\n\nLa cesión o intercambio del derecho de participación o de ocupación\, sinexpresa autorización de la organización.Exposición de carteles o pancartas\, en cualquier sentido\, no autorizados por laorganización.La organización\, o personas en que delegue\, tienen derecho a retirar total oparcialmente el género que\, a su entender\, contravenga las presentescondiciones.Cajas de almacenar material a la vista.Las piezas modernas\, tales como relojes eléctricos\, móviles\, materialesplásticos\, etc.La utilización de plástico (toldos\, bolsas\, etc.) excepto lonas de lluvia en casonecesario y lo imprescindible para cumplir las normas de sanidad e higiene enproductos alimenticios.Todos los participantes son responsables del cuidado y mantenimiento delespacio que ocupa su parada\, no estando permitido acumular basura en supuesto o su entorno\, estando obligados a trasladarla a los contenedoresdispuestos a tal fin. \n\n\n\n \n\n\n\n\n\n\n\n \n\n\n\n\n\n\n\nOtros enlaces : \n\n\n\nPodría ser de tu interés : \n\n\n\n\nHaz clic en este enlace y entérate de todos los eventos que harán en la provincia de Pontevedra\n\n\n\nConsulta el calendario completo en el siguiente enlace y prepárate para la aventura! 👉 MAYO\n\n\n\nPuedes Consultar en esté enlace las Ferias y Mercados en España\n\n\n\nConoce los Organizadores de Mercados y Ferias haciendo clic en ESTE enlace 👈\n\n\n\n\n\nVisita nuestro Calendario de Eventos para obtener detalles de: Calendario 2025: Planifica con anticipación y no te pierdas ninguna cita.\n\n\n\n\n\nLas ferias medievales son auténticos viajes en el tiempo. Estos eventos recrean la atmósfera de la Edad Media. Leer más…\n\n\n\n\n\n\n\n\n\n\n\n\nMercadosmedievales.net \n\n\n\nLas ferias medievales son auténticos viajes en el tiempo. Estos eventos recrean la atmósfera de la Edad Media….
URL:https://demercadosmedievales.info/mercadomedieval/mayo-25-mercado-medieval-fiesta-o-dia-de-colon-de-combarro-poio-pontevedra/
CATEGORIES:Galicia,Mercado Medieval,Pontevedra
ATTACH;FMTTYPE=image/jpeg:https://demercadosmedievales.info/wp-content/uploads/2025/03/1200-o-dia-colon-combarro-ok1.jpg
END:VEVENT
END:VCALENDAR