BEGIN:VCALENDAR
VERSION:2.0
PRODID:-//Mercados Medievales - ECPv6.15.20//NONSGML v1.0//EN
CALSCALE:GREGORIAN
METHOD:PUBLISH
X-WR-CALNAME:Mercados Medievales
X-ORIGINAL-URL:https://demercadosmedievales.info
X-WR-CALDESC:Eventos para Mercados Medievales
REFRESH-INTERVAL;VALUE=DURATION:PT1H
X-Robots-Tag:noindex
X-PUBLISHED-TTL:PT1H
BEGIN:VTIMEZONE
TZID:Europe/Madrid
BEGIN:DAYLIGHT
TZOFFSETFROM:+0100
TZOFFSETTO:+0200
TZNAME:CEST
DTSTART:20240331T010000
END:DAYLIGHT
BEGIN:STANDARD
TZOFFSETFROM:+0200
TZOFFSETTO:+0100
TZNAME:CET
DTSTART:20241027T010000
END:STANDARD
BEGIN:DAYLIGHT
TZOFFSETFROM:+0100
TZOFFSETTO:+0200
TZNAME:CEST
DTSTART:20250330T010000
END:DAYLIGHT
BEGIN:STANDARD
TZOFFSETFROM:+0200
TZOFFSETTO:+0100
TZNAME:CET
DTSTART:20251026T010000
END:STANDARD
BEGIN:DAYLIGHT
TZOFFSETFROM:+0100
TZOFFSETTO:+0200
TZNAME:CEST
DTSTART:20260329T010000
END:DAYLIGHT
BEGIN:STANDARD
TZOFFSETFROM:+0200
TZOFFSETTO:+0100
TZNAME:CET
DTSTART:20261025T010000
END:STANDARD
END:VTIMEZONE
BEGIN:VEVENT
DTSTART;TZID=Europe/Madrid:20250530T000000
DTEND;TZID=Europe/Madrid:20250601T235959
DTSTAMP:20260422T074955
CREATED:20250412T100405Z
LAST-MODIFIED:20250528T080227Z
UID:10002390-1748563200-1748822399@demercadosmedievales.info
SUMMARY:Programacion del Mercado Medieval de Tomelloso\, Ciudad Real 2025
DESCRIPTION:Programación completa de actividades del Mercado Medieval será del 30 de mayo al 01 de junio en el Paseo de Las Moreras de Tomelloso. \n\n\n\n\n\n\n\n✔Haz clic en este enlace : Mercados medievales en la provincia de CIUDAD REAL\n\n\n\nCastilla La Mancha\n\n\n\n✔Consulta el calendario completo del mes de MAYO\n\n\n\n \n\n\n\nMercado Medieval\n\n\n\n\n\n\n\n \n\n\n\nCartel oficial del Mercado Medieval de Tomelloso\n\n\n\n\n\n\n\n \n\n\n\nProgramación completa del Mercado Medieval\n\n\n\n\n\n\n\n \n\n\n\nMercado Medieval :\n\n\n\n\nFecha: 30 de Mayo al 01 de Junio de  2025 \n\n\n\nLugar:  Paseo de Las Moreras\n\n\n\nPoblación:  Tomelloso\, CIUDAD REAL\n\n\n\n\n \n\n\n\nOrganiza :\n\n\n\n\n\n \n\n\n\n\n\n\n\n\n\n\n \n\n\n\nLocalidad :\n\n\n\nTomelloso es municipio y localidad española situado en el noreste de la provincia de Ciudad Real\, en la comunidad autónoma de Castilla-La Mancha \n\n\n\n\n\n \n\n\n\nOtros enlaces :\n\n\n\nPodría ser de tu interés : \n\n\n\n \n\n\n\n\nPuedes Consultar en esté enlace las Ferias y Mercados en España\n\n\n\nHaz clic en ESTE enlace : y Conoce los Organizadores de Mercados y Ferias \n\n\n\n\n\nVisita nuestro Calendario de Eventos para obtener detalles de: Calendario 2025: Planifica con anticipación y no te pierdas ninguna cita.\n\n\n\n\n\nLas ferias medievales son auténticos viajes en el tiempo. Estos eventos recrean la atmósfera de la Edad Media. Leer más…\n\n\n\n\n\n\n\n\n \n\n\n\nSíguenos.\n\n\n\n\nTelegram: Recibe nuestras noticias y contenido exclusivo (clic aquí).\n\n\n\nNewsletter: Recibe un correos con nuestras últimas noticias (clic aquí).\n\n\n\nWhatsApp: Suscríbete para seguirnos en nuestro canal  (clic aquí).\n\n\n\nInstagram:  Síguenos en Instagram ( clic aquí )\n\n\n\n\n \n\n\n\n\n\n\n\n\n\n\n\nMercadosmedievales.net \n\n\n\nLos Mercados Medievales son eventos que transportan a los asistentes a la atmósfera de la Edad Media\, recreando su esencia y estética de manera auténtica. A lo largo de estos mercados\, es posible encontrar una gran variedad de puestos que ofrecen artesanía\, productos gastronómicos y objetos característicos de la época.  \n\n\n\n\n\n\n\nAdemás\, suelen contar con numerosas actividades y espectáculos inspirados en las tradiciones medievales\, como justas\, teatro callejero\, música en vivo y danzas folclóricas. En definitiva\, representan una excelente oportunidad para sumergirse en la cultura\, la gastronomía y el arte de una de las épocas más cautivadoras de la historia.
URL:https://demercadosmedievales.info/mercadomedieval/mercado-medieval-de-tomelloso-ciudad-real-2025/
LOCATION:Tomelloso (Ciudad Real) (***)\, Tomelloso\, Ciudad Real\, España
CATEGORIES:Cartel,Castilla La Mancha,Ciudad Real,Mercado Medieval,Programación
ATTACH;FMTTYPE=image/jpeg:https://demercadosmedievales.info/wp-content/uploads/2025/04/1200-medieval-tomelloso.jpg
ORGANIZER;CN="Mercados Arlekin":MAILTO:mercadosarlekin@gmail.com
GEO:39.1583745;-3.0214475
END:VEVENT
END:VCALENDAR