BEGIN:VCALENDAR
VERSION:2.0
PRODID:-//Mercados Medievales - ECPv6.15.20//NONSGML v1.0//EN
CALSCALE:GREGORIAN
METHOD:PUBLISH
X-WR-CALNAME:Mercados Medievales
X-ORIGINAL-URL:https://demercadosmedievales.info
X-WR-CALDESC:Eventos para Mercados Medievales
REFRESH-INTERVAL;VALUE=DURATION:PT1H
X-Robots-Tag:noindex
X-PUBLISHED-TTL:PT1H
BEGIN:VTIMEZONE
TZID:Europe/Madrid
BEGIN:DAYLIGHT
TZOFFSETFROM:+0100
TZOFFSETTO:+0200
TZNAME:CEST
DTSTART:20230326T010000
END:DAYLIGHT
BEGIN:STANDARD
TZOFFSETFROM:+0200
TZOFFSETTO:+0100
TZNAME:CET
DTSTART:20231029T010000
END:STANDARD
BEGIN:DAYLIGHT
TZOFFSETFROM:+0100
TZOFFSETTO:+0200
TZNAME:CEST
DTSTART:20240331T010000
END:DAYLIGHT
BEGIN:STANDARD
TZOFFSETFROM:+0200
TZOFFSETTO:+0100
TZNAME:CET
DTSTART:20241027T010000
END:STANDARD
BEGIN:DAYLIGHT
TZOFFSETFROM:+0100
TZOFFSETTO:+0200
TZNAME:CEST
DTSTART:20250330T010000
END:DAYLIGHT
BEGIN:STANDARD
TZOFFSETFROM:+0200
TZOFFSETTO:+0100
TZNAME:CET
DTSTART:20251026T010000
END:STANDARD
END:VTIMEZONE
BEGIN:VEVENT
DTSTART;VALUE=DATE:20240404
DTEND;VALUE=DATE:20240408
DTSTAMP:20260420T051336
CREATED:20240307T083732Z
LAST-MODIFIED:20240403T185521Z
UID:10000996-1712188800-1712534399@demercadosmedievales.info
SUMMARY:MERCADO MEDIEVAL del Parque de la Vega de TOLEDO 2024
DESCRIPTION:Programación del MERCADO MEDIEVAL del Parque de la Vega de Toledo capital\, los dias 04 al 07 de Abril del 2024. \n \nProgramación del MERCADO MEDIEVAL DE TOLEDO\n \n \n \n \n Detalles del MERCADO MEDIEVAL\nCuando se celebra ? Los dias  04 al 07 de abril del  2024\nEn que localidad y provincia ?  Toledo capital\nCual será la ubicación ?  En el Parque de la Vega de Toledo \n  \n  \n Descripción del evento\nDia y hora de Montaje :  Será el día 04 de abril en la mañana\n Fecha y hora de Inauguración :  Y la inauguración será el día 04 de abril por la tarde.\n Precio Para conocer el coste del metro lineal tienes que ponerte en contacto con el organizador. \n Quién lo organiza ?  La empresa  Mark y Event   es la encargada de la organización y gestión de paradas/puestos de venta\, en colaboración con TEMPUS AEVUS \n Como participar ? Ponte en contacto con el organizador para conocer los requisitos de participación y solicitar tu participación:\nCONTACTO :\nE-Mail:\nInfo@markyevent.com\nMarkyevent@gmail.com\nTempusaevus@gmail.com\nTeléfono :\n626 495 626 – 622 712 382\n610 359 010 \nRequisitos para participar en el Mercado medieval\n*Recuerde que tiene que estar dado de alta en Seguridad Social\, autónomo o cooperativa\, y tener un seguro de RC de su puesto\, así como alta en IAE (autónomos). Si tiene alimentación\, carnet de manipulador\, registro sanitario o en su defecto facturas y o albaranes de compra. \nDecoración del puesto parada con temática medieval. El vestuario de los artesanos y mercaderes debe ser de la misma temática. \n\nEl organizador proveerá de los siguientes servicios para los artesanos : \n\nLUZ\nAGUA\nPUBLICIDAD\nVIGILANCIA DISUASORIA\nANIMACION Y ESPECTACULOS\n\n¡Vuelve el mercado medieval al Parque de La Vega de Toledo capital!\n¡Amantes de la historia y la cultura medieval\, prepárense para disfrutar de un evento único en Toledo! El mercado medieval está de vuelta en el Parque de La Vega de la capital\, y promete transportarnos en el tiempo hacia una época llena de encanto y magia. \nLa feria medieval es un evento que se ha convertido en una tradición en la ciudad de Toledo. Durante varios días\, las calles del Parque de La Vega se llenan de puestos de artesanos\, músicos\, malabaristas y todo tipo de personajes que nos harán sentir como si estuviéramos en plena Edad Media. \nEl mercado medieval es mucho más que un simple evento comercial. Es una oportunidad única para sumergirse en la historia y vivir de cerca las costumbres y tradiciones de aquellos tiempos remotos. Los visitantes pueden pasear por las calles empedradas del mercado\, admirar los productos artesanales y probar la deliciosa gastronomía medieval. \n\nLos puestos de artesanía son uno de los grandes atractivos de esta feria. Aquí podrás encontrar todo tipo de objetos hechos a mano\, desde joyas y cuero hasta cerámica y textiles. Los artesanos trabajan en vivo\, mostrando sus habilidades y compartiendo sus conocimientos con los visitantes. Es una oportunidad única para adquirir piezas únicas y especiales\, y apoyar a los pequeños comerciantes locales. \nPero el mercado medieval no sería lo mismo sin la música y el entretenimiento. Durante todo el evento\, se organizan espectáculos de música en vivo\, danzas y representaciones teatrales que nos transportan a la época medieval. \n Acerca de TOLEDO\nToledo es una antigua ciudad ubicada en una colina sobre las llanuras de Castilla-La Mancha\, en España central. Es la capital de la región y es conocida por los monumentos medievales árabes\, judíos y cristianos en su ciudad antigua amurallada. \nTambién fue la antigua casa del pintor manierista El Greco. La Puerta de Bisagra\, de estilo morisco\, y la Puerta del Sol\, de estilo mudéjar\, llevan al barrio antiguo\, donde la Plaza de Zocodover es un animado lugar de reunió \nParque de la Vega\nEste paseo se encuentra a extramuros de la ciudad\, entre la Puerta de Bisagra y el Hospital de Tavera. Es uno de los principales pulmones verdes de Toledo junto con el Parque de las Tres Culturas. \nEl Parque de la Vega es un paseo muy animado donde podrás disfrutar desde un chocolate con churros\, una horchata o granizado\, un aperitivo… sentado en sus numerosas terrazas. \nTambién en el Parque de la vega\, se celebran muchos eventos deportivos\, festivales de música\, eventos culturales\, la pista de hielo\, exposiciones temporales\, etc. \n\nCalendario de Mercado Medieval y Ferias 2024 :\n\n\nEnero\nFebrero\nMarzo\nAbril\nMayo\nJunio\nJulio\nAgosto\nSeptiembre\nOctubre\nNoviembre\nDiciembre\n\n Las Ferias y mercados medievales\n\n\nLas ferias medievales son eventos que recrean la atmósfera de la Edad Media. Por lo general\, se llevan a cabo en pueblos o ciudades\, y presentan puestos de vendedores que venden artesanías\, alimentos y bebidas. También puede haber entretenimiento\, como justas\, música y baile. . \nLos Mercados  Medievales son una forma popular de aprender sobre la historia de la Edad Media y experimentar la cultura de la época. También son una actividad divertida para toda la familia. \nMERCADO MEDIEVAL\, FERIA MEDIEVAL\, MERCADO MEDIEVAL DE TOLEDO\, TOLEDO\, Castilla-La Mancha\, 2024
URL:https://demercadosmedievales.info/mercadomedieval/mercado-medieval-del-parque-de-la-vega-de-toledo-2024/
LOCATION:Toledo – Parque de la Vega (***)\, Parque de la Vega\, Toledo\, Toledo\, 45003\, España
CATEGORIES:Comunidad de Madrid,Mark y Event.,Mercado Medieval,Tempus Aevus
ATTACH;FMTTYPE=image/jpeg:https://demercadosmedievales.info/wp-content/uploads/2024/03/MERCADO_MEDIEVAL_toledo_2024_post_web.jpg
GEO:39.8639553;-4.0250288
X-APPLE-STRUCTURED-LOCATION;VALUE=URI;X-ADDRESS=Toledo – Parque de la Vega (***) Parque de la Vega Toledo Toledo 45003 España;X-APPLE-RADIUS=500;X-TITLE=Parque de la Vega:geo:-4.0250288,39.8639553
END:VEVENT
BEGIN:VEVENT
DTSTART;VALUE=DATE:20240711
DTEND;VALUE=DATE:20240715
DTSTAMP:20260420T051336
CREATED:20240327T165140Z
LAST-MODIFIED:20240502T181320Z
UID:10001089-1720656000-1721001599@demercadosmedievales.info
SUMMARY:MERCADO MEDIEVAL NOCTURNO DE TOLEDO capital 2024
DESCRIPTION:MERCADO MEDIEVAL en horario nocturno con paradas de artesanía. alimentación\, juguetes\, moda\, complementos\, etc. del 11 al 14 de Julio en la Av. Europa de TOLEDO capital. \n \n Detalles del MERCADO MEDIEVAL\nCuando se celebra ?\n Los dias  11 AL 14 DE JULIO  del  2024\n.\nEn que localidad y provincia ?\nEn la localidad de Toledo provincia de TOLEDO\n.\nCual será la ubicación ? \n. Estará ubicado en la avenida Europa de TOLEDO.\n.\nPara conocer la fecha de más mercados y ferias temáticas \, AQUÍ\n. \n Quién organiza EL MERCADO MEDIEVAL ? La empresa ERAGON es la encargada de la organización y gestión de paradas/puestos de venta.\n Como participar ? Ponte en contacto con el organizador para conocer los requisitos de participación y solicitar tu participación: \nPonte en contacto con ERAGON a través de sus medios de contacto :\nTelefonos : 610 64 54 53 \ne-mail : AGUSTINMBXXL@HOTMAIL.COM \n.\n.\nEl organizador proveerá de los siguientes servicios para los artesanos : \n\nLUZ\nAGUA\nPUBLICIDAD\nVIGILANCIA DISUASORIA\nANIMACION\nESPECTACULOS\nTALLERES\nLUDOTECA INFANTIL\n\n  \n Acerca de TOLEDO\nToledo es una antigua ciudad ubicada en una colina sobre las llanuras de Castilla-La Mancha\, en España central. \n\nCon una población de 86 070 habitantes (INE 2023)\, se trata del tercer municipio más poblado de la región.\nEl casco histórico está situado en la margen derecha del Tajo\, en una colina rodeada por un pronunciado meandro.\nEl término municipal incluye dos barrios muy separados del núcleo principal: el de Azucaica\, en la orilla derecha del río\, y el de Santa María de Benquerencia\, situado prácticamente enfrente del anterior en la margen izquierda.\n\n\nCalendario de Mercados Medievales y Ferias temáticas 2024 :\n\n\nEnero\nFebrero\nMarzo\nAbril\nMayo\nJunio\nJulio\nAgosto\nSeptiembre\nOctubre\nNoviembre\nDiciembre\n\n Las Ferias y mercados medievales\n\n\nLas ferias medievales son eventos que recrean la atmósfera de la Edad Media. Por lo general\, se llevan a cabo en pueblos o ciudades\, y presentan puestos de vendedores que venden artesanías\, alimentos y bebidas. También puede haber entretenimiento\, como justas\, música y baile. . \nLos Mercados  Medievales son una forma popular de aprender sobre la historia de la Edad Media y experimentar la cultura de la época. También son una actividad divertida para toda la familia. \n 
URL:https://demercadosmedievales.info/mercadomedieval/mercado-medieval-nocturno-de-toledo-capital-2024/
LOCATION:Toledo (Toledo) (***)\, Toledo\, Toledo\, Spain
CATEGORIES:Castilla La Mancha,Eragón eventos,Mercado Medieval,Toledo
ATTACH;FMTTYPE=image/jpeg:https://demercadosmedievales.info/wp-content/uploads/2024/03/medieval_TOLEDO_2024_552x276.jpg
ORGANIZER;CN="Erag%C3%B3n eventos":MAILTO:AGUSTINMBXXL@HOTMAIL.COM
GEO:39.8628316;-4.0273231
END:VEVENT
BEGIN:VEVENT
DTSTART;TZID=Europe/Madrid:20240814T000000
DTEND;TZID=Europe/Madrid:20240818T235959
DTSTAMP:20260420T051336
CREATED:20240630T081232Z
LAST-MODIFIED:20240811T182417Z
UID:10001508-1723593600-1724025599@demercadosmedievales.info
SUMMARY:Mercado Medieval del Parque de la Vega de Toledo 2024
DESCRIPTION:Del 14 al 18 de Agosto el Parque de la Vega te hará viajar en el tiempo gracias a los músicos\, el vestuario\, los puestos y todas las actividades programadas.\n \nTags:  2024\, Castilla-La Mancha\, convocatoria\, España\, feria medieval\, MERCADO MEDIEVAL DE TOLEDO \nMercado Medieval\nEste evento anual promete sumergirnos en un viaje en el tiempo hacia una época llena de encanto y magia. Durante cuatro días el Parque de La Vega se transformará en un escenario medieval vibrante\, repleto de puestos y actividades que nos transportarán a la época medieval. Los visitantes podrán disfrutar de la ambientación cuidadosamente recreada\, con personajes vestidos con trajes de la época\, músicos callejeros y artesanos demostrando sus habilidades. \nCartel\n \nProgramación \n \n \n \n \n \nInformación básica del Mercado\nFecha de celebración Los dias 14 al 18 de Agosto  del  2024 \nDonde se realizaEn el Parque de La Vega de Toledo capital.  Este paseo se encuentra a extramuros de la ciudad\, entre la Puerta de Bisagra y el Hospital de Tavera. Es uno de los principales pulmones verdes de Toledo junto con el Parque de las Tres Culturas. \nInformación del Organizador\nLa empresa Mark y Event  es la encargada de la organización y gestión de paradas/puestos de venta y colabora  TEMPUS AEVUSInformación e InscripcionesE-Mail:Info@markyevent.comMarkyevent@gmail.comTempusaevus@gmail.comTeléfono :626 495 626 – 622 712 382610 359 010 \nRequisitos : Recuerde que tiene que estar dado de alta en Seguridad Social\, autónomo o cooperativa\, y tener un seguro de RC de su puesto\, así como alta en IAE. Si tiene alimentación\, carnet de manipulador\, registro sanitario o en su defecto facturas y o albaranes de compra. \nMás fechas . Puedes conocer mas ferias y mercados en está provincia\, consultando nuestra sección de Eventos en Toledo. Otros eventos.  Consulta Aquí otras ferias y mercados que organizará la empresa Tempus Aevus  y de la empresa Mark & Event. Otros mercados temáticos y Ferias. Si quieres conocer cuando se realizan más ferias y mercados\, puedes consultarlos visitando nuestro  Calendario de Eventos \nAcerca de Toledo\nToledo es una antigua ciudad ubicada en una colina sobre las llanuras de Castilla-La Mancha\, en España central. Es la capital de la región y es conocida por los monumentos medievales árabes\, judíos y cristianos en su ciudad antigua amurallada. También fue la antigua casa del pintor manierista El Greco. La Puerta de Bisagra\, de estilo morisco\, y la Puerta del Sol\, de estilo mudéjar\, llevan al barrio antiguo\, donde la Plaza de Zocodover es un animado lugar de reunión. \nCalendario 2024\nSobre los Mercados Medievales\nLas Ferias y mercados medievales son eventos populares que recrean el ambiente y la atmósfera de la Edad Media. Estos eventos suelen tener lugar en diferentes partes del mundo y atraen a numerosos visitantes que desean sumergirse en la historia y disfrutar de una experiencia única. Las ferias y mercados medievales suelen tener una gran cantidad de visitantes\, ya que ofrecen una oportunidad única de sumergirse en la historia y disfrutar de una experiencia diferente. También son muy populares entre los amantes de la cultura medieval\, los aficionados a la historia y las familias que buscan una actividad divertida y educativa. Consulta nuestro amplio calendario de eventos \nTags:  Feria Medieval\,Convocatoria\,2024\,Mercado Medieval de Toledo\,Castilla La Mancha\,España
URL:https://demercadosmedievales.info/mercadomedieval/mercado-medieval-del-parque-de-la-vega-de-toledo-2024-2/
LOCATION:Toledo – Parque de la Vega (***)\, Parque de la Vega\, Toledo\, Toledo\, 45003\, España
CATEGORIES:Cartel,Mercado Medieval,Programación,Toledo
ATTACH;FMTTYPE=image/jpeg:https://demercadosmedievales.info/wp-content/uploads/2024/06/medieval_toledo_f.jpg
ORGANIZER;CN="Tempus Aevus":MAILTO:tempusaevus@gmail.com
GEO:39.8639553;-4.0250288
X-APPLE-STRUCTURED-LOCATION;VALUE=URI;X-ADDRESS=Toledo – Parque de la Vega (***) Parque de la Vega Toledo Toledo 45003 España;X-APPLE-RADIUS=500;X-TITLE=Parque de la Vega:geo:-4.0250288,39.8639553
END:VEVENT
END:VCALENDAR