BEGIN:VCALENDAR
VERSION:2.0
PRODID:-//Mercados Medievales - ECPv6.15.20//NONSGML v1.0//EN
CALSCALE:GREGORIAN
METHOD:PUBLISH
X-ORIGINAL-URL:https://demercadosmedievales.info
X-WR-CALDESC:Eventos para Mercados Medievales
REFRESH-INTERVAL;VALUE=DURATION:PT1H
X-Robots-Tag:noindex
X-PUBLISHED-TTL:PT1H
BEGIN:VTIMEZONE
TZID:Europe/Madrid
BEGIN:DAYLIGHT
TZOFFSETFROM:+0100
TZOFFSETTO:+0200
TZNAME:CEST
DTSTART:20230326T010000
END:DAYLIGHT
BEGIN:STANDARD
TZOFFSETFROM:+0200
TZOFFSETTO:+0100
TZNAME:CET
DTSTART:20231029T010000
END:STANDARD
BEGIN:DAYLIGHT
TZOFFSETFROM:+0100
TZOFFSETTO:+0200
TZNAME:CEST
DTSTART:20240331T010000
END:DAYLIGHT
BEGIN:STANDARD
TZOFFSETFROM:+0200
TZOFFSETTO:+0100
TZNAME:CET
DTSTART:20241027T010000
END:STANDARD
BEGIN:DAYLIGHT
TZOFFSETFROM:+0100
TZOFFSETTO:+0200
TZNAME:CEST
DTSTART:20250330T010000
END:DAYLIGHT
BEGIN:STANDARD
TZOFFSETFROM:+0200
TZOFFSETTO:+0100
TZNAME:CET
DTSTART:20251026T010000
END:STANDARD
BEGIN:DAYLIGHT
TZOFFSETFROM:+0100
TZOFFSETTO:+0200
TZNAME:CEST
DTSTART:20260329T010000
END:DAYLIGHT
BEGIN:STANDARD
TZOFFSETFROM:+0200
TZOFFSETTO:+0100
TZNAME:CET
DTSTART:20261025T010000
END:STANDARD
END:VTIMEZONE
BEGIN:VEVENT
DTSTART;TZID=Europe/Madrid:20240727T000000
DTEND;TZID=Europe/Madrid:20240728T235959
DTSTAMP:20260424T162542
CREATED:20240328T091051Z
LAST-MODIFIED:20240724T121430Z
UID:10001095-1722038400-1722211199@demercadosmedievales.info
SUMMARY:Programa MERCADO MEDIEVAL DE MOLINOS DE DUERO - Soria - 2024
DESCRIPTION:El MERCADO MEDIEVAL será los días 27 y 28 de JULIO en el centro histórico de MOLINOS DE DUERO\, Contará con animación y las plazas son limitadas\, es organizado por Michel. \n \nMERCADO MEDIEVAL\nIncorporado dentro de las Fiestas de Santiago Apostol\, celebrándose por primera vez en el año 1.999\, supone la representación Medieval en un marco sin igual\, dado el entrono de nuestra plaza\, rodeado de edificios de sillería y mampostería de piedra del siglo XVIII\, dándole un carácter propio de aquellas épocas\, lo que hace que se transforme por unos días en una localidad para visitar y disfrutar. \n \nCuando se celebra ? Los dias 27 y 28 de JULIO  del  2024En que localidad y provincia ?En el municipio de MOLINOS DE DUERO en la provincia de  SORIACual será la ubicación ? . El MERCADO MEDIEVAL estará ubicado en el centro histórico de MOLINOS DE DUERO.Para conocer la fecha de más mercados y ferias temáticas \, AQUÍ \nDescripción del MERCADO MEDIEVAL\nEl Mercado Medieval de Molinos de Duero es un evento anual que se celebra en la localidad de Molinos de Duero\, en la provincia de Soria\, España. El mercado se celebra el último fin de semana de julio y atrae a miles de visitantes de toda España y del extranjero. \nRecrea la vida en la Edad Media\, con puestos de venta de productos artesanales\, comida y bebida. También hay música en vivo\, espectáculos de danza\, juegos y actividades para niños. \nQuién organiza EL EVENTO?  La empresa de  MICHEL  – professional history – es la encargada de la organización y gestión de paradas/puestos de venta. \nInformación e InscripcionesTeléfono 653 19 67 41\, Puedes contactar por WhatsApp y/o llamada..El organizador proveerá de los siguientes servicios para los artesanos : \n\nLUZ\nAGUA\nPUBLICIDAD\nVIGILANCIA DISUASORIA\nANIMACION\n\nAcerca de MOLINOS DE DUERO\nMolinos de Duero es una localidad y también un municipio de la provincia de Soria\, partido judicial de Soria\, comunidad autónoma de Castilla y León\, España. \n\nPertenece a la comarca de Pinares.\nSituado en pleno corazón de pinares\, a 38 kilómetros de la capital soriana\, Molinos de Duero\,  uno de los pueblos más señoriales de la provincia de Soria\, ha conseguido 2 veces el galardón de Municipio Turístico de la Provincia de Soria.\nMolinos de Duero es un pequeño pueblo de la zona de Pinares de Soria\, en plena Sierra de Urbión\, muy cerca de la Laguna Negra y del embalse del Cuerda del Pozo.\nEntorno natural incomparable\, tradiciones\, folklore\, actividades de turismo de naturaleza y cultural\, un pueblo\, de donde no querrás irte.\n\n  \n\nCalendario de Mercados Medievales y Ferias temáticas 2024 :\n\n\nEnero\nFebrero\nMarzo\nAbril\nMayo\nJunio\nJulio\nAgosto\nSeptiembre\nOctubre\nNoviembre\nDiciembre\n\n Las Ferias y mercados medievales\nLas ferias medievales son eventos que recrean la atmósfera de la Edad Media. Por lo general\, se llevan a cabo en pueblos o ciudades\, y presentan puestos de vendedores que venden artesanías\, alimentos y bebidas. También puede haber entretenimiento\, como justas\, música y baile. . \nLos Mercados  Medievales son una forma popular de aprender sobre la historia de la Edad Media y experimentar la cultura de la época. También son una actividad divertida para toda la familia. \nMERCADO MEDIEVAL DE MOLINOS DE DUERO\,Molinos de Duero\,Soria\,Castilla y Leon\,España\,Convocatoria\,inscripciones\,
URL:https://demercadosmedievales.info/mercadomedieval/mercado-medieval-de-molinos-de-duero-soria-2024/
LOCATION:Molinos de Duero (Soria) (***)\, Molinos de Duero\, Soria\, 42156\, España
CATEGORIES:Mercado Medieval,Michel-Recreaciones históricas eventos y espectáculos,Programación,Soria
ATTACH;FMTTYPE=image/jpeg:https://demercadosmedievales.info/wp-content/uploads/2024/03/medieval_molinos_de_duero_552x276.jpg
ORGANIZER;CN="Michel - Recreaciones hist%C3%B3ricas eventos y espect%C3%A1culos":MAILTO:phartesanos@gmail.com
GEO:41.8853424;-2.7860727
END:VEVENT
BEGIN:VEVENT
DTSTART;TZID=Europe/Madrid:20250726T000000
DTEND;TZID=Europe/Madrid:20250727T235959
DTSTAMP:20260424T162542
CREATED:20250201T090112Z
LAST-MODIFIED:20250201T123534Z
UID:10002164-1753488000-1753660799@demercadosmedievales.info
SUMMARY:07/2025 Mercado Medieval de Molinos de Duero (Soria)
DESCRIPTION:Mercado Medieval de Molinos de Duero.  Los días 26 y 27 de julio\, disfruta de un evento con artesanía\, animación y ambiente medieval. ¡Inscripciones abiertas! \n\n\n\n\n\n \n\n\n\n\n\n\n\nMercado Temático Medieval\n\n\n\nFormando parte de las Fiestas de Santiago Apóstol (25 de julio) y celebrado por primera vez en 1999\, este evento recrea la época medieval en un escenario inigualable. La plaza\, rodeada de majestuosos edificios de sillería y mampostería del siglo XVIII\, transporta a los visitantes a otro tiempo\, convirtiendo la localidad en un destino único para disfrutar y revivir la historia. \n\n\n\nRecrea la vida en la Edad Media\, con puestos de venta de productos artesanales\, comida y bebida. También hay música en vivo\, espectáculos de danza\, juegos y actividades para niños. \n\n\n\nInformación del evento\n\n\n\n\nFecha: 26 y 27 de Julio de  2025 \n\n\n\nPlazo de inscripción : Hasta completar el numero de plazas\n\n\n\nLugar:  en el centro de la localidad\n\n\n\nPoblación:  Molinos de Duero ( SORIA ) Molinos de Duero es una localidad y también un municipio de la provincia de Soria\, partido judicial de Soria\, comunidad autónoma de Castilla y León\, España.\n\n\n\nOferta a exponer:    Alimentación\, Gastronomía\, Artesanía y complementos.\n\n\n\nServicios que proporcionara el organizador: Animación\, Luz y Vigilancia Nocturna\n\n\n\nEntidad organizadora: Michel – PROFESSIONAL HISTORY\n\n\n\n\n \n\n\n\nInscripcionesEl plazo para inscribirse como expositor en el mercado estará abierto hasta completar el numero de plazas. \n\n\n\nInformación del organizador :\n\n\n\nLa organización y decoración de este evento están a cargo de Michel – PROFESSIONAL HISTORY. Para más detalles sobre el proceso de inscripción\, tarifas y requisitos específicos\, contacta a través de: \n\n\n\n\nCorreo electrónico : phartesanos@gmail.com \n\n\n\nTeléfono / WhatsApp : 653.19.67.41\n\n\n\nPersonas de contacto : Michel\n\n\n\nDescubre las próximas ferias y mercados en su agenda:  Calendario de ferias de Professional History\n\n\n\n\n\n\n\n\n \n\n\n\nAcerca de .. Molinos de Duero\, Soria\n\n\n\nMolinos de Duero es una localidad y también un municipio de la provincia de Soria\, partido judicial de Soria\, comunidad autónoma de Castilla y León\, España. Pertenece a la comarca de Pinares \n\n\n\n\n\n \n\n\n\n\n\n\n\nDe tu interés :\n\n\n\n\nEventos de LA PROVINCIA DE SORIA\n\n\n\nCalendario de Mercados Medievales en Julio\n\n\n\nFerias y Mercados en España\n\n\n\nOrganizadores de Mercados y Ferias\n\n\n\n\n\nVisita nuestro Calendario de Eventos para obtener detalles de: Calendario 2025: Planifica con anticipación y no te pierdas ninguna cita.\n\n\n\n\n\nLas ferias medievales son auténticos viajes en el tiempo. Estos eventos recrean la atmósfera de la Edad Media. Leer más…\n\n\n\n\n\n\n\n\n \n\n\n\nSiguenos….\n\n\n\n\nTelegram: Recibe nuestras noticias y contenido exclusivo (clic aquí).\n\n\n\nNewsletter: Recibe un correos con nuestras últimas noticias (clic aquí).\n\n\n\nWhatsApp: Suscríbete para ver nuestros mejores vídeos (clic aquí).\n\n\n\nInstagram:  Síguenos en Instagram ( clic aquí )\n\n\n\n\n \n\n\n\n\n\n\n\n\n\n\n\nMercadosmedievales.net \n\n\n\nLas ferias medievales son auténticos viajes en el tiempo. Estos eventos recrean la atmósfera de la Edad Media….  \n\n\n\n\n\n\n\n\n\n\nBuscar \n\n\nSearch\n					\n				\n\n\n\n\n\nSocial \n\n\n\n\nFacebook \n\n\n\nInstagram \n\n\n\nTwitter
URL:https://demercadosmedievales.info/mercadomedieval/07-2025-mercado-medieval-de-molinos-de-suero-soria/
LOCATION:Molinos de Duero (Soria) (***)\, Molinos de Duero\, Soria\, 42156\, España
CATEGORIES:Castilla y Leon,Mercado Medieval,Soria
ATTACH;FMTTYPE=image/jpeg:https://demercadosmedievales.info/wp-content/uploads/2025/02/medieval-molinos-de-duero-2025.jpg
ORGANIZER;CN="Michel - Recreaciones hist%C3%B3ricas eventos y espect%C3%A1culos":MAILTO:phartesanos@gmail.com
GEO:41.8853424;-2.7860727
END:VEVENT
END:VCALENDAR