BEGIN:VCALENDAR
VERSION:2.0
PRODID:-//Mercados Medievales - ECPv6.15.20//NONSGML v1.0//EN
CALSCALE:GREGORIAN
METHOD:PUBLISH
X-WR-CALNAME:Mercados Medievales
X-ORIGINAL-URL:https://demercadosmedievales.info
X-WR-CALDESC:Eventos para Mercados Medievales
REFRESH-INTERVAL;VALUE=DURATION:PT1H
X-Robots-Tag:noindex
X-PUBLISHED-TTL:PT1H
BEGIN:VTIMEZONE
TZID:Europe/Madrid
BEGIN:DAYLIGHT
TZOFFSETFROM:+0100
TZOFFSETTO:+0200
TZNAME:CEST
DTSTART:20230326T010000
END:DAYLIGHT
BEGIN:STANDARD
TZOFFSETFROM:+0200
TZOFFSETTO:+0100
TZNAME:CET
DTSTART:20231029T010000
END:STANDARD
BEGIN:DAYLIGHT
TZOFFSETFROM:+0100
TZOFFSETTO:+0200
TZNAME:CEST
DTSTART:20240331T010000
END:DAYLIGHT
BEGIN:STANDARD
TZOFFSETFROM:+0200
TZOFFSETTO:+0100
TZNAME:CET
DTSTART:20241027T010000
END:STANDARD
BEGIN:DAYLIGHT
TZOFFSETFROM:+0100
TZOFFSETTO:+0200
TZNAME:CEST
DTSTART:20250330T010000
END:DAYLIGHT
BEGIN:STANDARD
TZOFFSETFROM:+0200
TZOFFSETTO:+0100
TZNAME:CET
DTSTART:20251026T010000
END:STANDARD
BEGIN:DAYLIGHT
TZOFFSETFROM:+0100
TZOFFSETTO:+0200
TZNAME:CEST
DTSTART:20260329T010000
END:DAYLIGHT
BEGIN:STANDARD
TZOFFSETFROM:+0200
TZOFFSETTO:+0100
TZNAME:CET
DTSTART:20261025T010000
END:STANDARD
END:VTIMEZONE
BEGIN:VEVENT
DTSTART;TZID=Europe/Madrid:20250227T000000
DTEND;TZID=Europe/Madrid:20250302T235959
DTSTAMP:20260420T060447
CREATED:20241121T121731Z
LAST-MODIFIED:20250227T082305Z
UID:10001956-1740614400-1740959999@demercadosmedievales.info
SUMMARY:Mercado Medieval Zaidín-Vergeles (Granada) * Programación
DESCRIPTION:Mercado Medieval de las Tres Culturas con puestos de artesanía y alimentación \, estará ubicado en la Plaza de la Hípica\, en el distrito Zaidín – Vergeles de Granada capital. Horario : Jueves 17 a 23h \, Viernes y Sábado de 11 a 15h y de 18 a 23h. Domingo de 11 a 21h. \n\n\n\n\n\n\n\n \n\n\n\nMercado Medieval de las Tres Culturas\n\n\n\n \n\n\n\nCartel  \n\n\n\n\n\n\n\nCada cierto tiempo es común que se celebre en los distintos barrios de la capital granadina el denominado Mercado Medieval. Se trata de un evento en el que se montan puestos en los que se pueden encontrar artículos\, actividades y espectáculos totalmente ambientados en la época medieval. \n\n\n\n\n\n\n\n\n\n\n\n\n\n\n\n\n\nAsí las criaturas fantásticas\, los caballeros\, las armaduras\, los juglares\, la magia y las princesas toman el protagonismo dentro de un ambiente totalmente tematizado. \n\n\n\nEse fin de semana\, en la plaza de la Hípica en pleno barrio de Zaidín se podrá disfrutar de todo esto durante 4 días y medio en está ocasión\, desde el 27 de Febrero al 02 de Marzo del 2025\, aprovechando la festividad del día de Andalucía. \n\n\n\nSi deseas exponer y vender tus productos\, contacta con los organizadores:📧 asociacionaka@hotmail.com📞 722 162 332 / 633 902 226 \n\n\n\nProgramación – \n\n\n\n \n\n\n\n\n\n\n\n\n\n\n\n\n\nMercado Medieval\n\n\n\nInformación básica del Mercado\n\n\n\nFecha de celebración Los dias 27 de Febrero al 02 de Marzo del 2025 \n\n\n\nDonde se realizaEn el barrio ZAIDIN-VERGELES\, GRANADA CAPITAL\, GRANADA  \n\n\n\nZaidín es un distrito situado al sur de la ciudad de Granada. También es el nombre común del barrio Zaidín-Vergeles\, el único del distrito\, lo que le convierte con diferencia en el barrio\, que no el distrito\, más populoso de la ciudad. Limita al norte con los barrios Cervantes y Mirasierra (distrito Genil)\, al oeste con el barrio Figares (distrito Ronda)\, al sur con el término municipal de Armilla y al este con el de La Zubia \n\n\n\nInformación del Organizador\n\n\n\nLa organización del mercado está a cargo de Aka Eventos temáticos\, que gestionará las inscripciones y asignaciones de puestos de venta. \n\n\n\nSi deseas participar como vendedor o expositor\, contacta a los organizadores: \n\n\n\n\nCorreo electrónico: asociacionaka@hotmail.com\n\n\n\nTeléfonos: 722 162 332 / 633 902 226\n\n\n\n\nNo dejes pasar esta oportunidad de formar parte de un evento que combina tradición\, cultura y espíritu navideño. \n\n\n\nMás fechas  Puedes conocer mas ferias y mercados en está provincia\, consultando nuestra sección de Eventos en la provincia de Granada \n\n\n\nOtros eventos del organizador \n\n\n\nAdemás del Mercado Medieval\, la empresa AKA Eventos Temáticos organiza una variedad de ferias y mercados a lo largo del año. Consulta su calendario completo para descubrir más oportunidades.Informate Aquí otras ferias y mercados que organizará la empresa AKA EVENTOSotros mercados temáticos y FeriasSi quieres conocer cuando se realizan más ferias y mercados\, puedes consultarlos visitando nuestro   Calendario de Eventos \n\n\n\nCalendario 2025\n\n\n\nSobre los Mercados Medievales\n\n\n\nLas ferias medievales son eventos que recrean la atmósfera de la Edad Media. Por lo general\, se llevan a cabo en pueblos o ciudades\, y presentan puestos de vendedores que venden artesanías\, alimentos y bebidas. También puede haber entretenimiento\, como justas\, música y baile.  \n\n\n\n\n\n\n\nOrganiza\n\n\n\n\n\nLugar\n\n\n\nZaidín es un distrito situado al sur de la ciudad de Granada. También es el nombre común del barrio Zaidín-Vergeles\, el único del distrito\, lo que le convierte con diferencia en el barrio\, que no el distrito\, más populoso de la ciudad. Limita al norte con los barrios Cervantes y Mirasierra (distrito Genil)\, al oeste con el barrio Figares (distrito Ronda)\, al sur con el término municipal de Armilla y al este con el de La Zubia
URL:https://demercadosmedievales.info/mercadomedieval/mercado-medieval-de-zaidin-vergeles-2025-granada-capital/
LOCATION:Zaidín – Vergeles (Granada) (***)\, Granada\, Granada\, 22530
CATEGORIES:Cartel,Granada,Mercado Medieval,Programación
ATTACH;FMTTYPE=image/jpeg:https://demercadosmedievales.info/wp-content/uploads/2024/11/medieval-hipica-cartel.jpg
ORGANIZER;CN="Aka Eventos Tem%C3%A1ticos":MAILTO:info@akaeventos.com
GEO:37.1774605;-3.5984368
END:VEVENT
BEGIN:VEVENT
DTSTART;TZID=Europe/Madrid:20241114T000000
DTEND;TZID=Europe/Madrid:20241117T235959
DTSTAMP:20260420T060447
CREATED:20241112T053036Z
LAST-MODIFIED:20241112T110103Z
UID:10001926-1731542400-1731887999@demercadosmedievales.info
SUMMARY:Mercado de las Tres Culturas de Cáceres 2024 (Cáceres) * Programación
DESCRIPTION:¡Se abre la convocatoria para participar en el Mercado que tendrá lugar del 27 de febrero al 2 de marzo en la Plaza de La Hípica del barrio Zaidín-Vergeles !  \n\n\n\n\n \n\n\n\n\n\n\n\n \n\n\n\n\nFerias de NavidadLlegan las fechas de los mercados navideños\,  consulta el calendario de Ferias Y Mercados de navidad . \n\n\n\n\n \n\n\n\nMercado Medieval de Las Tres Culturas\n\n\n\nConsiste en la celebración de un mercado medieval de las culturas que convivieron en Cáceres y ambientación histórica por toda la Ciudad Monumental. \n\n\n\nCartel  \n\n\n\n\n\n\n\nProgramación  \n\n\n\nProgramación repleta de actividades y una temática relacionada con las Tres culturas que durante la época medieval convivieron en Cáceres: Cristiana\, Judía y Musulmana. Además de artesanos y gastronomía\, se ha confeccionado una programación que comprende desde títeres hasta animación musical\, pasando por cetrería\, exhibición de armas\, simulación de luchas y combates medievales\, talleres\, pasacalles\, cetreria\, exposiciones\, degustaciones\, talleres… y un sinfín de actividades. \n\n\n\n \n\n\n\n\n\n\n\n\n\n\n\n\n\n\n\nInformación básica del Mercado\n\n\n\nFecha de celebración Los dias  14 al 17 de Noviembre del  2024 \n\n\n\nDonde se realizaEn la localidad de Cáceres capital que pertenece a la provincia de  CACERES   / Cáceres es una ciudad de la región occidental española de Extremadura. La fundaron los antiguos romanos y aún conserva diversos vestigios de las diferentes culturas que la ocuparon posteriormente. La arquitectura de la ciudad monumental\, como se conoce al casco antiguo\, es una mezcla de estilo gótico y renacentista\, con calles medievales adoquinadas\, y casas y palacios fortificados. Está rodeada por una muralla morisca del siglo XII y tiene alrededor de 30 torres\, algunas de ellas con nidos de cigüeña \n\n\n\nUbicación del EventoEstará ubicado en el centro de la ciudad \n\n\n\nInformación del Organizador\n\n\n\nLa empresa organizadora es Balconet \n\n\n\nComo participarInformación e Inscripciones:balconetmedieval@gmail.com  \n\n\n\nMás fechas  Puedes conocer mas ferias y mercados en está provincia\, consultando nuestra sección de Eventos en la provincia de Cáceres \n\n\n\nOtros eventosConsulta Aquí otras ferias y mercados que organizará la empresa Balconet \n\n\n\notros mercados temáticos y FeriasSi quieres conocer cuando se realizan más ferias y mercados\, puedes consultarlos visitando nuestro   Calendario de Eventos \n\n\n\nCalendario 2024\n\n\n\nCalendario 2025\n\n\n\nSobre los Mercados Medievales\n\n\n\nLas ferias medievales son eventos que recrean la atmósfera de la Edad Media. Por lo general\, se llevan a cabo en pueblos o ciudades\, y presentan puestos de vendedores que venden artesanías\, alimentos y bebidas. También puede haber entretenimiento\, como justas\, música y baile.  \n\n\n\n\n\nOrganizador\n\n\n\n\n\nLocalización\n\n\n\nCáceres es una ciudad de la región occidental española de Extremadura. La fundaron los antiguos romanos y aún conserva diversos vestigios de las diferentes culturas que la ocuparon posteriormente. La arquitectura de la ciudad monumental\, como se conoce al casco antiguo\, es una mezcla de estilo gótico y renacentista\, con calles medievales adoquinadas\, y casas y palacios fortificados. Está rodeada por una muralla morisca del siglo XII y tiene alrededor de 30 torres\, algunas de ellas con nidos de cigüeña
URL:https://demercadosmedievales.info/mercadomedieval/mercado-de-las-tres-culturas-de-caceres-2024-caceres-programacion/
LOCATION:Cáceres (Cáceres) (***)\, centro ciudad\, Cáceres\, Cáceres\, 10001\, España
CATEGORIES:Caceres,Cartel,Mercado Medieval,Programación
ATTACH;FMTTYPE=image/jpeg:https://demercadosmedievales.info/wp-content/uploads/2024/11/caceres-cartel-2024-medieval_page-0001.jpg
ORGANIZER;CN="Balconet Mercados Tem%C3%A1ticos":MAILTO:balconetmedieval@gmail.com
GEO:39.4692619;-6.3736297
X-APPLE-STRUCTURED-LOCATION;VALUE=URI;X-ADDRESS=Cáceres (Cáceres) (***) centro ciudad Cáceres Cáceres 10001 España;X-APPLE-RADIUS=500;X-TITLE=centro ciudad:geo:-6.3736297,39.4692619
END:VEVENT
BEGIN:VEVENT
DTSTART;TZID=Europe/Madrid:20241002T000000
DTEND;TZID=Europe/Madrid:20241006T235959
DTSTAMP:20260420T060447
CREATED:20240707T062236Z
LAST-MODIFIED:20240924T112814Z
UID:10001536-1727827200-1728259199@demercadosmedievales.info
SUMMARY:Mercado Medieval De Las Tres Culturas de León 2024 - Programación
DESCRIPTION:El Mercado Medieval se celebra como cada año con motivo de las fiestas patronales de León\,  en las inmediaciones de la Plaza de San Isidoro. El mercado contará con un completo programa de actividades de animación teatral y musical\, decoración de las tres culturas\, exposiciones temáticas\, animación\, personajes\, cuentacuentos\, pasacalles de gran formato\, actividades infantiles\, rincón y atracciones infantiles\, talleres demostrativos… \n \n \nMercado Medieval De Las Tres Culturas de León\n2\, 3\, 4\, 5 y 6 de Octubre\n \nCartel \n\nProgramación \n \n \n \n \nInformación básica del Mercado\nFecha de celebración Los dias 2\, 3\, 4\, 5 y 6 de Octubre del  2024 \nDonde se realizaEn la localidad de León  que pertenece a la provincia de  LEON \nUbicación del EventoEstará ubicado en Centro Histórico de León \nDescripción del evento\nMERCADO MEDIEVAL DE LAS TRES CULTURASFIESTAS DE SAN FROILÁN2 AL 6 DE OCTUBRE \nEl Mercado Medieval se celebra como cada año con motivo de las fiestas patronales de León\, y en su edición de 2024\, como ya sucedió el año pasado\, será nuevamente nuestra empresa la organizadora del mercado medieval que se celebrará como cada año\, en las inmediaciones de la Plaza de San Isidoro. \nEl mercado contará con un completo programa de actividades de animación teatral y musical\, decoración de las tres culturas\, exposiciones temáticas\, animación\, personajes\, cuentacuentos\, pasacalles de gran formato\, actividades infantiles\, rincón y atracciones infantiles\, talleres demostrativos… \n\nFechas: del miércoles 2 por la tarde a 6 de octubreHorario del mercado: de 12:00 a 24:00 horasUbicación: Plaza de San Isidoro y calles y plazas adyacentesMontaje: Pendiente de confirmación turnos de montaje \nInformación e inscripciones:Mail: lafragua@espectaculosamb.com \nInformación del Organizador\nLa empresa organizadora es LA FRAGUA DE VULCANO \nComo participarInformación e Inscripciones:lafragua@espectaculosamb.com \nMás fechas de Puedes conocer mas ferias y mercados en está provincia\, consultando nuestra sección de Eventos de León \nOtros eventos del organizadorConsulta Aquí otras ferias y mercados que organizará la empresa La Fragua de Vulcano \n[embedyt] https://www.youtube.com/watch?v=pN8nPGklHRQ[/embedyt] \nAcerca de León\nLeón\, capital de la provincia de León\, es una ciudad del noroeste de España situada junto al río Bernesga. La ciudad alberga muchas iglesias y catedrales que destacan por su arquitectura y arte. Entre ellas se encuentra la catedral de León\, de estilo gótico\, que data del siglo XIII y destaca por sus torres y arbotantes. La basílica románica de San Isidoro\, del siglo X\, es conocida por sus frescos y tumbas reales. \n \nCalendario 2024\nSobre los Mercados Medievales\nLas ferias medievales son eventos que recrean la atmósfera de la Edad Media. Por lo general\, se llevan a cabo en pueblos o ciudades\, y presentan puestos de vendedores que venden artesanías\, alimentos y bebidas. También puede haber entretenimiento\, como justas\, música y baile. \nCASTILLA Y LEON\, convocatoria\, España\, feria medieval\, MERCADO MEDIEVAL DE LAS TRES CULTURAS
URL:https://demercadosmedievales.info/mercadomedieval/mercado-medieval-de-las-tres-culturas-de-leon-2024/
LOCATION:León capital ( León ) (***)\, centro histórico\, León\, León\, España
CATEGORIES:Cartel,León,Mercado Medieval,Programación
ATTACH;FMTTYPE=image/jpeg:https://demercadosmedievales.info/wp-content/uploads/2024/07/mercado-tres-culturas-leon-f.jpg
ORGANIZER;CN="La Fragua de Vulcano":MAILTO:lafragua@espectaculosamb.com
GEO:21.1250077;-101.6859605
X-APPLE-STRUCTURED-LOCATION;VALUE=URI;X-ADDRESS=León capital ( León ) (***) centro histórico León León España;X-APPLE-RADIUS=500;X-TITLE=centro histórico:geo:-101.6859605,21.1250077
END:VEVENT
BEGIN:VEVENT
DTSTART;TZID=Europe/Madrid:20240912T000000
DTEND;TZID=Europe/Madrid:20240915T235959
DTSTAMP:20260420T060447
CREATED:20240823T085918Z
LAST-MODIFIED:20240911T053929Z
UID:10001644-1726099200-1726444799@demercadosmedievales.info
SUMMARY:Mercado Medieval De Las Tres Culturas de Salamanca 2024
DESCRIPTION:¡Se abre la convocatoria para participar en el Mercado que tendrá lugar del 27 de febrero al 2 de marzo en la Plaza de La Hípica del barrio Zaidín-Vergeles !  \n\n\n\n\n\n\nMERCADO MEDIEVAL DE LAS TRES CULTURAS\n\n\n\nFERIAS Y FIESTAS DE SEPTIEMBRE \n\n\n\nLa Vaguada de la Palma de la ciudad\, a orillas del río Tormes\, acogerá de nuevo este mercado que La Fragua de Vulcano tendrá el placer de organizar\, y que contará con amplio programa de actuaciones\, actividades\, talleres\, y una gran variedad de puestos participantes.\n\n\n\nAcércate a vivir el medievo con nosotros a la ciudad de Salamanca. Durante cuatro días la Vaguada de la Palma se impregna de la historia. Bufones\, saltimbanquis\, curiosos personajes de la época\, músicos y trovadores\, campamento medieval\, espectáculos infantiles… Todo ello y mucho más podrás encontrar en el Mercado Medieval de las 3 Culturas.Artesanos y mercaderes llegados de todos los rincones de nuestra península\, incluso de los países aledaños\, nos traen los más suculentos y divertidos productos jamás vistos. Artesanía\, productos de alimentación\, y para llegar el estómago… ¡Tabernas y puestos de restauración in situ! \n\n\n\nCartel  \n \n\n\n\n\n\nCartel de las Ferias y fiestas\n\n\n\n\n\n\n\nProgramación \n\n\n\nProximamente \n\n\n\n** Próximamente dispondremos del programa con las actividades previstas. \n\n\n\nInformación básica del Mercado\n\n\n\nFecha de celebraciónLos días 12 AL 15 DE SEPTIEMBRE del 2024 \n\n\n\nDonde se realiza \n\n\n\nEn la Vaguada de la Palma de la ciudad\, a orillas del río Tormes de la ciudad de Salamanca \, SALAMANCA \n\n\n\nInformación del Organizador\n\n\n\nLa empresa organizadora es LA FRAGUA DE VULCANO \n\n\n\nComo participarInformación e Inscripciones:lafragua@espectaculosamb.com \n\n\n\nMás fechasPuedes conocer mas ferias y mercados en está provincia\, consultando nuestra sección de Eventos en Salamanca \n\n\n\nOtros eventos. Consulta Aquí otras ferias y mercados que organizará la empresa La Fragua de Vulcano.  \n\n\n\notros mercados temáticos y FeriasSi quieres conocer cuando se realizan más ferias y mercados\, puedes consultarlos visitando nuestro  Calendario de Eventos \n\n\n\nAcerca de Salamanca\n\n\n\nSalamanca\, en el noroeste de España\, es la capital de la provincia de Salamanca\, parte de la región de Castilla y León. Su historia se remonta a la época celta y es conocida por su arquitectura ornamental de arenisca y la Universidad de Salamanca. Se fundó en el siglo XII y fue un centro intelectual clave en los siglos XV y XVI. La universidad sigue aportando a la vitalidad de la ciudad con su población de estudiantes internacionales. \n\n\n\nCalendario 2024\n\n\n\nSobre los Mercados Medievales\n\n\n\nLas ferias medievales son eventos que recrean la atmósfera de la Edad Media. Por lo general\, se llevan a cabo en pueblos o ciudades\, y presentan puestos de vendedores que venden artesanías\, alimentos y bebidas. También puede haber entretenimiento\, como justas\, música y baile. \n\n\n\n\n\n\n\nDetalles del organizador\n\n\n\n\n\nMapa de localización
URL:https://demercadosmedievales.info/mercadomedieval/mercado-medieval-de-las-tres-culturas-de-salamanca-2024/
LOCATION:Salamanca (***)\, Salamanca\, Salamanca\, España
CATEGORIES:Cartel,Mercado Medieval,Salamanca
ATTACH;FMTTYPE=image/jpeg:https://demercadosmedievales.info/wp-content/uploads/2024/08/medieval_salamanca-f.jpg
ORGANIZER;CN="La Fragua de Vulcano":MAILTO:lafragua@espectaculosamb.com
GEO:40.9652503;-5.6635682
END:VEVENT
END:VCALENDAR