BEGIN:VCALENDAR
VERSION:2.0
PRODID:-//Mercados Medievales - ECPv6.15.20//NONSGML v1.0//EN
CALSCALE:GREGORIAN
METHOD:PUBLISH
X-ORIGINAL-URL:https://demercadosmedievales.info
X-WR-CALDESC:Eventos para Mercados Medievales
REFRESH-INTERVAL;VALUE=DURATION:PT1H
X-Robots-Tag:noindex
X-PUBLISHED-TTL:PT1H
BEGIN:VTIMEZONE
TZID:Europe/Madrid
BEGIN:DAYLIGHT
TZOFFSETFROM:+0100
TZOFFSETTO:+0200
TZNAME:CEST
DTSTART:20250330T010000
END:DAYLIGHT
BEGIN:STANDARD
TZOFFSETFROM:+0200
TZOFFSETTO:+0100
TZNAME:CET
DTSTART:20251026T010000
END:STANDARD
BEGIN:DAYLIGHT
TZOFFSETFROM:+0100
TZOFFSETTO:+0200
TZNAME:CEST
DTSTART:20260329T010000
END:DAYLIGHT
BEGIN:STANDARD
TZOFFSETFROM:+0200
TZOFFSETTO:+0100
TZNAME:CET
DTSTART:20261025T010000
END:STANDARD
BEGIN:DAYLIGHT
TZOFFSETFROM:+0100
TZOFFSETTO:+0200
TZNAME:CEST
DTSTART:20270328T010000
END:DAYLIGHT
BEGIN:STANDARD
TZOFFSETFROM:+0200
TZOFFSETTO:+0100
TZNAME:CET
DTSTART:20271031T010000
END:STANDARD
END:VTIMEZONE
BEGIN:VEVENT
DTSTART;TZID=Europe/Madrid:20260619T000000
DTEND;TZID=Europe/Madrid:20260621T235959
DTSTAMP:20260421T005444
CREATED:20260310T124916Z
LAST-MODIFIED:20260310T175433Z
UID:10003295-1781827200-1782086399@demercadosmedievales.info
SUMMARY:Mercado Medieval de Las Alfonsadas 2026 en Calatayud (Zaragoza)
DESCRIPTION:El Mercado Medieval de Las Alfonsadas 2026 regresa del 19 al 21 de junio al centro histórico de Calatayud\, dentro de la XXI edición de Las Alfonsadas\, una celebración histórica declarada Fiesta de Interés Turístico de Aragón. \n\n\n\n\n\n\n\n \n\n\n\nÍndice Mercado Medieval de Las AlfonsadasHorario del Mercado Medieval de Las AlfonsadasInformación para artesanos y mercaderesComo llegar al Mercado Medieval de Las Alfonsadas🏰 Calatayud revive la historia de las Tres CulturasMercados Medievales 2026: Fechas y Localidades ConfirmadasPara más información puedes consultar :¿Te apuntas? Síguenos y no te pierdas de nada.En Resumen\n\n\n\n \n\n\n\nMercado Medieval de Las Alfonsadas\n\n\n\nEl Mercado Medieval de Las Alfonsadas es uno de los grandes eventos históricos de Aragón. Cada año convierte el centro histórico de Calatayud en un auténtico viaje al siglo XII. \n\n\n\nLa fiesta conmemora la conquista cristiana de Calatayud en 1120 por el rey Alfonso I el Batallador\, recreando el histórico encuentro de las Tres Culturas: cristiana\, islámica y judía. \n\n\n\nDeclarada Fiesta de Interés Turístico de Aragón\, Las Alfonsadas forman parte de la Asociación Española de Fiestas y Recreaciones Históricas y de la Confédération Européenne des Fêtes et Manifestations Historiques\, lo que la sitúa entre las recreaciones históricas más relevantes del país. \n\n\n\nEl mercado contará con una intensa programación cultural y de animación: \n\n\n\n⚔️ Animación teatral y musical🎭 Personajes y pasacalles🎪 Espectáculos\, acrobacias y títeres🐎 Animales y grandes escenas históricas🛠️ Talleres de oficios tradicionales🛍️ Artesanía\, alimentación y restauración🎠 Juegos y atracciones infantiles \n\n\n\nLa organización del mercado corre a cargo de la fragua de vulcano\, especialista en recreaciones históricas y eventos temáticos. \n\n\n\nDurante todo el fin de semana\, miles de visitantes recorrerán las calles medievales de la ciudad para disfrutar de una de las fiestas históricas más espectaculares de Aragón. \n\n\n\n \n\n\n\nHorario del Mercado Medieval de Las Alfonsadas\n\n\n\n\n📅 Viernes 19 de junio18:00 – 00:00\n\n\n\n📅 Sábado 20 de junio11:00 – 14:0017:00 – 23:00\n\n\n\n📅 Domingo 21 de junio11:00 – 14:0017:00 – 22:00\n\n\n\n\n \n\n\n\nInformación para artesanos y mercaderes\n\n\n\n\n📍 Lugar: Centro histórico de Calatayud\, ZARAGOZA\n\n\n\n📩 Información e inscripciones : 📧 gestion@espectculosamb.com\n\n\n\n🏰 Organiza : la fragua de vulcano\n\n\n\n\n \n\n\n\n\n\n\n\nComo llegar al Mercado Medieval de Las Alfonsadas\n\n\n\nEl evento se celebra en Calatayud\, una de las ciudades con más historia de Aragón\, situada en la provincia de Zaragoza. \n\n\n\nCon más de dos mil años de historia\, su casco histórico conserva un importante patrimonio mudéjar declarado Patrimonio de la Humanidad por la UNESCO y una gran tradición cultural que convierte a la ciudad en un destino turístico de referencia. \n\n\n\n\n\n\n\n🏰 Calatayud revive la historia de las Tres Culturas\n\n\n\n\n\n\n\n📍 Calatayud se encuentra a unos 90 km de Zaragoza. \n\n\n\n🚗 Acceso por la A-2 (Madrid – Zaragoza – Barcelona).🚆 Estación de tren con conexiones AVE y media distancia desde Madrid y Zaragoza. \n\n\n\n \n\n\n\n\n\n \n\n\n\nMercado Medieval de Las Alfonsadas 2026\n\n\n\n \n\n\n\nMercados Medievales 2026: Fechas y Localidades Confirmadas\n\n\n\n\n\n\n\nEspaña cuenta con una de las agendas de ferias temáticas más ricas del mundo\, combinando gastronomía tradicional\, artesanía de autor y espectáculos en vivo. Si buscas un plan diferente para el fin de semana o quieres conocer el patrimonio de una forma única\, esta es tu guía definitiva. Leer más \n\n\n\nPara más información puedes consultar :\n\n\n\n\nPuedes Consultar en esté enlace las  Ferias y Mercados en España\n\n\n\nHaz clic en ESTE enlace :  Conoce los Organizadores de Mercados y Ferias\n\n\n\n\n¿Te apuntas? Síguenos y no te pierdas de nada.\n\n\n\n\nTelegram\n\n\n\nNewsletter\n\n\n\nWhatsApp\n\n\n\nInstagram\n\n\n\nPor supuesto en Facebook\n\n\n\n\nEn Resumen
URL:https://demercadosmedievales.info/mercadomedieval/mercado-medieval-de-las-alfonsadas/
LOCATION:Calatayud  (Zaragoza) (***)\, Calatayud\, Zaragoza\, Spain
CATEGORIES:Aragon,Mercado Medieval,Zaragoza
ATTACH;FMTTYPE=image/jpeg:https://demercadosmedievales.info/wp-content/uploads/2026/03/medieval_calatayud_fb.jpg
ORGANIZER;CN="La Fragua de Vulcano":MAILTO:lafragua@espectaculosamb.com
GEO:41.3531678;-1.6468455
END:VEVENT
END:VCALENDAR