BEGIN:VCALENDAR
VERSION:2.0
PRODID:-//Mercados Medievales - ECPv6.15.20//NONSGML v1.0//EN
CALSCALE:GREGORIAN
METHOD:PUBLISH
X-WR-CALNAME:Mercados Medievales
X-ORIGINAL-URL:https://demercadosmedievales.info
X-WR-CALDESC:Eventos para Mercados Medievales
REFRESH-INTERVAL;VALUE=DURATION:PT1H
X-Robots-Tag:noindex
X-PUBLISHED-TTL:PT1H
BEGIN:VTIMEZONE
TZID:Europe/Madrid
BEGIN:DAYLIGHT
TZOFFSETFROM:+0100
TZOFFSETTO:+0200
TZNAME:CEST
DTSTART:20230326T010000
END:DAYLIGHT
BEGIN:STANDARD
TZOFFSETFROM:+0200
TZOFFSETTO:+0100
TZNAME:CET
DTSTART:20231029T010000
END:STANDARD
BEGIN:DAYLIGHT
TZOFFSETFROM:+0100
TZOFFSETTO:+0200
TZNAME:CEST
DTSTART:20240331T010000
END:DAYLIGHT
BEGIN:STANDARD
TZOFFSETFROM:+0200
TZOFFSETTO:+0100
TZNAME:CET
DTSTART:20241027T010000
END:STANDARD
BEGIN:DAYLIGHT
TZOFFSETFROM:+0100
TZOFFSETTO:+0200
TZNAME:CEST
DTSTART:20250330T010000
END:DAYLIGHT
BEGIN:STANDARD
TZOFFSETFROM:+0200
TZOFFSETTO:+0100
TZNAME:CET
DTSTART:20251026T010000
END:STANDARD
BEGIN:DAYLIGHT
TZOFFSETFROM:+0100
TZOFFSETTO:+0200
TZNAME:CEST
DTSTART:20260329T010000
END:DAYLIGHT
BEGIN:STANDARD
TZOFFSETFROM:+0200
TZOFFSETTO:+0100
TZNAME:CET
DTSTART:20261025T010000
END:STANDARD
BEGIN:DAYLIGHT
TZOFFSETFROM:+0100
TZOFFSETTO:+0200
TZNAME:CEST
DTSTART:20270328T010000
END:DAYLIGHT
BEGIN:STANDARD
TZOFFSETFROM:+0200
TZOFFSETTO:+0100
TZNAME:CET
DTSTART:20271031T010000
END:STANDARD
END:VTIMEZONE
BEGIN:VEVENT
DTSTART;VALUE=DATE:20240517
DTEND;VALUE=DATE:20240520
DTSTAMP:20260420T074556
CREATED:20240311T173823Z
LAST-MODIFIED:20240503T191808Z
UID:10001019-1715904000-1716163199@demercadosmedievales.info
SUMMARY:MERCADO MEDIEVAL DE LA SOLANA (CIUDAD REAL) 2024
DESCRIPTION:Lamentamos informar que se ha aplazado el Mercado Medieval de La Solana\, por causas ajenas a la empresa organizadora. También nos comentan que pronto informaran de la nueva fecha. \nMERCADO MEDIEVAL en la plaza del Ayuntamiento de LA SOLANA. Inscripciones abiertas para artesanía y alimentación así como también para gastronomía y complementos. \n Detalles del MERCADO MEDIEVAL\n \nCuando se celebra ?\n Los dias 17 AL 19 DE MAYO  del  2024\nEn que localidad y provincia ?\nLA SOLANA provincia de  CIUDAD REAL\n.\nCual será la ubicación ? \n.Plaza del Ayuntamiento\nConsulta AQUI los próximos mercados y ferias de la provincia  CIUDAD REAL\nPara conocer la fecha de más mercados y ferias temáticas \, AQUÍ\n. \n Descripción del MERCADO MEDIEVAL\nMERCADO MEDIEVAL en la plaza del Ayuntamiento de LA SOLANA\, contará con animación\, espectáculos \, decoración medieval. etc. \nDia y hora de Montaje :   en la mañana del 03 de mayo \n Fecha y hora de Inauguración :  en la tarde del 03 de mayo \n Precio \nPara conocer el coste del metro lineal tienes que ponerte en contacto con el organizador. \n Quién lo organiza ?  La empresa MERCADOS ARLEKIN es la encargada de la organización y gestión de paradas/puestos de venta.\n Como participar ? Ponte en contacto con el organizador para conocer los requisitos de participación y solicitar tu participación:\nLos interesados pueden llamar a los teléfonos : 677538351  o   628100548\no también puedes escribir al email: mercadosarlekin@gmail.com\nEl organizador proveerá de los siguientes servicios para los artesanos : \n\nLUZ\nAGUA\nPUBLICIDAD\nVIGILANCIA DISUASORIA\n\n Acerca de LA SOLANA\nLa Solana es un municipio español de la provincia de Ciudad Real\, en la comunidad autónoma de Castilla-La Mancha. Tiene una población de 15.242 habitantes. \n  \n\nCalendario de Mercado Medieval y Ferias 2024 :\n\n\nEnero\nFebrero\nMarzo\nAbril\nMayo\nJunio\nJulio\nAgosto\nSeptiembre\nOctubre\nNoviembre\nDiciembre\n\n Las Ferias y mercados medievales\n\n\nLas ferias medievales son eventos que recrean la atmósfera de la Edad Media. Por lo general\, se llevan a cabo en pueblos o ciudades\, y presentan puestos de vendedores que venden artesanías\, alimentos y bebidas. También puede haber entretenimiento\, como justas\, música y baile. . \nLos Mercados  Medievales son una forma popular de aprender sobre la historia de la Edad Media y experimentar la cultura de la época. También son una actividad divertida para toda la familia. \n\nmercado medieval\, feria medieval\, MERCADO MEDIEVAL DE LA SOLANA\, la solana\, ciudad real\, 2024\, plazo\, inscripcion\, convocatoria\,
URL:https://demercadosmedievales.info/mercadomedieval/mercado-medieval-de-la-solana-ciudad-real-2024/
LOCATION:La Solana (Ciudad Real) (***)\, La Solana\, Ciudad Real\, España
CATEGORIES:Ciudad Real,Mercado Medieval,Suspendido / Cancelado
ATTACH;FMTTYPE=image/jpeg:https://demercadosmedievales.info/wp-content/uploads/2024/03/medieval_la_solana_2024_f-1.jpg
ORGANIZER;CN="Mercados Arlekin":MAILTO:mercadosarlekin@gmail.com
GEO:38.9416013;-3.2392014
END:VEVENT
BEGIN:VEVENT
DTSTART;TZID=Europe/Madrid:20250314T000000
DTEND;TZID=Europe/Madrid:20250316T235959
DTSTAMP:20260420T074556
CREATED:20250206T183141Z
LAST-MODIFIED:20250228T195135Z
UID:10002183-1741910400-1742169599@demercadosmedievales.info
SUMMARY:03/2025 Mercado Medieval de La Solana (Ciudad Real)
DESCRIPTION:MERCADO MEDIEVAL LA SOLANA 2025  Del 14 al 16 de marzo en Plaza Mayor. Artesanía\, gastronomía y espectáculos. ¡Inscripciones hasta completar cupo! \n\n\n\n\n\n\n\nMercado de Temática Medieval\n\n\n\n \n\n\n\n\n\n\n\nInformación del evento\n\n\n\n\nFecha: 14 al 16 de Marzo  de  2025 \n\n\n\nPlazo de inscripción : completar el cupo de paradas\n\n\n\nLugar: Plaza Mayor\n\n\n\nPoblación: La Solana (  CIUDAD REAL  )  La Solana es un municipio español de la provincia de Ciudad Real\, en la comunidad autónoma de Castilla-La Mancha. Tiene una población de 15.242 habitantes.\n\n\n\nOferta a exponer:    Alimentación\, Gastronomía\, Artesanía y complementos.\n\n\n\nSerá inaugurado  : El día 14 de Marzo por la tarde\n\n\n\nRequisitos : Documentación en regla\, Parada de Madera decorada y ambientada en la época Medieval.\n\n\n\nServicios que proporcionara el organizador: Agua\,Luz y Vigilancia Nocturna\n\n\n\nEntidad organizadora: LANCELOT MEDIEVAL\n\n\n\n\n \n\n\n\n \n\n\n\nInscripcionesEl plazo para inscribirse como expositor en el mercado estará abierto hasta completar el cupo de paradas \n\n\n\nInformación del organizador :\n\n\n\nLa organización y decoración de este evento están a cargo de LANCELOT MEDIEVAL. Para más detalles sobre el proceso de inscripción\, tarifas y requisitos específicos\, contacta a través de: \n\n\n\n\nCorreo electrónico : info@lancelotmedieval.com\n\n\n\nTeléfono / WhatsApp : 607 677 701\n\n\n\nPersonas de contacto : Gema / Manuel\n\n\n\nInstagram : https://www.instagram.com/lancelot.medieval.eventos/\n\n\n\nWeb : http://www.lancelotmedieval.com/es/\n\n\n\nDescubre las próximas ferias y mercados en su agenda:  Lancelot Medieval – Agenda\n\n\n\n\n\n\n\n\n \n\n\n\nAcerca de .. La Solana\, Ciudad Real\n\n\n\nLa Solana es un municipio español de la provincia de Ciudad Real\, en la comunidad autónoma de Castilla-La Mancha. Tiene una población de 15 225 habitantes. \n\n\n\n\n\n \n\n\n\n\n\n\n\n \n\n\n\n\n\n\n\nDe tu interés :\n\n\n\n\nEventos de LA PROVINCIA DE CIUDAD REAL\n\n\n\nCalendario de Mercados Medievales en Marzo\n\n\n\nFerias y Mercados en España\n\n\n\nOrganizadores de Mercados y Ferias\n\n\n\n\n\nVisita nuestro Calendario de Eventos para obtener detalles de: Calendario 2025: Planifica con anticipación y no te pierdas ninguna cita.\n\n\n\n\n\nLas ferias medievales son auténticos viajes en el tiempo. Estos eventos recrean la atmósfera de la Edad Media. Leer más…\n\n\n\n\n\n\n\n\n \n\n\n\nSiguenos….\n\n\n\n\nTelegram: Recibe nuestras noticias y contenido exclusivo (clic aquí).\n\n\n\nNewsletter: Recibe un correos con nuestras últimas noticias (clic aquí).\n\n\n\nWhatsApp: Suscríbete para seguirnos en nuestro canal  (clic aquí).\n\n\n\nInstagram:  Síguenos en Instagram ( clic aquí )\n\n\n\n\n \n\n\n\n\n\n\n\n\n\n\n\nMercadosmedievales.net
URL:https://demercadosmedievales.info/mercadomedieval/03-2025-mercado-medieval-de-la-solana-ciudad-real/
LOCATION:La Solana (Ciudad Real) (***)\, La Solana\, Ciudad Real\, España
CATEGORIES:Castilla La Mancha,Ciudad Real
ATTACH;FMTTYPE=image/jpeg:https://demercadosmedievales.info/wp-content/uploads/2025/02/1200-mercado-medieval-la-solana.jpg
ORGANIZER;CN="Lancelot medieval":MAILTO:info@lancelotmedieval.com
GEO:38.9416013;-3.2392014
END:VEVENT
BEGIN:VEVENT
DTSTART;TZID=Europe/Madrid:20260417T000000
DTEND;TZID=Europe/Madrid:20260419T235959
DTSTAMP:20260420T074556
CREATED:20260212T142421Z
LAST-MODIFIED:20260324T190127Z
UID:10003148-1776384000-1776643199@demercadosmedievales.info
SUMMARY:Gran Mercado Medieval de La Solana 2026 (Ciudad Real)
DESCRIPTION:El Mercado Medieval de La Solana regresa con puestos ambientados\, animación\, atracciones y servicios completos en pleno centro del municipio. \n\n\n\n\n\n\n\n \n\n\n\n \n\n\n\nÍndice La Solana vuelve al Medievo: historia\, tradición y diversiónInformación básica del Mercado Medieval de La SolanaCartel de  Mercado Medieval de La SolanaLa Solana\, tradición y vida en el corazón de La ManchaMercados Medievales 2026: Fechas y Localidades ConfirmadasPara más información puedes consultar :¿Te apuntas? Síguenos y no te pierdas de nada.En Resumen…\n\n\n\n \n\n\n\nLa Solana vuelve al Medievo: historia\, tradición y diversión\n\n\n\nEl Gran Mercado Medieval de La Solana se consolida como una de las citas anuales más esperadas en la localidad. Durante tres días\, la Plaza Mayor se transforma en un auténtico escenario medieval\, donde cada rincón invita a pasear y descubrir. \n\n\n\nLos visitantes podrán disfrutar de puestos de artesanía y alimentación\, todos ellos con cuidada ambientación medieval\, además de animación\, atracciones y espectáculos pensados para todos los públicos. \n\n\n\n \n\n\n\n \n\n\n\nInformación básica del Mercado Medieval de La Solana\n\n\n\n\nEvento: Gran Mercado Medieval de La Solana\n\n\n\nFechas: 17\, 18 y 19 de abril de 2026\n\n\n\nMontaje: 17 de abril a las 9:00 h\n\n\n\nUbicación: Plaza Mayor\n\n\n\nLocalidad: La Solana ( CIUDAD REAL )\n\n\n\nPeriodicidad: Anual\n\n\n\nContenido: Mercado medieval\, animación y atracciones\n\n\n\nRequisitos para expositores \n\nPuestos con ambientación medieval (estructura de madera o decoración acorde).\n\n\n\nDocumentación en regla: autónomos\, Seguridad Social y\, si procede\, carné de manipulación de alimentos.\n\n\n\n\n\nServicios ofrecidos por la organización :\n\nLuz\n\n\n\nAgua\n\n\n\nPublicidad\n\n\n\nVigilancia disuasoria\n\n\n\nAnimación y atracciones\n\n\n\n\n\nEntidad organizadora: Lancelot Medieval\n\nContacto: Manuel\n\n\n\nTeléfono / WhatsApp: 607 677 701\n\n\n\nCorreo electrónico: info@lancelotmedieval.com\n\n\n\n\n\n\n \n\n\n\n \n\n\n\nCartel de  Mercado Medieval de La Solana\n\n\n\n\n\n\n\n \n\n\n\n \n\n\n\nLa Solana\, tradición y vida en el corazón de La Mancha\n\n\n\nLa Solana es un municipio de Ciudad Real\, conocido por su tradición cultural\, su ambiente festivo y su importante actividad social a lo largo del año. La Solana cuenta con buenos accesos por carretera desde Ciudad Real y otras localidades manchegas\, lo que facilita la llegada de visitantes. \n\n\n\n\n\n \n\n\n\n\n\n\n\n \n\n\n\nMercados Medievales 2026: Fechas y Localidades Confirmadas\n\n\n\n\n\n\n\nEspaña cuenta con una de las agendas de ferias temáticas más ricas del mundo\, combinando gastronomía tradicional\, artesanía de autor y espectáculos en vivo. Si buscas un plan diferente para el fin de semana o quieres conocer el patrimonio de una forma única\, esta es tu guía definitiva. Leer más \n\n\n\nPara más información puedes consultar :\n\n\n\n\nPuedes Consultar en esté enlace las  Ferias y Mercados en España\n\n\n\nHaz clic en ESTE enlace :  Conoce los Organizadores de Mercados y Ferias\n\n\n\n\n¿Te apuntas? Síguenos y no te pierdas de nada.\n\n\n\n\nTelegram\n\n\n\nNewsletter\n\n\n\nWhatsApp\n\n\n\nInstagram\n\n\n\nPor supuesto en Facebook\n\n\n\n\nEn Resumen…
URL:https://demercadosmedievales.info/mercadomedieval/gran-mercado-medieval-de-la-solana-2026-ciudad-real/
LOCATION:La Solana (Ciudad Real) (***)\, La Solana\, Ciudad Real\, España
CATEGORIES:Cartel,Castilla La Mancha,Ciudad Real,Mercado Medieval
ATTACH;FMTTYPE=image/jpeg:https://demercadosmedievales.info/wp-content/uploads/2026/01/medieval_solana_fb.jpg
ORGANIZER;CN="Lancelot medieval":MAILTO:info@lancelotmedieval.com
GEO:38.9416013;-3.2392014
END:VEVENT
END:VCALENDAR