BEGIN:VCALENDAR
VERSION:2.0
PRODID:-//Mercados Medievales - ECPv6.15.20//NONSGML v1.0//EN
CALSCALE:GREGORIAN
METHOD:PUBLISH
X-WR-CALNAME:Mercados Medievales
X-ORIGINAL-URL:https://demercadosmedievales.info
X-WR-CALDESC:Eventos para Mercados Medievales
REFRESH-INTERVAL;VALUE=DURATION:PT1H
X-Robots-Tag:noindex
X-PUBLISHED-TTL:PT1H
BEGIN:VTIMEZONE
TZID:Europe/Madrid
BEGIN:DAYLIGHT
TZOFFSETFROM:+0100
TZOFFSETTO:+0200
TZNAME:CEST
DTSTART:20230326T010000
END:DAYLIGHT
BEGIN:STANDARD
TZOFFSETFROM:+0200
TZOFFSETTO:+0100
TZNAME:CET
DTSTART:20231029T010000
END:STANDARD
BEGIN:DAYLIGHT
TZOFFSETFROM:+0100
TZOFFSETTO:+0200
TZNAME:CEST
DTSTART:20240331T010000
END:DAYLIGHT
BEGIN:STANDARD
TZOFFSETFROM:+0200
TZOFFSETTO:+0100
TZNAME:CET
DTSTART:20241027T010000
END:STANDARD
BEGIN:DAYLIGHT
TZOFFSETFROM:+0100
TZOFFSETTO:+0200
TZNAME:CEST
DTSTART:20250330T010000
END:DAYLIGHT
BEGIN:STANDARD
TZOFFSETFROM:+0200
TZOFFSETTO:+0100
TZNAME:CET
DTSTART:20251026T010000
END:STANDARD
END:VTIMEZONE
BEGIN:VEVENT
DTSTART;TZID=Europe/Madrid:20240705T000000
DTEND;TZID=Europe/Madrid:20240707T235959
DTSTAMP:20260420T003144
CREATED:20240321T081151Z
LAST-MODIFIED:20240625T072852Z
UID:10001060-1720137600-1720396799@demercadosmedievales.info
SUMMARY:MERCADO MEDIEVAL DE LA POBLA DE FARNALS \, VALENCIA 2024
DESCRIPTION:MERCADO MEDIEVAL en la plaza de las Cortes Valencianas de LA POBLA DE FARNALS\, los días 05 al 07 de Julio\, es organizado por EL TROVADOR. \n \nMERCADO MEDIEVAL DE LA POBLA DE FARNALS\n \n  \n Detalles\nCuando se celebra ?\n Los días 05 AL 07 DE JULIO del  2024\nEn que localidad y provincia ?\nEn el municipio de LA POBLA DE FARNALS provincia de  VALENCIA. \nCual será la ubicación ? \n. En plaza de las Cortes Valencianas de LA POBLA DE FARNALS.\nPara conocer la fecha de más mercados y ferias temáticas \, AQUÍ \n Descripción del MERCADO MEDIEVAL\nDia y hora de Montaje :\n. El día 05 de JULIO por la mañana.\n Fecha y hora de Inauguración\n. Se inaugurara en la tarde del 05 DE JULIO\n Precio \nPara conocer el coste del metro lineal tienes que ponerte en contacto con el organizador. \n Quién organiza EL EVENTO? La empresa EL TROVADOR es la encargada de la organización y gestión de paradas/puestos de venta.\n.\nComo participar ? Ponte en contacto con el organizador para conocer los requisitos de participación y solicitar tu participación.\nA Continuación Te Los Facilitamos :\n. Poniéndote en contacto con el organizador EL TROVADOR\nTeléfono y WhatsApp : 675 190 524 \nEl organizador proveerá de los siguientes servicios para los artesanos : \n\nLUZ\nAGUA\nPUBLICIDAD\nVIGILANCIA DISUASORIA\n\n Acerca de LA POBLA DE FARNALS\nLa Pobla de Farnals es un municipio situado en la comarca de Horta Nord\, en la provincia de Valencia de España. Está situado en la costa mediterránea\, justo al norte de la ciudad de Valencia. \nLa localidad tiene una población de alrededor de 8.000 habitantes y es conocida por sus hermosas playas\, su gastronomía tradicional y su proximidad a Valencia. \n\nCalendario de Mercados Medievales y Ferias temáticas 2024 :\n\n\nEnero\nFebrero\nMarzo\nAbril\nMayo\nJunio\nJulio\nAgosto\nSeptiembre\nOctubre\nNoviembre\nDiciembre\n\n Las Ferias y mercados medievales\n\n\nLas ferias medievales son eventos que recrean la atmósfera de la Edad Media. Por lo general\, se llevan a cabo en pueblos o ciudades\, y presentan puestos de vendedores que venden artesanías\, alimentos y bebidas. También puede haber entretenimiento\, como justas\, música y baile. . \nLos Mercados  Medievales son una forma popular de aprender sobre la historia de la Edad Media y experimentar la cultura de la época. También son una actividad divertida para toda la familia.
URL:https://demercadosmedievales.info/mercadomedieval/mercado-medieval-de-la-pobla-de-farnals-valencia-2024/
LOCATION:La Pobla de Farnals ( Valencia ) (***)\, La Pobla de Farnals\, Valencia\, España
CATEGORIES:Cartel,Mercado Medieval,Mercados tematicos,Valencia
ATTACH;FMTTYPE=image/jpeg:https://demercadosmedievales.info/wp-content/uploads/2024/03/medieval_pobla_de_farnals_f.jpg
GEO:39.5788524;-0.3266554
END:VEVENT
END:VCALENDAR