BEGIN:VCALENDAR
VERSION:2.0
PRODID:-//Mercados Medievales - ECPv6.15.20//NONSGML v1.0//EN
CALSCALE:GREGORIAN
METHOD:PUBLISH
X-WR-CALNAME:Mercados Medievales
X-ORIGINAL-URL:https://demercadosmedievales.info
X-WR-CALDESC:Eventos para Mercados Medievales
REFRESH-INTERVAL;VALUE=DURATION:PT1H
X-Robots-Tag:noindex
X-PUBLISHED-TTL:PT1H
BEGIN:VTIMEZONE
TZID:Europe/Madrid
BEGIN:DAYLIGHT
TZOFFSETFROM:+0100
TZOFFSETTO:+0200
TZNAME:CEST
DTSTART:20250330T010000
END:DAYLIGHT
BEGIN:STANDARD
TZOFFSETFROM:+0200
TZOFFSETTO:+0100
TZNAME:CET
DTSTART:20251026T010000
END:STANDARD
BEGIN:DAYLIGHT
TZOFFSETFROM:+0100
TZOFFSETTO:+0200
TZNAME:CEST
DTSTART:20260329T010000
END:DAYLIGHT
BEGIN:STANDARD
TZOFFSETFROM:+0200
TZOFFSETTO:+0100
TZNAME:CET
DTSTART:20261025T010000
END:STANDARD
BEGIN:DAYLIGHT
TZOFFSETFROM:+0100
TZOFFSETTO:+0200
TZNAME:CEST
DTSTART:20270328T010000
END:DAYLIGHT
BEGIN:STANDARD
TZOFFSETFROM:+0200
TZOFFSETTO:+0100
TZNAME:CET
DTSTART:20271031T010000
END:STANDARD
END:VTIMEZONE
BEGIN:VEVENT
DTSTART;TZID=Europe/Madrid:20260430T000000
DTEND;TZID=Europe/Madrid:20260503T235959
DTSTAMP:20260425T171656
CREATED:20260130T104806Z
LAST-MODIFIED:20260130T105605Z
UID:10003179-1777507200-1777852799@demercadosmedievales.info
SUMMARY:Mercado Medieval de Cofrentes 2026 Valencia
DESCRIPTION:El Mercado Medieval de Cofrentes regresa coincidiendo con las Fiestas Patronales de la Maderada\, un evento de gran atractivo turístico y cultural\, en pleno puente del 1 de mayo. \n\n\n\n\n\n\n\n \n\n\n\n \n\n\n\nMercado Medieval de Cofrentes\n\n\n\nDEL 30 DE ABRIL AL 3 DE MAYO DE 2026 \n\n\n\n¡CON UN GRAN TORNEO MEDIEVAL DE ACCESO GRATUITO! \n\n\n\nEL MERCADO MEDIEVAL DE COFRENTES COINCIDE CON LAS FIESTAS PATRONALES DE LA MADERADA DE COFRENTES\, UN REFERENTE A NIVEL TURÍSTICO QUE HA SIDO DECLARADO PATRIMONIO CULTURAL INMATERIAL DE LA HUMANIDAD DE LA UNESCO Y ATRAE A MUCHOS ESPECTADORES DURANTE ESOS DÍAS. \n\n\n\nADEMÁS\, COINCIDE CON EL PUENTE QUE SE INICIA EL 30 DE ABRIL\, COGIENDO EL DÍA DEL TRABAJADOR Y FESTIVO NACIONAL. \n\n\n\nTRAEMOS\, ADEMÁS\, ¡UN TORNEO MEDIEVAL GRAN FORMATO CON 6 CABALLOS Y MÁS DE 15 PERSONAS EN ESCENA! \n\n\n\nNUESTRA EMPRESA DISPONDRÁ ADEMÁS DE UN AMPLIO ABANICO DE ACTIVIDADES CON MÚSICOS\, ACTORES\, ZANCUDOS\, BAILARINAS\, DECORACIÓN DE CALLES\, RINCÓN INFANTIL\, TEATRO DE MARIONETAS\, ANIMACIÓN DE CALLES\, CAMPAMENTOS DE SOLDADOS\, ESPECIALISTAS DE COMBATE\, EXPOSICIONES DE TORTURAS\, CABALLERÍA\, ETC. \n\n\n\nEN RESUMEN\, UN TIMING CON MÁS DE 150 ESPECTÁCULOS DIFERENTES DURANTE LOS 4 DÍAS DE DURACIÓN. \n\n\n\nAPARTE\, EL AYUNTAMIENTO ORGANIZA MUCHAS ACTIVIDADES PARA CELEBRAR LA MADERADA COMO MACROMASCLETÁS\, GRUPOS MUSICALES U ORQUESTAS. \n\n\n\n              TAMBIÉN REALIZAREMOS UNA CAMPAÑA PUBLICITARIA POTENTE PARA DAR VISIBILIDAD AL EVENTO EN RRSS\, MEDIOS DIGITALES\, RADIOS\, TELEVISIÓN\, ETC. \n\n\n\nY CONTRATAREMOS UNA EMPRESA DE SEGURIDAD NOCTURNA PROFESIONAL. \n\n\n\nDATOS DEL EVENTO: Mercado Medieval de Cofrentes\n\n\n\nLOCALIDAD: COFRENTES (VALENCIA) \n\n\n\nLUGAR DE MONTAJE: DESDE LA PLAZA VALLE\, HASTA LAS FALDAS DEL CASTILLO (PLENO CENTRO DE LAS FIESTAS) \n\n\n\nHORARIO DE MERCADO: JUEVES\, VIERNES\, SÁBADO Y DOMINGO DE 11H00 A 22H00 \n\n\n\nMONTAJE: ENTRE MIÉRCOLES 29 DE ABRIL Y JUEVES 30 DE ABRIL\, A CONCRETAR \n\n\n\n¿QUÉ DEBO HACER PARA PARTICIPAR EN ESTE EVENTO? \n\n\n\nPara tramitar y valorar vuestra solicitud\, debéis enviar un email a mercados@culthisme.com con la siguiente información (NO SE ATENDERÁN SOLICITUDES A LAS QUE LES FALTE CUALQUIERA DE ESTOS APARTADOS): \n\n\n\n– NOMBRE\, APELLIDOS Y TELÉFONO DE CONTACTO \n\n\n\n– FOTOS DE LA PARADA (QUE SE VEA LA PARADA ENTERA Y EL PRODUCTO) \n\n\n\n– BREVE DESCRIPCIÓN DE LOS PRODUCTOS QUE VENDÉIS \n\n\n\n– CANTIDAD DE METROS QUE OCUPA LA PARADA (METROS LINEALES Y DE FONDO) \n\n\n\nOs recordamos que nos comprometemos siempre a dar respuesta a todas las solicitudes\, tanto si podemos como si no podemos daros cabida. Recibimos muchas solicitudes a lo largo del año y a veces nos demoramos un poco en dar respuesta. Rogamos tengáis paciencia. Muchas gracias de antemano por vuestra comprensión. \n\n\n\nNo olvidéis haceros seguidores de nuestras páginas de Facebook e Instagram CULTHISME para estar informados de todo lo relativo al evento (cartel\, horarios\, campaña publicitaria\, etc.) y poder darle difusión a través de vuestras redes sociales. \n\n\n\nSin otro particular\, quedando a la espera de vuestras noticias\, un afectuoso saludo. \n\n\n\nMercado Medieval de Cofrentes\n\n\n\n \n\n\n\nCofrentes: Donde los ríos se encuentran y la historia cobra vida\n\n\n\nCofrentes es el destino donde la historia y el agua se abrazan. Famoso por su castillo sobre roca volcánica y su balneario de aguas termales\, es un paraíso para los amantes del turismo activo. Ofrece desde cruceros fluviales por el Júcar hasta rutas de senderismo por el volcán de Agras\, convirtiéndose en un enclave estratégico para desconectar y vivir la naturaleza en estado puro. \n\n\n\n\n\nTorneo del Mercado Medieval de Cofrentes\n\n\n\n \n\n\n\nMercados Medievales 2026: Fechas y Localidades Confirmadas\n\n\n\n\n\n\n\nEspaña cuenta con una de las agendas de ferias temáticas más ricas del mundo\, combinando gastronomía tradicional\, artesanía de autor y espectáculos en vivo. Si buscas un plan diferente para el fin de semana o quieres conocer el patrimonio de una forma única\, esta es tu guía definitiva. Leer más \n\n\n\nPara más información puedes consultar :\n\n\n\n\nPuedes Consultar en esté enlace las  Ferias y Mercados en España\n\n\n\nHaz clic en ESTE enlace :  Conoce los Organizadores de Mercados y Ferias\n\n\n\n\n¿Te apuntas? Síguenos y no te pierdas de nada.\n\n\n\n\nTelegram\n\n\n\nNewsletter\n\n\n\nWhatsApp\n\n\n\nInstagram\n\n\n\nPor supuesto en Facebook\n\n\n\n\nEn Resumen….
URL:https://demercadosmedievales.info/mercadomedieval/mercado-medieval-de-cofrentes-2026-valencia/
LOCATION:Cofrentes (Valencia) (***)\, Cofrentes\, Valencia\, España
CATEGORIES:Comunidad valenciana,Mercado Medieval,Valencia
ATTACH;FMTTYPE=image/jpeg:https://demercadosmedievales.info/wp-content/uploads/2026/01/medieval_cofrentes_2026_fb.jpg
ORGANIZER;CN="Culthisme":MAILTO:mercados@culthisme.com
GEO:39.229485;-1.0616065
END:VEVENT
END:VCALENDAR