BEGIN:VCALENDAR
VERSION:2.0
PRODID:-//Mercados Medievales - ECPv6.15.20//NONSGML v1.0//EN
CALSCALE:GREGORIAN
METHOD:PUBLISH
X-ORIGINAL-URL:https://demercadosmedievales.info
X-WR-CALDESC:Eventos para Mercados Medievales
REFRESH-INTERVAL;VALUE=DURATION:PT1H
X-Robots-Tag:noindex
X-PUBLISHED-TTL:PT1H
BEGIN:VTIMEZONE
TZID:Europe/Madrid
BEGIN:DAYLIGHT
TZOFFSETFROM:+0100
TZOFFSETTO:+0200
TZNAME:CEST
DTSTART:20250330T010000
END:DAYLIGHT
BEGIN:STANDARD
TZOFFSETFROM:+0200
TZOFFSETTO:+0100
TZNAME:CET
DTSTART:20251026T010000
END:STANDARD
BEGIN:DAYLIGHT
TZOFFSETFROM:+0100
TZOFFSETTO:+0200
TZNAME:CEST
DTSTART:20260329T010000
END:DAYLIGHT
BEGIN:STANDARD
TZOFFSETFROM:+0200
TZOFFSETTO:+0100
TZNAME:CET
DTSTART:20261025T010000
END:STANDARD
BEGIN:DAYLIGHT
TZOFFSETFROM:+0100
TZOFFSETTO:+0200
TZNAME:CEST
DTSTART:20270328T010000
END:DAYLIGHT
BEGIN:STANDARD
TZOFFSETFROM:+0200
TZOFFSETTO:+0100
TZNAME:CET
DTSTART:20271031T010000
END:STANDARD
END:VTIMEZONE
BEGIN:VEVENT
DTSTART;TZID=Europe/Madrid:20260605T110000
DTEND;TZID=Europe/Madrid:20260607T230000
DTSTAMP:20260425T215636
CREATED:20260424T075706Z
LAST-MODIFIED:20260424T194231Z
UID:10003433-1780657200-1780873200@demercadosmedievales.info
SUMMARY:Nuevo! Mercado Medieval de Calasparra 2026 / Cartel y horarios
DESCRIPTION:El Mercado Medieval de Calasparra será los días 05 al 07 de Junio del 2026 en la Plaza de la Corredera y aledaños de Calasparra. El horario será de tarde-noche\, de 18h a las 24h. \n\n\n\n\n\n\n\n \n\n\n\nAccesos rápidos a la información Mercado Medieval de Calasparra 2026ℹ Informaciónℹ Cartel anunciadorℹ Información para artesanos / mercaderesℹ Como llegar🕵️‍♂️ Redes sociales \n\n\n\n \n\n\n\n\n\n\n\n¿Eres artesano o amante de las ferias temáticas? > Descubre el mayor calendario de mercados medievales 2026. Síguenos en nuestro Instagram oficial o conecta con nosotros vía WhatsApp para recibir novedades sobre plazos de inscripción y fechas de eventos. No olvides suscribirte a nuestra Newsletter para no perderte ninguna publicación. \n\n\n\n\n\n\n\n \n\n\n\nMercado Medieval de Calasparra 2026\n\n\n\n \n\n\n\nℹ Información\n\n\n\n\nFechas: 05 al 07 de junio de 2026\n\n\n\nEvento: Mercado Medieval de Calasparra 2026\n\n\n\nMotivo :  Verano\n\n\n\nHorario : de 18 a 24h\n\n\n\nUbicación:  Plaza de la Corredera y aledaños\n\n\n\nLocalidad:  Calasparra – Calasparra\, situada al noroeste de la Región de Murcia\, es una localidad con gran riqueza histórica\, cultural y natural. Conocida por su famoso arroz con denominación de origen\, esta villa ofrece un entorno único entre montañas\, ríos y parajes naturales como el Cañón de Almadenes o el Santuario de la Virgen de la Esperanza. Su casco urbano combina tradición y patrimonio\, siendo el escenario ideal para la celebración de mercados medievales y eventos culturales.\n\n\n\nProvincia:   Murcia\n\n\n\n\n\n\n\n\n \n\n\n\nℹ Cartel anunciador\n\n\n\nMercado Medieval de Calasparra 2026\n\n\n\n \n\n\n\nℹ Información para artesanos / mercaderes\n\n\n\nLa información para participar :https://demercadosmedievales.info/medieval-en-calasparra-2026/ \n\n\n\n \n\n\n\nℹ Como llegar \n\n\n\nLlegar al Mercado Medieval en Calasparra 2026 es sencillo por su buena conexión por carretera: \n\n\n\n🚘 En coche:Desde Murcia capital\, se accede por la RM-15 (Autovía del Noroeste) en aproximadamente 1 hora. 🚌 En autobús:Existen líneas regulares desde Murcia y otras localidades cercanas. 🚉 En tren:La estación más cercana se encuentra en Cieza\, a unos 30 km\, desde donde se puede continuar por carretera. \n\n\n\n\n\n \n\n\n\n\n\n\n\n🗓 Eventos similares y cercanos al Mercado Medieval de Calasparra 2026 \n\n\n\nAdemás de este evento\, la provincia acoge otras ferias de artesanía y mercados temáticos. A continuación\, destacamos tres opciones adicionales donde también puedes solicitar tu participación: \n\n\n\nNo hay eventos programados. \n\n\n\n\n\n\n\n \n\n\n\nMercados medievales y temáticos \n\n\n\nPróximas Ferias y Mercados en España: Consulta las localidades confirmadas y las fechas de los próximos eventos para planificar tu ruta anual. \n\n\n\nGuía de Organizadores de Mercados y Ferias: Accede al listado de empresas organizadoras para solicitar bases de participación\, precios de metros y condiciones de montaje. \n\n\n\n \n\n\n\n\n\n\n\n \n\n\n\nCalendario de Ferias y Mercados \n\n\n\nMercados Medievales en la RED\n\n\n\n¿Eres artesano o mercader y buscas nuevos eventos para exponer tus productos? España ofrece una de las agendas de ferias temáticas y mercados medievales más dinámicas de Europa. Estos eventos son el escaparate perfecto para la artesanía de autor\, combinando un gran flujo de visitantes con entornos de venta estratégicos. \n\n\n\nSi tu objetivo es ampliar tu ruta de mercados y asegurar tu participación en las mejores plazas\, esta es tu plataforma profesional de referencia. \n\n\n\n\n\n\n\n \n\n\n\n🕵️‍♂️ Redes sociales \n\n\n\nÚnete a nuestra red ! \n\n\n\nLas plazas en los mejores mercados se agotan rápido. No te quedes fuera de las convocatorias más importantes del año. Únete a nuestros canales exclusivos para profesionales y recibe alertas sobre nuevas aperturas de plazos e inscripciones: \n\n\n\nComunidad y Visibilidad: Conecta con nosotros en Instagram\, Facebook y nuestra Newsletter profesional. \n\n\n\nAlertas Inmediatas: Únete a nuestro Telegram o WhatsApp para recibir \n\n\n\n \n\n\n\n\n\n\n\nEvento :  Mercado Medieval de Calasparra 2026
URL:https://demercadosmedievales.info/mercadomedieval/mercado-medieval-de-calasparra-2026-cartel-y-horarios/
LOCATION:Calasparra (Murcia) (***)\, Calasparra\, Murcia\, España
CATEGORIES:Cartel,Comunidades y Ciudades Autónomas,España,eventos 2026,Mercado Medieval,Mercados tematicos,Region de Murcia
ATTACH;FMTTYPE=image/jpeg:https://demercadosmedievales.info/wp-content/uploads/2026/04/medieval-calasparra-2026-1200.jpg
GEO:38.2291511;-1.701586
END:VEVENT
END:VCALENDAR