BEGIN:VCALENDAR
VERSION:2.0
PRODID:-//Mercados Medievales - ECPv6.15.20//NONSGML v1.0//EN
CALSCALE:GREGORIAN
METHOD:PUBLISH
X-ORIGINAL-URL:https://demercadosmedievales.info
X-WR-CALDESC:Eventos para Mercados Medievales
REFRESH-INTERVAL;VALUE=DURATION:PT1H
X-Robots-Tag:noindex
X-PUBLISHED-TTL:PT1H
BEGIN:VTIMEZONE
TZID:Europe/Madrid
BEGIN:DAYLIGHT
TZOFFSETFROM:+0100
TZOFFSETTO:+0200
TZNAME:CEST
DTSTART:20230326T010000
END:DAYLIGHT
BEGIN:STANDARD
TZOFFSETFROM:+0200
TZOFFSETTO:+0100
TZNAME:CET
DTSTART:20231029T010000
END:STANDARD
BEGIN:DAYLIGHT
TZOFFSETFROM:+0100
TZOFFSETTO:+0200
TZNAME:CEST
DTSTART:20240331T010000
END:DAYLIGHT
BEGIN:STANDARD
TZOFFSETFROM:+0200
TZOFFSETTO:+0100
TZNAME:CET
DTSTART:20241027T010000
END:STANDARD
BEGIN:DAYLIGHT
TZOFFSETFROM:+0100
TZOFFSETTO:+0200
TZNAME:CEST
DTSTART:20250330T010000
END:DAYLIGHT
BEGIN:STANDARD
TZOFFSETFROM:+0200
TZOFFSETTO:+0100
TZNAME:CET
DTSTART:20251026T010000
END:STANDARD
BEGIN:DAYLIGHT
TZOFFSETFROM:+0100
TZOFFSETTO:+0200
TZNAME:CEST
DTSTART:20260329T010000
END:DAYLIGHT
BEGIN:STANDARD
TZOFFSETFROM:+0200
TZOFFSETTO:+0100
TZNAME:CET
DTSTART:20261025T010000
END:STANDARD
END:VTIMEZONE
BEGIN:VEVENT
DTSTART;TZID=Europe/Madrid:20250124T000000
DTEND;TZID=Europe/Madrid:20250126T235959
DTSTAMP:20260420T110727
CREATED:20241201T180344Z
LAST-MODIFIED:20250121T152240Z
UID:10001992-1737676800-1737935999@demercadosmedievales.info
SUMMARY:Mercado Medieval de Benissa (Alicante) 2025 – Porrat Tradicional –
DESCRIPTION:Vuelve el Mercado Medieval como parte de los actos de la tradicional Fira i Porrat de Sant Antoni\, artesanía\, gastronomía y entretenimiento cultural.  \n\n\n \n\n\n\n\n\n\n\nMercado Medieval – Porrat Tradicional\n\n\n\n24\, 25 Y 26 DE ENEROFIRA I PORRAT TRADICIONAL DE SANT ANTONI \n\n\n\n LA FRAGUA DE VULCANO  organizará nuevamente este Mercado Medieval dentro de los actos de la Fira i Porrat Tradicional de Sant Antoni\, en este municipio de la comarca de La Marina Alta alicantina\, de cerca de 12.000 habitantes y muy cercano a otras importantes poblaciones turísticas y residenciales como Calpe\, Moraira\, Xàbia o Altea. \n\n\n\nEste mercado\, además de las actividades propias programadas con motivo de la Fira i Porrat de Sant Antoni\, contará con animación\, espectáculos\, personajes de época\, música\, exposiciones temáticas\, talleres de oficios\, atracciones y rincón infantil…. \n\n\n\nHorario del mercado: Viernes 24 de 19 a 24 h. Sábado 25 de 10 a 24 h. Domingo 26 de 10 a 22 h. \n\n\n\nLugar: Plaza Rei Jaume I. Purissima\, Tello\, Sant Antoni\, Plaza Esglesia Vella\, Plaza Portal\, Francisco Sendra\, Angel y de Có. \n\n\n\n\n\n\n\nCartel\n\n\n\n\n\n\n\nProgramación  \n\n\n\nMartes 21 de enero \n\n\n\n\n16:00 h Final del concurso de brisca. Asociación Amas de Casa de Benissa.\n\n\n\n19:30 h Conferencia relacionada con motivos comerciales. Agrupación Filatélica y Numismática de Benissa. Espai Cultural Les Cases del Batlle.\n\n\n\n\nMiércoles 22 de enero \n\n\n\n\n16:00 h Final del concurso de parchís. Asociación Amas de Casa de Benissa.\n\n\n\n18:00 h Charla sobre la Asociación Babu y la campaña de esterilización canina. Espai Cultural Les Cases del Batlle.\n\n\n\n\nJueves 23 de enero \n\n\n\n\n16:00 h Final del concurso de dominó. Entrega de premios y obsequios a las participantes. Asociación Amas de Casa de Benissa.\n\n\n\n20:00 h Charla «POSIDÒNIATE». Espai Cultural Les Cases del Batlle.\n\n\n\n\nViernes 24 de enero \n\n\n\n\n19:00 h Acto inaugural del Mercado Medieval. Plaça del Portal.\n\n\n\n19:30 h Taberna medieval. Filaes Capitanes. Placeta Vella.\n\n\n\n19:30 h Chiringuito de bocadillos. FPX25. Párking Dolores Piera.\n\n\n\n19:30 h Exposición de aves de raza. AVIBEN. Carpa.\n\n\n\n20:30 h Concierto de Feria: Sociedad Lírica y Musical de Benissa. Centre d’Art Taller d’Ivars.\n\n\n\n\nSábado 25 de enero \n\n\n\n\n09:00 h Inauguración de la Feria Ganadera. Associació de Carreters i Cavallistes de Benissa.\n\n\n\n10:00 h Mercado medieval y espectáculos itinerantes.\n\n\n\n18:00 h Conferencia sobre la Ley de Protección y Bienestar Animal a cargo del centro veterinario Benivet. Espai Cultural Les Cases del Batlle.\n\n\n\n19:30 h Concierto de Feria: Coral Benissenca. Centre d’Art Taller d’Ivars.\n\n\n\n\nDomingo 26 de enero \n\n\n\n\n09:00 h Feria Ganadera. Día del Trato.\n\n\n\n10:00 h Mercado medieval y espectáculos itinerantes.\n\n\n\n19:00 h Baile en el Centro Social Bèrnia organizado por la Asociación de Pensionistas de Benissa.\n\n\n\n\nInformación básica del Mercado\n\n\n\n📅 Fecha de Celebración:Los días 24 al 26 de Enero de 2025 . \n\n\n\n📍 Dónde se realiza:En la localidad de Benissa\, que pertenece a la provincia de ALICANTE  / Benisa​​ es un municipio y localidad de la Comunidad Valenciana\, en España. Situado en el noreste de la provincia de Alicante\, en la comarca de la Marina Alta\, su término municipal\, de 69\,7 km²\, cuenta con 12 279 habitantes. \n\n\n\n🗺️ Ubicación del Evento:Estará ubicado en Carrer Puríssima y Plaça del Portal. \n\n\n\n¿Qué ofrece el mercado?\n\n\n\n\nAmbientación medieval completa: Las calles estarán decoradas y animadas con elementos de la época.\n\n\n\nAnimación\, espectáculos\, personajes de época\, música\, exposiciones temáticas\, talleres de oficios\, atracciones y rincón infantil….\n\n\n\nGran afluencia de visitantes: Es uno de los eventos más esperados después de las fiestas navideñas.\n\n\n\nEspacios adaptados para cada participante: Áreas diseñadas para optimizar la exhibición y venta.\n\n\n\n\n¿Quién puede participar?\n\n\n\nSe abre la convocatoria a: \n\n\n\n\nArtesanos: Exhibe y vende tus productos hechos a mano\, desde joyería y cerámica hasta artículos de cuero y madera.\n\n\n\nComerciantes de productos temáticos: Regalos\, ropa y accesorios inspirados en la época medieval.\n\n\n\nGastronomía tradicional: puestos con comida y bebida que reflejen los sabores de antaño.\n\n\n\n\n¿Cómo inscribirte?\n\n\n\nPresenta tu solicitud con la siguiente información: \n\n\n\n\nDescripción de tus productos o servicios.\n\n\n\nFotografías o ejemplos de tu trabajo.\n\n\n\nRequisitos específicos (espacio\, electricidad\, etc.).\n\n\n\n\nEmpresa organizadora :\n\n\n\nLa organización y decoración de este evento están a cargo de LA FRAGUA DE VULCANO Descubre las próximas ferias y mercados en su agenda: 👉 Consulta Aquí para acceder al calendario. Para más información y registro\, contacta : Teléfono en horario de oficina y días laborables. 963 400 037 Email : contacto@espectaculosamb.com \n\n\n\n\n\n\n\nFerias y Mercados en la Provincia de Alicante\n\n\n\nExplora otros eventos en la misma provincia visitando nuestra sección de Eventos de LA PROVINCIA DE ALICANTE  \, donde encontrarás información actualizada sobre ferias\, mercados y actividades para todas las edades. \n\n\n\n\n\n\n\nCalendario de Mercados Temáticos y Ferias\n\n\n\n¿Quieres saber cuándo y dónde se realizarán más ferias y mercados?Visita nuestro Calendario de Eventos para obtener detalles de: Calendario 2025: Planifica con anticipación y no te pierdas ninguna cita. \n\n\n\nRuta de los Porrats 2025\n\n\n\nLa Ruta de los Porrats está formada por un total de 7 municipios de la comarca de la Safor . También hay Porrats en otros municipios de Valencia y Alicante y aquí te lo contamos. \n\n\n\nQue es un Porrat ?\n\n\n\nSe denomina «porrat» a  una feria tradicional muy enraizada en algunas comarcas del País Valenciano que se celebra bajo la advocación de un santo en la ermita o santuario donde se le rinde culto. El origen de esta costumbre popular se atribuye a la veneración de la sociedad agrícola a los santos para conseguir buenas cosechas y la fertilidad de sus animales. \n\n\n\nSu elemento más característico\, consiste en el mercado al aire libre donde se venden productos tradicionales\, dulces y frutos secos\, que puede ser tradicional valenciano o medieval. Más información sobre los porrats \n\n\n\n \n\n\n\n\n\n\n\nLos Mercados y Ferias Medievales\n\n\n\nLas ferias medievales son auténticos viajes en el tiempo. Estos eventos recrean la atmósfera de la Edad Media. Leer más… \n\n\n\n\n\n\n\n\nMERCADOS MEDIEVALES Y TEMATICOS \n\n\n\nInformación de los próximos mercados medievales\, temáticos\, de artesanía a nivel nacional además de ofrecer información sobre servicios de alquiler de casetas\, venta de paradas\, cooperativas\, decoración y más. \n\n\n\nwww.mercados medievales.net \n\n\n\n\n \n\n\n\n\n\n\n\n\n\n\n\n\n\nOrganiza :\n\n\n\n\n\nLugar :\n\n\n\nBenisa​​ es un municipio y localidad de la Comunidad Valenciana\, en España. Situado en el noreste de la provincia de Alicante\, en la comarca de la Marina Alta\, su término municipal\, de 69\,7 km²\, cuenta con 12 279 habitantes.
URL:https://demercadosmedievales.info/mercadomedieval/mercado-medieval-de-benissa-alicante-2025-porrat-tradicional-2/
LOCATION:Benissa (Alicante) (***)\, Carrer Puríssima y Plaça del Portal\, Benissa\, Alicante\, España
CATEGORIES:Alicante,Cartel,Mercado tradicional,Porrats,Programación
ATTACH;FMTTYPE=image/jpeg:https://demercadosmedievales.info/wp-content/uploads/2024/12/porrat_benissa_2025_f-1.jpg
ORGANIZER;CN="La Fragua de Vulcano":MAILTO:lafragua@espectaculosamb.com
GEO:38.7162596;0.0533845
X-APPLE-STRUCTURED-LOCATION;VALUE=URI;X-ADDRESS=Benissa (Alicante) (***) Carrer Puríssima y Plaça del Portal Benissa Alicante España;X-APPLE-RADIUS=500;X-TITLE=Carrer Puríssima y Plaça del Portal:geo:0.0533845,38.7162596
END:VEVENT
BEGIN:VEVENT
DTSTART;VALUE=DATE:20240126
DTEND;VALUE=DATE:20240129
DTSTAMP:20260420T110727
CREATED:20240121T180538Z
LAST-MODIFIED:20240121T180538Z
UID:10000793-1706227200-1706486399@demercadosmedievales.info
SUMMARY:Mercado Medieval de Benissa (Alicante) 2024 - Porrat Tradicional -
DESCRIPTION:LA FRAGUA DE VULCANO organizará nuevamente este Mercado Medieval dentro de los actos de la Fira i Porrat Tradicional de Sant Antoni. \n  \n+ Detalles del Mercado medieval de Benissa (Alicante)\nFira i porrat tradicional de sant antoni\nCuando se celebra ?\n26\, 27 Y 28 DE ENERO DE 2024\n \nLocalidad y provincia :\nBenissa\, ALICANTE \nUbicación :\nCarrer Puríssima y Plaça del Portal \n+ Descripción del Mercado Medieval\n\nLA FRAGUA DE VULCANO organizará nuevamente este Mercado Medieval dentro de los actos de la Fira i Porrat Tradicional de Sant Antoni\, en este municipio de la comarca de La Marina Alta alicantina\, de cerca de 12.000 habitantes y muy cercano a otras importantes poblaciones turísticas y residenciales como Calpe\, Moraira\, Xàbia o Altea.Este mercado\, además de las actividades propias programadas con motivo de la Fira i Porrat de Sant Antoni\, contará con animación\, espectáculos\, personajes de época\, música\, exposiciones temáticas\, talleres de oficios\, atracciones y rincón infantil…. \nMontaje: Viernes 26 de enero. Pendiente de confirmar turnos de montaje.\nHorario del mercado: Viernes 26 de 19 a 24 h. Sábado 27 de 10 a 24 h. Domingo 28 de 10 a 22 h.\nLugar: Carrer Puríssima y Plaça del Portal \n+ Organizador del Mercado Medieval :\n\nLa empresa  LA FRAGUA DE VULCANO\nTel. 963 400 037\nlafragua@espectaculosamb.com \n\n\n \nProgramación\n \n \nViernes 26\n19.00 h. Chiringuito de bocadillos. FPX24. Párking Dolores Piera. \n19.00 h. Restaurante La Cultural. FPX24. \n19.30 h. Acto de Inauguración del Mercado Medieval. Plaça Portal. \n20.00 h. Exposición de aves de raza. AVIBEN. Carpa. \n20.30 h. “Concert de Fira” de la Sociedad Lírica i Musical de Benissa. Centre d’Art Taller d´Ivars. \n\nSábado 27\n08.00 h. XXXVI Exposición de caballerías\, aperos y carruajes. Associació de Carreters i Cavallistes de Benissa. C/ Palmera y C/ Fray Humilde Soria. \n09.00 h. Chiringuito de bocadillos. FPX24. Párking Dolores Piera. \n10.00 h. Exposición de aves de raza. AVIBEN. Carpa. \n10.00 h. Mercado medieval y espectáculos itinerantes. \n10.00 h. Mesa informativa y venta de dulces. ABAI. Plaça Jaume I \n11.30 h. Restaurante La Cultural. FPX24. \n16.00 h. Exposición de vehículos y maquinaria. C/ Nou\, C/ Vicent Buigues y Plaça Jaume I. \n17.00 h y 19.15 h. Cine “Migración\, un viaje patas arriba”. Salón Cultural. \n19.30 h. Encuentro de Corales. Coral Benissenca y Coral Polifónica “Juan i Ginés Pérez” de l’Associació d’Amics de la Música de Callosa d’Ensarrià. Centre d’Art Taller d´Ivars. \n\nDomingo 28\n08.00 h. XXXVI Exposición de caballerías\, aperos y carruajes. Associació de Carreters i Cavallistes de Benissa. C/ Palmera y Fray Humilde. \n08.30 h – 14.30 h. Exposición de Vehículos Históricos. Asociación de Vehículos Históricos La Marina. Av. l’Alcúdia y C/ Teulada. \n09.00 h. Puesto venta pasteles. Manos Unidas. Plaça Jaume I. \n09.00 h. Chiringuito de bocadillos. FPX24. Párking Dolores Piera. \n09.00 h. XXXIV Abierto Ajedrez Absoluto “Vicent El Pinzeller”. Club escacs de Benissa. Centre d’Art Taller d’Ivars. \n10.00 h – 13.00 h. Tradicional mercado filatélico y encuentro de coleccionismo. Agrupació Filatèlica i Numismàtica. C/ Francisco Sendra\, 2. \n10.00 h. Encuentro vehículos Todo Terrenos “In memoriam Carlos Jiménez Garín”. Circuito junto al Centre de’Excel.lència. \n10.00 h. XX Exposición de aves de raza. AVIBEN. Carpa. \n10.00 h. Exposición de vehículos y maquinaria. C/ Nou\, C/ Vicent Buigues y Plaça Jaume I. \n10.00 h. Mesa informativa y venta de dulces. ABAI. Plaça Jaume I \n10.00 h. Mesa informativa AACC. Plaça Jaume I. \n10.00 h. Mercado medieval y espectáculos itinerantes. \n11.30 h. Restaurante La Cultural. FPX24. \n17.00 h y 19.15 h. Cine “Migración\, un viaje patas arriba”. Salón Cultural. \nPara conocer más Mercados Medievales en la Provincia de  Alicante\nVisita nuestra sección con todos los mercados y ferias en  ALICANTE \nY si quieres conocer en la Comunidad Valenciana\nTenemos un listado con todos los Mercados Y Ferias de la Comunidad valenciana \nRuta de los Porrats 2024\nLa Ruta de los Porrats está formada por un total de 7 municipios de la comarca de la Safor . También hay Porrats en otros municipios de Valencia y Alicante y aquí te lo contamos. \nQue es un Porrat ?\nSe denomina «porrat» a  una feria tradicional muy enraizada en algunas comarcas del País Valenciano que se celebra bajo la advocación de un santo en la ermita o santuario donde se le rinde culto. \nEl origen de esta costumbre popular se atribuye a la veneración de la sociedad agrícola a los santos para conseguir buenas cosechas y la fertilidad de sus animales. \nSu elemento más característico\, consiste en el mercado al aire libre donde se venden productos tradicionales\, dulces y frutos secos\, que puede ser tradicional valenciano o medieval. \nMás información sobre los porrats \n  \n  \nMercados Medievales de Alicante \, España\, Comunidad Valenciana\, Alicante\, Benissa\, Mercado medieval de Benissa\, Porrat\,
URL:https://demercadosmedievales.info/mercadomedieval/mercado-medieval-de-benissa-alicante-2024-porrat-tradicional/
LOCATION:Benissa (Alicante) (***)\, Carrer Puríssima y Plaça del Portal\, Benissa\, Alicante\, España
CATEGORIES:Alicante,La Fragua de Vulcano,Mercado Medieval,Porrats
ATTACH;FMTTYPE=image/jpeg:https://demercadosmedievales.info/wp-content/uploads/2024/01/Benissa_mercado_medieval_2024-f.jpg
ORGANIZER;CN="La Fragua de Vulcano":MAILTO:lafragua@espectaculosamb.com
GEO:38.7162596;0.0533845
X-APPLE-STRUCTURED-LOCATION;VALUE=URI;X-ADDRESS=Benissa (Alicante) (***) Carrer Puríssima y Plaça del Portal Benissa Alicante España;X-APPLE-RADIUS=500;X-TITLE=Carrer Puríssima y Plaça del Portal:geo:0.0533845,38.7162596
END:VEVENT
END:VCALENDAR