BEGIN:VCALENDAR
VERSION:2.0
PRODID:-//Mercados Medievales - ECPv6.15.20//NONSGML v1.0//EN
CALSCALE:GREGORIAN
METHOD:PUBLISH
X-ORIGINAL-URL:https://demercadosmedievales.info
X-WR-CALDESC:Eventos para Mercados Medievales
REFRESH-INTERVAL;VALUE=DURATION:PT1H
X-Robots-Tag:noindex
X-PUBLISHED-TTL:PT1H
BEGIN:VTIMEZONE
TZID:Europe/Madrid
BEGIN:DAYLIGHT
TZOFFSETFROM:+0100
TZOFFSETTO:+0200
TZNAME:CEST
DTSTART:20230326T010000
END:DAYLIGHT
BEGIN:STANDARD
TZOFFSETFROM:+0200
TZOFFSETTO:+0100
TZNAME:CET
DTSTART:20231029T010000
END:STANDARD
BEGIN:DAYLIGHT
TZOFFSETFROM:+0100
TZOFFSETTO:+0200
TZNAME:CEST
DTSTART:20240331T010000
END:DAYLIGHT
BEGIN:STANDARD
TZOFFSETFROM:+0200
TZOFFSETTO:+0100
TZNAME:CET
DTSTART:20241027T010000
END:STANDARD
BEGIN:DAYLIGHT
TZOFFSETFROM:+0100
TZOFFSETTO:+0200
TZNAME:CEST
DTSTART:20250330T010000
END:DAYLIGHT
BEGIN:STANDARD
TZOFFSETFROM:+0200
TZOFFSETTO:+0100
TZNAME:CET
DTSTART:20251026T010000
END:STANDARD
END:VTIMEZONE
BEGIN:VEVENT
DTSTART;TZID=Europe/Madrid:20241005T000000
DTEND;TZID=Europe/Madrid:20241009T235959
DTSTAMP:20260420T094444
CREATED:20240926T165400Z
LAST-MODIFIED:20240926T165618Z
UID:10001766-1728086400-1728518399@demercadosmedievales.info
SUMMARY:Mercado Medieval de Alicante Capital (Alicante) 2024
DESCRIPTION:Abiertas las inscripciones para el Mercado Medieval en el paseo Canalejas de Alicante\, que coincide con la festividad del 9 de Octubre. \n\n\n\n \nMercado Medieval\n \nCuando se celebra ?Los dias  04 al 09 de Octubre  del  2024En que localidad y provincia ?En la ciudad de Alicante  ( ALICANTE )Quieres conocer donde se celebran más Mercados Medievales en la Provincia de Alicante?.Aquí puedes conocer más Mercados Medievales y temáticos de ALICANTE.Cual será la ubicación ? En Paseo Canalejas de Alicante.Para saber donde se celebran más Mercados y Ferias Medievales ?Puedes consultar las próximas fechas Aquí \nQuién lo organiza ? BalconetPersona de contacto: Juan CanteroE-mail : balconetmedieval@gmail.com (no tiene un numero de teléfono de contacto) Como participar ?Si estás interesado(a) por favor escribir  al mail balconetmedieval@gmail.com de la forma que describimos a continuación. \n\nAsunto: Nombre del Mercado.\nIMPORTANTE PARA HACER LA SOLICITUD :\n\nENVIAR 2 FOTOS (1 de parada completa y una de su producto)\n así como los metros que necesitan.\n\n\n\nEl organizador proveerá de los siguientes servicios para los artesanos : \n\nLUZ\nAGUA\nPUBLICIDAD\nVIGILANCIA DISUASORIA\n\nAcerca de Alicante\nAlicante ​​ es una ciudad y un municipio de España\, capital de la provincia homónima\, en la Comunidad Valenciana. Ciudad portuaria\, está situada en la costa mediterránea. Con 349 282 habitantes\, ​ es el segundo municipio más poblado de la comunidad autónoma y el décimo del país. \n\nMás fechas  Puedes conocer mas ferias y mercados en está provincia\, consultando nuestra sección de Eventos en  Alicante \nOtros eventosConsulta Aquí otras ferias y mercados que organizará la empresa Balconet \notros mercados temáticos y FeriasSi quieres conocer cuando se realizan más ferias y mercados\, puedes consultarlos visitando nuestro   Calendario de Eventos \nCalendario 2024\nSobre los Mercados Medievales\nLas ferias medievales son eventos que recrean la atmósfera de la Edad Media. Por lo general\, se llevan a cabo en pueblos o ciudades\, y presentan puestos de vendedores que venden artesanías\, alimentos y bebidas. También puede haber entretenimiento\, como justas\, música y baile. \n\n\n\n\n\n\n\n\nDetalles del organizador\n\n\n\n\n\nLocalización\n\n\n\nAlicante ​​ es una ciudad y un municipio de España\, capital de la provincia homónima\, en la Comunidad Valenciana. Ciudad portuaria\, está situada en la costa mediterránea. Con 349 282 habitantes\, ​ es el segundo municipio más poblado de la comunidad autónoma y el décimo del país.
URL:https://demercadosmedievales.info/mercadomedieval/mercado-medieval-de-alicante-capital-alicante-2024/
LOCATION:Alicante capital (***)\, Alicante\, ALicante\, Spain
CATEGORIES:Alicante,Cartel,Mercado Medieval
ATTACH;FMTTYPE=image/jpeg:https://demercadosmedievales.info/wp-content/uploads/2024/09/mercado-medieval-alicante-f-1.jpg
ORGANIZER;CN="Balconet Mercados Tem%C3%A1ticos":MAILTO:balconetmedieval@gmail.com
GEO:38.3457685;-0.4909444
END:VEVENT
BEGIN:VEVENT
DTSTART;TZID=Europe/Madrid:20241005T000000
DTEND;TZID=Europe/Madrid:20241009T235959
DTSTAMP:20260420T094444
CREATED:20240203T065728Z
LAST-MODIFIED:20241003T080336Z
UID:10000853-1728086400-1728518399@demercadosmedievales.info
SUMMARY:05 al 09 de Octubre 2024 Mercado Medieval del Paseo Canalejas de Alicante
DESCRIPTION:Abiertas las inscripciones para el Mercado Medieval en el paseo Canalejas de Alicante\, que coincide con la festividad del 9 de Octubre. \n \n \n Detalles del Mercado Medieval\nCuando se celebra ?Los dias  05 al 09 de Octubre  del  2024En que localidad y provincia ?En la ciudad de Alicante  ( ALICANTE ) \nQuieres conocer donde se celebran más Mercados Medievales en la Provincia de Alicante?.Aquí puedes conocer más Mercados Medievales y temáticos de Alicante. \nCual será la ubicación ? En Paseo Canalejas de Alicante.Para saber donde se celebran más Mercados y Ferias Medievales ?Puedes consultar las próximas fechas Aquí \n Quién lo organiza ? BalconetPersona de contacto: Juan CanteroE-mail : balconetmedieval@gmail.com (no tiene un numero de teléfono de contacto) Como participar ?Si estás interesado(a) por favor escribir  al mail balconetmedieval@gmail.com de la forma que describimos a continuación. \n\nAsunto: Nombre del Mercado.\nIMPORTANTE PARA HACER LA SOLICITUD :\n\nENVIAR 2 FOTOS (1 de parada completa y una de su producto)\n así como los metros que necesitan.\n\n\n\n  \nEl organizador proveerá de los siguientes servicios para los artesanos : \n\nLUZ\nAGUA\nPUBLICIDAD\nVIGILANCIA DISUASORIA\n\n  \n  \n Acerca de Alicante\nAlicante ​​ es una ciudad y un municipio de España\, capital de la provincia homónima\, en la Comunidad Valenciana. Ciudad portuaria\, está situada en la costa mediterránea. Con 349 282 habitantes\, ​ es el segundo municipio más poblado de la comunidad autónoma y el décimo del país. \n  \n\nCalendario de Mercado Medieval y Ferias 2024 :\n\n\nEnero\nFebrero\nMarzo\nAbril\nMayo\nJunio\nJulio\nAgosto\nSeptiembre\nOctubre\nNoviembre\nDiciembre\n\n Las Ferias y mercados medievales\n\n\nLas Ferias y mercados medievales son eventos populares que recrean el ambiente y la atmósfera de la Edad Media. \n\n\n\nDurante estas Ferias y mercados medievales\, se recrea un pueblo o una ciudad medieval\, con puestos de artesanía\, alimentos\, entretenimiento y actividades relacionadas con la época.\nLos participantes\, vestidos con trajes medievales\, venden productos tradicionales como joyería\, armas\, vestimenta\, objetos de cuero\, cerámica y otros productos artesanales.\nLos alimentos y bebidas también desempeñan un papel importante en las ferias medievales. \n\nMercados Medievales de Alicante\, Mercado Medieval de Alicante capital\, España\, Comunidad Valenciana\, Alicante\,
URL:https://demercadosmedievales.info/mercadomedieval/09-al-13-de-octubre-2024-mercado-medieval-del-paseo-canalejas-de-alicante/
LOCATION:Alicante capital (***)\, Alicante\, Alicante\, España
CATEGORIES:Alicante,Balconet mercado temáticos,Mercado Medieval
ATTACH;FMTTYPE=image/jpeg:https://demercadosmedievales.info/wp-content/uploads/2024/09/mercado-medieval-alicante-f-1.jpg
ORGANIZER;CN="Balconet Mercados Tem%C3%A1ticos":MAILTO:balconetmedieval@gmail.com
GEO:38.3459963;-0.4906855
END:VEVENT
END:VCALENDAR