BEGIN:VCALENDAR
VERSION:2.0
PRODID:-//Mercados Medievales - ECPv6.15.20//NONSGML v1.0//EN
CALSCALE:GREGORIAN
METHOD:PUBLISH
X-ORIGINAL-URL:https://demercadosmedievales.info
X-WR-CALDESC:Eventos para Mercados Medievales
REFRESH-INTERVAL;VALUE=DURATION:PT1H
X-Robots-Tag:noindex
X-PUBLISHED-TTL:PT1H
BEGIN:VTIMEZONE
TZID:Europe/Madrid
BEGIN:DAYLIGHT
TZOFFSETFROM:+0100
TZOFFSETTO:+0200
TZNAME:CEST
DTSTART:20230326T010000
END:DAYLIGHT
BEGIN:STANDARD
TZOFFSETFROM:+0200
TZOFFSETTO:+0100
TZNAME:CET
DTSTART:20231029T010000
END:STANDARD
BEGIN:DAYLIGHT
TZOFFSETFROM:+0100
TZOFFSETTO:+0200
TZNAME:CEST
DTSTART:20240331T010000
END:DAYLIGHT
BEGIN:STANDARD
TZOFFSETFROM:+0200
TZOFFSETTO:+0100
TZNAME:CET
DTSTART:20241027T010000
END:STANDARD
BEGIN:DAYLIGHT
TZOFFSETFROM:+0100
TZOFFSETTO:+0200
TZNAME:CEST
DTSTART:20250330T010000
END:DAYLIGHT
BEGIN:STANDARD
TZOFFSETFROM:+0200
TZOFFSETTO:+0100
TZNAME:CET
DTSTART:20251026T010000
END:STANDARD
END:VTIMEZONE
BEGIN:VEVENT
DTSTART;VALUE=DATE:20240601
DTEND;VALUE=DATE:20240603
DTSTAMP:20260420T113543
CREATED:20240329T092549Z
LAST-MODIFIED:20240525T061733Z
UID:10001097-1717200000-1717372799@demercadosmedievales.info
SUMMARY:Mercado Medieval De Agoncillo (La Rioja) 2024
DESCRIPTION:El MERCADO MEDIEVAL tendrá lugar coincidiendo con la XIV edición de la Feria Medieval de Artesanía y Alimentación «Villa de Agoncillo». \n \n2024\, Agoncillo\, convocatoria\, España\, feria medieval\, la rioja\, Mercado Medieval De Agoncillo \nMERCADO MEDIEVAL DE AGONCILLO (LA RIOJA)\nXIV FERIA MEDIEVAL DE ARTESANÍA Y ALIMENTACIÓN «VILLA DE AGONCILLO»\n🎫 Cartel\n \n📋 Programación \n Detalles del MERCADO MEDIEVAL \nCuando se celebra ?\n Los dias 1 Y 2 DE JUNIO  del  2024 \nEn que localidad y provincia ?\nEn la localidad de Agoncillo que pertenece a la provincia de  LA RIOJA\n.\nCual será la ubicación ? \n.  EN LA PLAZA DEL CASTILLO DE AGONCILLO\n.\nPara conocer la fecha de más mercados y ferias temáticas \, AQUÍ\n. \n Descripción del MERCADO MEDIEVAL\n1 Y 2 DE JUNIO DEL 2024\nEN LA PLAZA DEL CASTILLO DE AGONCILLO \nLa Fragua de Vulcano organizará el Mercado Medieval de Agoncillo (La Rioja)\, que se llevará a cabo entre el 1 y 2 de junio de 2024. \n\nEl MERCADO MEDIEVAL tendrá lugar coincidiendo con la XIV edición de la Feria Medieval de Artesanía y Alimentación «Villa de Agoncillo». \nContará con decoración y ambientación medieval\, exposiciones temáticas\, animación teatral y musical\, personajes\, animales\, puestos de artesanía\, alimentación y restauración\, talleres de oficios demostrativos\, atracciones y juegos infantiles… \nMontaje: Pendiente de confirmar turnos\nInformación e Inscripciones:  lafragua@espectaculosamb.com \nOrganizador\n\nLa empresa La Fragua de Vulcano es la encargada de la organización y gestión de paradas/puestos de venta.\nInformación e Inscripciones : \nlafragua@espectaculosamb.com\n. \nPróximos Mercados Medievales y Temáticos organizados por La Fragua de Vulcano :\nNo hay eventos programados.\nAcerca de Agoncillo\nAgoncillo es un municipio situado en la comunidad autónoma de La Rioja\, compuesto por Agoncillo\, el barrio de Recajo y el lugar de San Martín de Berberana.  \n\nEl Aeropuerto de Logroño-Agoncillo\, el único de la comunidad y con apenas tráfico aéreo\, se sitúa dentro de su término municipal.\nIntegrado en la comarca de Rioja Media\, se sitúa a 14 kilómetros de Logroño.\nEl término municipal está atravesado por la Autopista Vasco-Aragonesa (AP-68) y por la carretera N-232\, entre los pK 387-389 y 391-398\, además de por la carretera provincial LR-261\, que conecta con Murillo de Río Leza.\n\n\nCalendario 2024 :\n\n\nEnero\nFebrero\nMarzo\nAbril\nMayo\nJunio\nJulio\nAgosto\nSeptiembre\nOctubre\nNoviembre\nDiciembre\n\nFerias y mercados medievales\nLas ferias medievales son eventos que recrean la atmósfera de la Edad Media. Por lo general\, se llevan a cabo en pueblos o ciudades\, y presentan puestos de vendedores que venden artesanías\, alimentos y bebidas. También puede haber entretenimiento\, como justas\, música y baile. Los Mercados  Medievales son una forma popular de aprender sobre la historia de la Edad Media y experimentar la cultura de la época. También son una actividad divertida para toda la familia. \n 
URL:https://demercadosmedievales.info/mercadomedieval/mercado-medieval-de-agoncillo-la-rioja-2024/
LOCATION:Agoncillo (La Rioja) (***)\, Agoncillo\, La Rioja\, España
CATEGORIES:Cartel,La Fragua de Vulcano,La Rioja,Mercado Medieval
ATTACH;FMTTYPE=image/jpeg:https://demercadosmedievales.info/wp-content/uploads/2024/03/medieval_agoncillo_f.jpg
ORGANIZER;CN="La Fragua de Vulcano":MAILTO:lafragua@espectaculosamb.com
GEO:42.4475004;-2.2933205
END:VEVENT
END:VCALENDAR