BEGIN:VCALENDAR
VERSION:2.0
PRODID:-//Mercados Medievales - ECPv6.15.20//NONSGML v1.0//EN
CALSCALE:GREGORIAN
METHOD:PUBLISH
X-WR-CALNAME:Mercados Medievales
X-ORIGINAL-URL:https://demercadosmedievales.info
X-WR-CALDESC:Eventos para Mercados Medievales
REFRESH-INTERVAL;VALUE=DURATION:PT1H
X-Robots-Tag:noindex
X-PUBLISHED-TTL:PT1H
BEGIN:VTIMEZONE
TZID:Europe/Madrid
BEGIN:DAYLIGHT
TZOFFSETFROM:+0100
TZOFFSETTO:+0200
TZNAME:CEST
DTSTART:20240331T010000
END:DAYLIGHT
BEGIN:STANDARD
TZOFFSETFROM:+0200
TZOFFSETTO:+0100
TZNAME:CET
DTSTART:20241027T010000
END:STANDARD
BEGIN:DAYLIGHT
TZOFFSETFROM:+0100
TZOFFSETTO:+0200
TZNAME:CEST
DTSTART:20250330T010000
END:DAYLIGHT
BEGIN:STANDARD
TZOFFSETFROM:+0200
TZOFFSETTO:+0100
TZNAME:CET
DTSTART:20251026T010000
END:STANDARD
BEGIN:DAYLIGHT
TZOFFSETFROM:+0100
TZOFFSETTO:+0200
TZNAME:CEST
DTSTART:20260329T010000
END:DAYLIGHT
BEGIN:STANDARD
TZOFFSETFROM:+0200
TZOFFSETTO:+0100
TZNAME:CET
DTSTART:20261025T010000
END:STANDARD
END:VTIMEZONE
BEGIN:VEVENT
DTSTART;TZID=Europe/Madrid:20250530T000000
DTEND;TZID=Europe/Madrid:20250601T235959
DTSTAMP:20260419T142106
CREATED:20250221T075206Z
LAST-MODIFIED:20250530T083004Z
UID:10002234-1748563200-1748822399@demercadosmedievales.info
SUMMARY:Programación del  Mercado Medieval Castillo de Santa Barbara (Alicante)
DESCRIPTION:El Mercado Medieval que regresa al Castillo de Santa Bárbara del 30 de mayo al 1 de junio – Todas las actividades y horarios. \n\n\n\n\n\n\n\nMercado Medieval\n\n\n\nMercado Medieval que regresa al Castillo de Santa Bárbara en Alicante del 30 de mayo al 1 de junio con espectáculos\, gastronomía y actividades. \n\n\n\n\n\n\n\n\n\n\n\n \n\n\n\n \n\n\n\n\n\n\n\n \n\n\n\n\n\n\n\n \n\n\n\n\n\n\n\n \n\n\n\nInformación del evento\n\n\n\n\nFecha: 30 de Mayo al 01 de Junio de  2025 \n\n\n\nPlazo de inscripción : Hasta completar el número de plazas\n\n\n\nLugar: Castillo de Santa Bárbara – El castillo de Santa Bárbara​ es un castillo ubicado en el centro de la ciudad española de Alicante\, sobre el monte Benacantil\, mole rocosa de 167 m de altitud lindante con el mar\, lo que le confería un enorme valor estratégico ya que desde la misma se divisa toda la bahía de Alicante y sus alrededores terrestres\n\n\n\nPoblación:  Alicante ( ALICANTE ) \n\n\n\nOferta a exponer:    Alimentación\, Gastronomía\, Artesanía y complementos.\n\n\n\nServicios que proporcionara el organizador: Agua\, Luz y Vigilancia Nocturna\n\n\n\nEntidad organizadora: LA FRAGUA DE VULCANO \n\n\n\n\n \n\n\n\nDescripción del Evento :\n\n\n\nTras las anteriores y exitosas experiencias celebradas en los años anteriores en el Castillo de Santa Bárbara de Alicante\, tendrá lugar una nueva edición del Mercado Medieval\, que volverá a suponer una confirmación de una apuesta fuerte y a medio plazo para consolidar la organización de mercados temáticos en un enclave histórico único como es el Castillo de Santa Bárbara. \n\n\n\n \n\n\n\n\n\n\n\n \n\n\n\nHay que tener muy presente\, que según las cifras oficiales\, en el primer año de dinamización y puesta en valor del Castillo\, el 2022\, visitaron el Castillo\, cerca de 700.000 visitantes\, especialmente concentrados durante los fines de semana. Esta cifra anual duplicó prácticamente las expectativas creadas por el Patronato de Turismo Alicante City & Beach\, que se habían fijado en 400.000 visitantes anuales para ese 2022. \n\n\n\nAfluencia del Castillo\n\n\n\nLa gran afluencia de público llegó de la mano de visitas guiadas y teatralizadas y de una programación que incluyó música\, exposiciones\, talleres\, actividades para todos los públicos\, catas y degustaciones de productos típicos\, así como fines de semana temáticos con los que se batieron récords de participación. \n\n\n\nEn 2023\, continuando con dichas acciones promocionales\, se volvieron a superar las cifras récord de visitantes\, con una cifra anual de 800.000 visitantes\, lo que supuso un aumento de más de 14% con respecto al año anterior. \n\n\n\nEsta progresión en aumento\, se consolidó también de forma significativa el pasado año 2024\, con unas visitas totales de 950.000 visitantes\, un 17% más que el año anterior. \n\n\n\nÉxito de participación en otras ediciones \n\n\n\nComprobado el éxito de participación de todas las actividades de dinamización cultural y de ocio que durante los tres últimos años se han ido llevando a cabo en el Castillo de Santa Bárbara de Alicante capital\, LA FRAGUA DE VULCANO  va a llevar a cabo nuevamente el Mercado de temática Medieval\, que tendrá lugar del 30 de mayo al 1 de junio en el recinto del Castillo. \n\n\n\nContará este mercado con plazas limitadas\, y tendrá un programa de actividades de animación\, que se difundirá ampliamente. Hay que tener en cuenta la importancia turística que tiene la ciudad de Alicante\, y más concretamente el Castillo\, que atrae cada fin de semana a miles de visitantes\, muchos de ellos turistas europeos y de otras procedencias\, con un alto poder adquisitivo. \n\n\n\n\nMontaje: Pendiente de Confirmar día y hora de montajeLugar: Castillo de Santa Bárbara (Alicante)\n\n\n\n\nInformación del organizador :\n\n\n\nLa organización y decoración de este evento están a cargo de LA FRAGUA DE VULCANO . Para más detalles sobre el proceso de inscripción\, tarifas y requisitos específicos\, contacta a través de: \n\n\n\n\nCorreo electrónico : contacto@espectaculosamb.com\n\n\n\nTeléfono / WhatsApp : 963 400 037 ( en horario de oficina )\n\n\n\nDescubre las próximas ferias y mercados en su agenda: 🔗 Calendario de La Fragua de Vulcano\n\n\n\n\n\n\nInformación sobre la localidad\n\n\n\nAcerca de .. Castillo de Santa BarbaraEl castillo de Santa Bárbara​ es un castillo ubicado en el centro de la ciudad española de Alicante\, sobre el monte Benacantil\, mole rocosa de 167 m de altitud lindante con el mar\, lo que le confería un enorme valor estratégico ya que desde la misma se divisa toda la bahía de Alicante y sus alrededores terrestres. \n\n\n\nConoce más de CASTILLO DE SANTA BARBARA  visitando la pagina web del Ayuntamiento :  https://castillodesantabarbara.com/ \n\n\n\nListado de eventos en está localidad : \n\n\n\n\n\n \n\n\n\nOtros enlaces : \n\n\n\nPodría ser de tu interés : \n\n\n\n\nEventos de LA PROVINCIA DE ALICANTE\n\n\n\nCalendario de Mercados Medievales en MAYO Y EN JUNIO\n\n\n\nFerias y Mercados en España\n\n\n\nOrganizadores de Mercados y Ferias\n\n\n\n\n\nVisita nuestro Calendario de Eventos para obtener detalles de: Calendario 2025: Planifica con anticipación y no te pierdas ninguna cita.\n\n\n\n\n\nLas ferias medievales son auténticos viajes en el tiempo. Estos eventos recrean la atmósfera de la Edad Media. Leer más…\n\n\n\n\n\n\n\n\n \n\n\n\nSíguenos.\n\n\n\n\nTelegram: Recibe nuestras noticias y contenido exclusivo (clic aquí).\n\n\n\nNewsletter: Recibe un correos con nuestras últimas noticias (clic aquí).\n\n\n\nWhatsApp: Suscríbete para seguirnos en nuestro canal  (clic aquí).\n\n\n\nInstagram:  Síguenos en Instagram ( clic aquí )\n\n\n\n\n \n\n\n\n\n\n\n\n\n\n\n\nMercadosmedievales.net \n\n\n\nLas ferias medievales son auténticos viajes en el tiempo. Estos eventos recrean la atmósfera de la Edad Media….
URL:https://demercadosmedievales.info/mercadomedieval/30-05-25-mercado-medieval-castillo-de-santa-barbara-alicante/
LOCATION:Castillo de Santa Bárbara (Alicante) (***)\, Castillo de Santa Barbara\, Alicante\, Alicante\, 03003\, España
CATEGORIES:Alicante,Comunidad valenciana,Mercado Medieval
ATTACH;FMTTYPE=image/jpeg:https://demercadosmedievales.info/wp-content/uploads/2025/02/cartel-Sta-barbara-alicante-2025.jpg
ORGANIZER;CN="La Fragua de Vulcano":MAILTO:lafragua@espectaculosamb.com
GEO:38.3489718;-0.478029
X-APPLE-STRUCTURED-LOCATION;VALUE=URI;X-ADDRESS=Castillo de Santa Bárbara (Alicante) (***) Castillo de Santa Barbara Alicante Alicante 03003 España;X-APPLE-RADIUS=500;X-TITLE=Castillo de Santa Barbara:geo:-0.478029,38.3489718
END:VEVENT
END:VCALENDAR