BEGIN:VCALENDAR
VERSION:2.0
PRODID:-//Mercados Medievales - ECPv6.15.20//NONSGML v1.0//EN
CALSCALE:GREGORIAN
METHOD:PUBLISH
X-WR-CALNAME:Mercados Medievales
X-ORIGINAL-URL:https://demercadosmedievales.info
X-WR-CALDESC:Eventos para Mercados Medievales
REFRESH-INTERVAL;VALUE=DURATION:PT1H
X-Robots-Tag:noindex
X-PUBLISHED-TTL:PT1H
BEGIN:VTIMEZONE
TZID:Europe/Madrid
BEGIN:DAYLIGHT
TZOFFSETFROM:+0100
TZOFFSETTO:+0200
TZNAME:CEST
DTSTART:20240331T010000
END:DAYLIGHT
BEGIN:STANDARD
TZOFFSETFROM:+0200
TZOFFSETTO:+0100
TZNAME:CET
DTSTART:20241027T010000
END:STANDARD
BEGIN:DAYLIGHT
TZOFFSETFROM:+0100
TZOFFSETTO:+0200
TZNAME:CEST
DTSTART:20250330T010000
END:DAYLIGHT
BEGIN:STANDARD
TZOFFSETFROM:+0200
TZOFFSETTO:+0100
TZNAME:CET
DTSTART:20251026T010000
END:STANDARD
BEGIN:DAYLIGHT
TZOFFSETFROM:+0100
TZOFFSETTO:+0200
TZNAME:CEST
DTSTART:20260329T010000
END:DAYLIGHT
BEGIN:STANDARD
TZOFFSETFROM:+0200
TZOFFSETTO:+0100
TZNAME:CET
DTSTART:20261025T010000
END:STANDARD
END:VTIMEZONE
BEGIN:VEVENT
DTSTART;TZID=Europe/Madrid:20250718T000000
DTEND;TZID=Europe/Madrid:20250720T235959
DTSTAMP:20260424T175047
CREATED:20250218T064554Z
LAST-MODIFIED:20250712T183443Z
UID:10002225-1752796800-1753055999@demercadosmedievales.info
SUMMARY:Programa del Mercado Marinero de Torreblanca\, Castellón
DESCRIPTION:El Mercado Marinero de Torreblanca regresa este verano para llenar de vida y tradición el Paseo Marítimo de la Playa Torrenostra. Durante los días 18\, 19 y 20 de julio\, visitantes y turistas podrán disfrutar de un ambiente único inspirado en el mundo marinero\, con una cuidada decoración temática\, espectáculos en vivo\, animación para todas las edades y una gran variedad de puestos de artesanía y gastronomía. \n\n\n\n\n\n\n\n \n\n\n\n🎭⚓ MERCADO MARINERO TORREBLANCA 2025 ⚓🎭\n\n\n\n \n\n\n\n\n\n\n\nPrograma Marinero de Torreblanca\n\n\n\n\n\n\n\n \n\n\n\n⚓ Viernes 18 de julio de 2025\n\n\n\n\n19:00 h: Se abre el Mercado\n\n\n\n19:30 h: Inauguración del Mercado Marinero de Torreblanca con marineros y música de tierras lejanas\n\n\n\n21:00 h: Al ritmo de las olas – Pasacalle musical\n\n\n\n22:00 h: Grumetes a bordo – Pasacalle itinerante\n\n\n\n23:00 h: Pasacalle con música\n\n\n\n23:30 h: Asalto al puerto – Espectáculo de fuego\n\n\n\n01:00 h: El mercado se despide ¡hasta mañana!\n\n\n\n\n\n\n\n\n⚓ Sábado 19 de julio de 2025\n\n\n\n\n19:00 h: Se abre el Mercado\n\n\n\n19:30 h: Tambores de Altamar – Pasacalle musical\n\n\n\n20:00 h: Cuentacuentos – Espectáculo infantil\n\n\n\n21:00 h: Al ritmo de las olas – Pasacalle musical\n\n\n\n22:00 h: Capitán de barco – Pasacalle itinerante\n\n\n\n23:00 h: Melodías del Muelle – Pasacalle con música\n\n\n\n23:30 h: Malabares en llamas – Espectáculo de fuego\n\n\n\n01:00 h: El mercado se despide ¡hasta mañana!\n\n\n\n\n\n\n\n\n⚓ Domingo 20 de julio de 2025\n\n\n\n\n19:00 h: Se abre el Mercado\n\n\n\n19:30 h: Susurros del mar – Pasacalle musical\n\n\n\n20:00 h: Cuentacuentos – Espectáculo infantil\n\n\n\n21:00 h: Suenan las músicas – Pasacalle musical\n\n\n\n22:00 h: ¡Ancla fuera! – Pasacalle itinerante\n\n\n\n23:00 h: Al ritmo de las olas – Pasacalle musical\n\n\n\n23:30 h: Embrujo de luna – Espectáculo de fuego\n\n\n\n01:00 h: El mercado se despide ¡hasta la próxima!\n\n\n\n\n\n\n\n\n🕰️ Horario del mercado:Viernes\, sábado y domingo de 19:00 a 01:00 h \n\n\n\n \n\n\n\nInformación \n\n\n\n📍 Paseo Marítimo Playa Torrenostra (Torreblanca\, CASTELLON)📅 18\, 19 y 20 de julio de  2025  \n\n\n\n🌊 ¡Sumérgete en un mercado con esencia marinera! 🌊Disfruta de un evento único en plena temporada de verano\, en un entorno privilegiado junto al mar. \n\n\n\n\n🔹 Ambientación marinera\n\n\n\n✔ Photocall temático\n\n\n\n🔹 Pasacalles y animación musical\n\n\n\n ✔Personajes y teatro en vivo\n\n\n\n🔹 Atracciones y juegos infantiles\n\n\n\n\n📌 Montaje: Pendiente de confirmar turnos. \n\n\n\nInformación del organizador :\n\n\n\nLa organización y decoración de este evento están a cargo de LA FRAGUA DE VULCANO . Para más detalles sobre el proceso de inscripción\, tarifas y requisitos específicos\, contacta a través de: \n\n\n\n\nCorreo electrónico : contratacion@espectaculosamb.com\n\n\n\nTeléfono / WhatsApp : 963 400 037 ( en horario de oficina )\n\n\n\nPersonas de contacto : —\n\n\n\nDescubre las próximas ferias y mercados en su agenda: 🔗 Calendario de La Fragua de Vulcano\n\n\n\n\n\n\n\n\n\n\nInformación sobre la localidad\n\n\n\nAcerca de .. TorreblancaTorreblanca es un municipio de la Comunidad Valenciana\, España. Situado en la costa de la provincia de Castellón\, en la comarca de la Plana Alta\, entre los municipios de Cabanes\, Benlloch y Alcalá de Chivert. Cuenta con 5.813 habitantes \n\n\n\nConoce más de TORREBLANCA  visitando la pagina web del Ayuntamiento : 🔗  https://www.torreblanca.es/ \n\n\n\nListado de eventos en está localidad : \n\n\n\n\n\n \n\n\n\n\n\n\n\nOtros enlaces : \n\n\n\nPodría ser de tu interés : \n\n\n\n\nEventos de🔗 LA PROVINCIA DE CASTELLON\n\n\n\n🔗Calendario de Mercados Medievales en ABRIL\n\n\n\nFerias y Mercados en España\n\n\n\nOrganizadores de Mercados y Ferias\n\n\n\n\n\nVisita nuestro Calendario de Eventos para obtener detalles de: Calendario 2025: Planifica con anticipación y no te pierdas ninguna cita.\n\n\n\n\n\nLas ferias medievales son auténticos viajes en el tiempo. Estos eventos recrean la atmósfera de la Edad Media. Leer más…\n\n\n\n\n\n\n\n\n \n\n\n\nSíguenos.\n\n\n\n\nTelegram: Recibe nuestras noticias y contenido exclusivo (clic aquí).\n\n\n\nNewsletter: Recibe un correos con nuestras últimas noticias (clic aquí).\n\n\n\nWhatsApp: Suscríbete para seguirnos en nuestro canal  (clic aquí).\n\n\n\nInstagram:  Síguenos en Instagram ( clic aquí )\n\n\n\n\n \n\n\n\n\n\n\n\n\n\n\n\nMercadosmedievales.net \n\n\n\nLas ferias medievales son auténticos viajes en el tiempo. Estos eventos recrean la atmósfera de la Edad Media….
URL:https://demercadosmedievales.info/mercadomedieval/07-2025-mercado-marinero-de-torreblanca-castellon/
LOCATION:Torreblanca (Castellón) (***)\, Torreblanca\, Castellón\, 12596\, España
CATEGORIES:Castellon,Comunidad valenciana,mercado marinero,Programación
ATTACH;FMTTYPE=image/jpeg:https://demercadosmedievales.info/wp-content/uploads/2025/02/marinero-torreblanca-cartel.jpg
ORGANIZER;CN="La Fragua de Vulcano":MAILTO:lafragua@espectaculosamb.com
GEO:40.2201804;0.1951319
END:VEVENT
END:VCALENDAR