BEGIN:VCALENDAR
VERSION:2.0
PRODID:-//Mercados Medievales - ECPv6.15.20//NONSGML v1.0//EN
CALSCALE:GREGORIAN
METHOD:PUBLISH
X-WR-CALNAME:Mercados Medievales
X-ORIGINAL-URL:https://demercadosmedievales.info
X-WR-CALDESC:Eventos para Mercados Medievales
REFRESH-INTERVAL;VALUE=DURATION:PT1H
X-Robots-Tag:noindex
X-PUBLISHED-TTL:PT1H
BEGIN:VTIMEZONE
TZID:Europe/Madrid
BEGIN:DAYLIGHT
TZOFFSETFROM:+0100
TZOFFSETTO:+0200
TZNAME:CEST
DTSTART:20230326T010000
END:DAYLIGHT
BEGIN:STANDARD
TZOFFSETFROM:+0200
TZOFFSETTO:+0100
TZNAME:CET
DTSTART:20231029T010000
END:STANDARD
BEGIN:DAYLIGHT
TZOFFSETFROM:+0100
TZOFFSETTO:+0200
TZNAME:CEST
DTSTART:20240331T010000
END:DAYLIGHT
BEGIN:STANDARD
TZOFFSETFROM:+0200
TZOFFSETTO:+0100
TZNAME:CET
DTSTART:20241027T010000
END:STANDARD
BEGIN:DAYLIGHT
TZOFFSETFROM:+0100
TZOFFSETTO:+0200
TZNAME:CEST
DTSTART:20250330T010000
END:DAYLIGHT
BEGIN:STANDARD
TZOFFSETFROM:+0200
TZOFFSETTO:+0100
TZNAME:CET
DTSTART:20251026T010000
END:STANDARD
END:VTIMEZONE
BEGIN:VEVENT
DTSTART;TZID=Europe/Madrid:20240808T000000
DTEND;TZID=Europe/Madrid:20240811T235959
DTSTAMP:20260419T220604
CREATED:20240322T185235Z
LAST-MODIFIED:20240801T095017Z
UID:10001065-1723075200-1723420799@demercadosmedievales.info
SUMMARY:AGUILAS\, Mercado Marinero 08 al 11 de AGOSTO 2024
DESCRIPTION:Mercado Marinero en el Paseo de La Colonia de Águilas; los días 08 al 11 de Agosto y es organizado por EL TROVADOR. \n \nCartel\n\nDetalles del Mercado Marinero\nCuando se celebra ? Los dias 8\, 9\, 10 y 11 de Agosto  del  2024.En que localidad y provincia ?En la localidad de Águilas que pertenece a la provincia de  MURCIA.Cual será la ubicación ? . En el Paseo de la Colonia de Águilas.Para conocer la fecha de más mercados y ferias temáticas \, AQUÍ. \nDescripción del Mercado Marinero\nDia y hora de Montaje : El día 08 de Agosto por la mañana. Fecha y hora de Inauguración: El día 08 de Agosto por la tarde. Precio Para conocer el coste del metro lineal tienes que ponerte en contacto con el organizador. \nQuién organiza EL EVENTO? La empresa EL TROVADOR es la encargada de la organización y gestión de paradas/puestos de venta..Como participar ? Ponte en contacto con el organizador para conocer los requisitos de participación y solicitar tu participación.A Continuación Te Los Facilitamos :. Poniéndote en contacto con el organizador EL TROVADORTeléfono y WhatsApp : 675 190 524..El organizador proveerá de los siguientes servicios para los artesanos : \n\nLUZ\nAGUA\nPUBLICIDAD\nVIGILANCIA DISUASORIA\n\n  \n Acerca de AGUILAS\n\nÁguilas es una ciudad y municipio de la comunidad autónoma de la Región de Murcia en España.\nEstá situado en la costa del mar Mediterráneo\, en el golfo de Mazarrón dentro de la Costa Cálida\, en la comarca del Alto Guadalentín\, ubicado en el extremo suroeste de la Región de Murcia.\nCuenta con 36 862 habitantes ​\n\nMultimedia: \n \n\nCalendario de Mercados Medievales y Ferias temáticas 2024 :\n\n\nEnero\nFebrero\nMarzo\nAbril\nMayo\nJunio\nJulio\nAgosto\nSeptiembre\nOctubre\nNoviembre\nDiciembre\n\n Las Ferias y mercados medievales\n\n\nLas ferias medievales son eventos que recrean la atmósfera de la Edad Media. Por lo general\, se llevan a cabo en pueblos o ciudades\, y presentan puestos de vendedores que venden artesanías\, alimentos y bebidas. También puede haber entretenimiento\, como justas\, música y baile. . \nLos Mercados  Medievales son una forma popular de aprender sobre la historia de la Edad Media y experimentar la cultura de la época. También son una actividad divertida para toda la familia. \n\n\n 
URL:https://demercadosmedievales.info/mercadomedieval/aguilas-mercado-marinero-08-al-11-de-agosto-2024/
LOCATION:Águilas (Murcia) (***)\, Plaza del Ayuntamiento\, Águilas\, Región de Murcia\, España
CATEGORIES:Cartel,Mercados tematicos,Region de Murcia
ATTACH;FMTTYPE=image/jpeg:https://demercadosmedievales.info/wp-content/uploads/2024/03/marinero_aguilas_i.jpg
GEO:37.4119365;-1.5826055
X-APPLE-STRUCTURED-LOCATION;VALUE=URI;X-ADDRESS=Águilas (Murcia) (***) Plaza del Ayuntamiento Águilas Región de Murcia España;X-APPLE-RADIUS=500;X-TITLE=Plaza del Ayuntamiento:geo:-1.5826055,37.4119365
END:VEVENT
END:VCALENDAR