BEGIN:VCALENDAR
VERSION:2.0
PRODID:-//Mercados Medievales - ECPv6.15.20//NONSGML v1.0//EN
CALSCALE:GREGORIAN
METHOD:PUBLISH
X-ORIGINAL-URL:https://demercadosmedievales.info
X-WR-CALDESC:Eventos para Mercados Medievales
REFRESH-INTERVAL;VALUE=DURATION:PT1H
X-Robots-Tag:noindex
X-PUBLISHED-TTL:PT1H
BEGIN:VTIMEZONE
TZID:Europe/Madrid
BEGIN:DAYLIGHT
TZOFFSETFROM:+0100
TZOFFSETTO:+0200
TZNAME:CEST
DTSTART:20230326T010000
END:DAYLIGHT
BEGIN:STANDARD
TZOFFSETFROM:+0200
TZOFFSETTO:+0100
TZNAME:CET
DTSTART:20231029T010000
END:STANDARD
BEGIN:DAYLIGHT
TZOFFSETFROM:+0100
TZOFFSETTO:+0200
TZNAME:CEST
DTSTART:20240331T010000
END:DAYLIGHT
BEGIN:STANDARD
TZOFFSETFROM:+0200
TZOFFSETTO:+0100
TZNAME:CET
DTSTART:20241027T010000
END:STANDARD
BEGIN:DAYLIGHT
TZOFFSETFROM:+0100
TZOFFSETTO:+0200
TZNAME:CEST
DTSTART:20250330T010000
END:DAYLIGHT
BEGIN:STANDARD
TZOFFSETFROM:+0200
TZOFFSETTO:+0100
TZNAME:CET
DTSTART:20251026T010000
END:STANDARD
END:VTIMEZONE
BEGIN:VEVENT
DTSTART;TZID=Europe/Madrid:20241129T000000
DTEND;TZID=Europe/Madrid:20241201T235959
DTSTAMP:20260420T060747
CREATED:20240907T054835Z
LAST-MODIFIED:20240907T062851Z
UID:10001688-1732838400-1733097599@demercadosmedievales.info
SUMMARY:Mercado Mágica Navidad de Baena 2024 (Córdoba)
DESCRIPTION:Mercado ambientado en la navidad llegará al centro de Baena con su Mercado navideño los dias 29 de noviembre al 01 de diciembre.  \n\n\n\n\n\n\nMercado Mágica Navidad\n\n\n\nPortal de Belén\, Animación infantil \, Artesanía y gastronomía \,Juegos Tradicionales \n\n\n\nCartel\n \nProgramación \nProximamente \n** Próximamente dispondremos del cartel y del programa con las actividades previstas. \nInformación básica del Mercado\nFecha de celebración Los dias 29 de Noviembre al 01 de Diciembre del  2024 \nDonde se realizaEn la localidad de Baena  que pertenece a la provincia de  CORDOBA \nInformación del Organizador\nLa empresa organizadora es ANAYAO \nComo participar \nPara más Información e Inscripciones:  Sagrario 607 71 57 90\nMás fechasPuedes conocer mas ferias y mercados en está provincia\, consultando nuestra sección de Eventos en Córdoba \nOtros eventosConsulta Aquí otras ferias y mercados que organizará la empresa Anayao Eventos \notros mercados temáticos y FeriasSi quieres conocer cuando se realizan más ferias y mercados\, puedes consultarlos visitando nuestro  Calendario de Eventos \nCalendario 2024\nSobre los Mercados Medievales\nLas ferias medievales son eventos que recrean la atmósfera de la Edad Media. Por lo general\, se llevan a cabo en pueblos o ciudades\, y presentan puestos de vendedores que venden artesanías\, alimentos y bebidas. También puede haber entretenimiento\, como justas\, música y baile. \n\n\n\n\n\n\n\nDetalles del organizador\n\n\n\n\n\nLocalización\n\n\n\nBaena es un municipio español situado en la provincia de Córdoba\, en la comunidad autónoma de Andalucía. El municipio se encuentra en la comarca de la Campiña de Baena y es cabeza del partido judicial homónimo y al cual se acogen los municipios de Luque\, Valenzuela\, la pedanía de Albendín y siete caseríos menores.
URL:https://demercadosmedievales.info/mercadomedieval/mercado-magica-navidad-de-baena-2024-cordoba/
LOCATION:Baena (Córdoba) (***)\, Baena\, Córdoba\, 14850\, España
CATEGORIES:Cordoba,Mercados de navidad
ATTACH;FMTTYPE=image/jpeg:https://demercadosmedievales.info/wp-content/uploads/2024/09/mercado_magica_navidad_baena_2024-f.jpg
GEO:37.617362;-4.3244513
END:VEVENT
END:VCALENDAR