BEGIN:VCALENDAR
VERSION:2.0
PRODID:-//Mercados Medievales - ECPv6.15.20//NONSGML v1.0//EN
CALSCALE:GREGORIAN
METHOD:PUBLISH
X-WR-CALNAME:Mercados Medievales
X-ORIGINAL-URL:https://demercadosmedievales.info
X-WR-CALDESC:Eventos para Mercados Medievales
REFRESH-INTERVAL;VALUE=DURATION:PT1H
X-Robots-Tag:noindex
X-PUBLISHED-TTL:PT1H
BEGIN:VTIMEZONE
TZID:Europe/Madrid
BEGIN:DAYLIGHT
TZOFFSETFROM:+0100
TZOFFSETTO:+0200
TZNAME:CEST
DTSTART:20230326T010000
END:DAYLIGHT
BEGIN:STANDARD
TZOFFSETFROM:+0200
TZOFFSETTO:+0100
TZNAME:CET
DTSTART:20231029T010000
END:STANDARD
BEGIN:DAYLIGHT
TZOFFSETFROM:+0100
TZOFFSETTO:+0200
TZNAME:CEST
DTSTART:20240331T010000
END:DAYLIGHT
BEGIN:STANDARD
TZOFFSETFROM:+0200
TZOFFSETTO:+0100
TZNAME:CET
DTSTART:20241027T010000
END:STANDARD
BEGIN:DAYLIGHT
TZOFFSETFROM:+0100
TZOFFSETTO:+0200
TZNAME:CEST
DTSTART:20250330T010000
END:DAYLIGHT
BEGIN:STANDARD
TZOFFSETFROM:+0200
TZOFFSETTO:+0100
TZNAME:CET
DTSTART:20251026T010000
END:STANDARD
END:VTIMEZONE
BEGIN:VEVENT
DTSTART;VALUE=DATE:20240510
DTEND;VALUE=DATE:20240513
DTSTAMP:20260420T044904
CREATED:20240411T195051Z
LAST-MODIFIED:20240427T105759Z
UID:10001152-1715299200-1715558399@demercadosmedievales.info
SUMMARY:Mercado Renacentista del Siglo de Oro de Almería 10 al 12 de mayo 2024
DESCRIPTION:El Mercado Renacentista del Siglo de Oro\, se ubicará en el entorno de la plaza de la Catedral de Almería\, será los dias 10 al 12 de Mayo.\n \nMercado del Siglo de Oro\nMercado Renacentista \n🎫 Cartel\n \n📋 Programación \n** Próximamente dispondremos del programa con las actividades previstas. \n🏰Información detallada del Evento\n💬Descripción\nFecha de celebración\n Los dias 10 al 12 de Mayo del  2024 (de Viernes a Domingo) \nLocalidad y provincia donde se realiza\nEn la localidad de Almería capital  que pertenece a la provincia de  ALMERIA  \nUbicación del Evento\nEstará ubicado en el entorno de la plaza de la Catedral de Almería. \nMás fechas de Almería\nPuedes conocer mas ferias y mercados en está provincia\, consultando nuestra sección de  eventos en Almería \nConsulta mercados temáticos y Ferias\nSi quieres conocer cuando se realizan más ferias y mercados\, puedes consultar mas 🗓 fechas de mercados y ferias temáticas \, puedes visitar nuestro 👀 Calendario de Eventos \n👤 Organizador del Mercado Renacentista\nADONAY EVENTOS  es la empresa encargada de la organización y gestión de paradas/puestos de venta\, además de la decoración medieval así como también de  la ambientación. Colabora RASTRILLO DE CULTURAS \nComo participar\nPara inscribirte y participar en este Mercado del Siglo de Oro ponerse en contacto a través del Teléfono de Inscripciones y consultas:\n695 022 197 Mayte \nMontaje e Inauguración\nEl Montaje del Mercado tendrá lugar el próximo viernes 10 de mayo\, en horas de la mañana. La inauguración oficial se celebrará por la tarde del mismo día 10 de mayo. El desmontaje de los puestos será el día 12 de mayo una vez finalice el mercado. \nRequisitos para participar\, precio y servicios\nLos requisitos básicos para participar son Parada de madera o hierro con decoración medieval\, vestuario medieval y tener la documentación al día. \nPrecio\nPara conocer el coste del metro lineal de este Mercado\, tienes que ponerte en contacto con el organizador. \nEl organizador proveerá de los siguientes servicios básicos. \n\nLUZ\nAGUA\nPUBLICIDAD\nVIGILANCIA DISUASORIA\nTIO VIVO Y ATRACCIONES INFANTILES\n\n\n\n\n \nAcerca de Almería\nAlmería es una ciudad y municipio español\, capital de la provincia homónima\, en la comunidad autónoma de Andalucía. Es el centro neurálgico de la Comarca Metropolitana de Almería\, en el extremo sureste de la península ibérica y de la comarca turística de Almería-Cabo de Gata-Níjar. \n\nCalendario 2024 :\n\n\nEnero\nFebrero\nMarzo\nAbril\nMayo\nJunio\nJulio\nAgosto\nSeptiembre\nOctubre\nNoviembre\nDiciembre\n\n Las Ferias y mercados medievales\nLas ferias medievales son eventos que recrean la atmósfera de la Edad Media. Por lo general\, se llevan a cabo en pueblos o ciudades\, y presentan puestos de vendedores que venden artesanías\, alimentos y bebidas. También puede haber entretenimiento\, como justas\, música y baile. . \nLos Mercados  Medievales son una forma popular de aprender sobre la historia de la Edad Media y experimentar la cultura de la época. También son una actividad divertida para toda la familia.
URL:https://demercadosmedievales.info/mercadomedieval/mercado-del-siglo-de-oro-de-almeria-10-al-12-de-mayo-2024/
LOCATION:Almería capital (***)\, Almeria\, Almeria\, España
CATEGORIES:Almería,Mercado Renacentista y Siglo de Oro
ATTACH;FMTTYPE=image/jpeg:https://demercadosmedievales.info/wp-content/uploads/2024/04/siglo_de_oro_almeria_Post_1200-x-630-px.jpg
ORGANIZER;CN="Recreaciones Adonay eventos":MAILTO:adonayrecreaciones@gmail.com
GEO:36.834047;-2.4637136
END:VEVENT
END:VCALENDAR