BEGIN:VCALENDAR
VERSION:2.0
PRODID:-//Mercados Medievales - ECPv6.15.20//NONSGML v1.0//EN
CALSCALE:GREGORIAN
METHOD:PUBLISH
X-ORIGINAL-URL:https://demercadosmedievales.info
X-WR-CALDESC:Eventos para Mercados Medievales
REFRESH-INTERVAL;VALUE=DURATION:PT1H
X-Robots-Tag:noindex
X-PUBLISHED-TTL:PT1H
BEGIN:VTIMEZONE
TZID:Europe/Madrid
BEGIN:DAYLIGHT
TZOFFSETFROM:+0100
TZOFFSETTO:+0200
TZNAME:CEST
DTSTART:20230326T010000
END:DAYLIGHT
BEGIN:STANDARD
TZOFFSETFROM:+0200
TZOFFSETTO:+0100
TZNAME:CET
DTSTART:20231029T010000
END:STANDARD
BEGIN:DAYLIGHT
TZOFFSETFROM:+0100
TZOFFSETTO:+0200
TZNAME:CEST
DTSTART:20240331T010000
END:DAYLIGHT
BEGIN:STANDARD
TZOFFSETFROM:+0200
TZOFFSETTO:+0100
TZNAME:CET
DTSTART:20241027T010000
END:STANDARD
BEGIN:DAYLIGHT
TZOFFSETFROM:+0100
TZOFFSETTO:+0200
TZNAME:CEST
DTSTART:20250330T010000
END:DAYLIGHT
BEGIN:STANDARD
TZOFFSETFROM:+0200
TZOFFSETTO:+0100
TZNAME:CET
DTSTART:20251026T010000
END:STANDARD
END:VTIMEZONE
BEGIN:VEVENT
DTSTART;TZID=Europe/Madrid:20241213T000000
DTEND;TZID=Europe/Madrid:20241215T235959
DTSTAMP:20260420T031915
CREATED:20241122T182403Z
LAST-MODIFIED:20241208T154937Z
UID:10001960-1734048000-1734307199@demercadosmedievales.info
SUMMARY:Mercado Navideño de Colmenar Viejo 2024 (Madrid)
DESCRIPTION:El fin de semana del 13 al 15 de diciembre habrá un mercadillo navideño\, que se instalará en la Plaza del Pueblo\, C/ de la Iglesia\, Plaza de Luis Gutiérrez y C/ del Viento. El horario será: viernes\, de 17:30 a 22:00h; sábado\, de 11:00 a 14:30h y de 17:30 a 22:00h\, y domingo\, de 11:00…  \n\n\n \n\n\n\n\n\n\n\n \n\n\n\n\nFerias de NavidadLlegan las fechas de los mercados navideños\,  consulta el calendario de Ferias Y Mercados de navidad . \n\n\n\n\n \n\n\n\nMercado Navideño\n\n\n\n¡La magia de la Navidad llega a Colmenar Viejo! Este diciembre\, la Plaza del Pueblo se llenará de espíritu festivo con un encantador Mercado Navideño\, ideal para disfrutar en familia y con amigos. \n\n\n\n¿Qué encontrarás?\n\n\n\n✨ Puestos de artesanía con regalos únicos y productos navideños. 🥯Gastronomía típica para deleitar tu paladar.🌟 Un ambiente lleno de luces\, música y decoración navideña.✨ Actividades para todas las edades en el corazón de Colmenar Viejo. \n\n\n\nUna experiencia mágica en un entorno acogedor ! \n\n\n\nCartel \n\n\n\nCartel del Mercado Navideño\n\n\n\n \n\n\n\nProgramación – Próximamente\n\n\n\n** Próximamente dispondremos del cartel y del programa con las actividades previstas. \n\n\n\nInformación básica del Mercado\n\n\n\nFecha de celebración Los dias 13 al 15 de Diciembre  del  2024 \n\n\n\nDonde se realizaEn la localidad de Colmenar Viejo que pertenece a la provincia de  MADRID  /  Colmenar Viejo es un municipio y localidad española de la Comunidad de Madrid. El término municipal cuenta con una población de 55 198 habitantes. \n\n\n\nUbicación del EventoEstará ubicado en la plaza del pueblo y alrededores \n\n\n\nInformación del Organizador\n\n\n\nEventos Bayarri  es la empresa encargada de la organización y gestión de paradas/puestos de venta.Encargada de la organización y gestión de paradas/puestos de venta\, además de la decoración romana así como también de  la ambientación. \n\n\n\nComo participarLos organizadores han facilitado los siguientes medios de contacto para que se inscriban y/o consulten los artesanos y mercaderes: \n\n\n\nContacto: ALVARO BAYARRITeléfono: 665356940WhatsApp 695.69.00.70Email: gerencia.eventosbayarri@gmail.cominfo.eventosbayarri@gmail.com \n\n\n\nMás fechas  Puedes conocer mas ferias y mercados en está provincia\, consultando nuestra sección de Eventos en Madrid \n\n\n\nOtros eventosConsulta Aquí otras ferias y mercados que organizará la empresa Eventos Bayarri \n\n\n\notros mercados temáticos y FeriasSi quieres conocer cuando se realizan más ferias y mercados\, puedes consultarlos visitando nuestro   Calendario de Eventos \n\n\n\nCalendario 2024\n\n\n\nCalendario 2025\n\n\n\nSobre los Mercados Medievales\n\n\n\nLas ferias medievales son eventos que recrean la atmósfera de la Edad Media. Por lo general\, se llevan a cabo en pueblos o ciudades\, y presentan puestos de vendedores que venden artesanías\, alimentos y bebidas. También puede haber entretenimiento\, como justas\, música y baile. \n\n\n\n\n\n\n\nOrganizador:\n\n\n\n\n\nLugar:\n\n\n\nColmenar Viejo es un municipio y localidad española de la Comunidad de Madrid. El término municipal cuenta con una población de 55 198 habitantes.
URL:https://demercadosmedievales.info/mercadomedieval/mercado-navideno-de-colmenar-viejo-2024-madrid/
CATEGORIES:Comunidad de Madrid,Mercados de navidad
ATTACH;FMTTYPE=image/jpeg:https://demercadosmedievales.info/wp-content/uploads/2024/11/navideno__colmenar_2024-f.jpg
ORGANIZER;CN="Eventos Bayarri":MAILTO:gerencia.eventosbayarri@gmail.com
END:VEVENT
END:VCALENDAR