BEGIN:VCALENDAR
VERSION:2.0
PRODID:-//Mercados Medievales - ECPv6.15.20//NONSGML v1.0//EN
CALSCALE:GREGORIAN
METHOD:PUBLISH
X-ORIGINAL-URL:https://demercadosmedievales.info
X-WR-CALDESC:Eventos para Mercados Medievales
REFRESH-INTERVAL;VALUE=DURATION:PT1H
X-Robots-Tag:noindex
X-PUBLISHED-TTL:PT1H
BEGIN:VTIMEZONE
TZID:Europe/Madrid
BEGIN:DAYLIGHT
TZOFFSETFROM:+0100
TZOFFSETTO:+0200
TZNAME:CEST
DTSTART:20230326T010000
END:DAYLIGHT
BEGIN:STANDARD
TZOFFSETFROM:+0200
TZOFFSETTO:+0100
TZNAME:CET
DTSTART:20231029T010000
END:STANDARD
BEGIN:DAYLIGHT
TZOFFSETFROM:+0100
TZOFFSETTO:+0200
TZNAME:CEST
DTSTART:20240331T010000
END:DAYLIGHT
BEGIN:STANDARD
TZOFFSETFROM:+0200
TZOFFSETTO:+0100
TZNAME:CET
DTSTART:20241027T010000
END:STANDARD
BEGIN:DAYLIGHT
TZOFFSETFROM:+0100
TZOFFSETTO:+0200
TZNAME:CEST
DTSTART:20250330T010000
END:DAYLIGHT
BEGIN:STANDARD
TZOFFSETFROM:+0200
TZOFFSETTO:+0100
TZNAME:CET
DTSTART:20251026T010000
END:STANDARD
END:VTIMEZONE
BEGIN:VEVENT
DTSTART;VALUE=DATE:20240412
DTEND;VALUE=DATE:20240415
DTSTAMP:20260421T161348
CREATED:20240221T192801Z
LAST-MODIFIED:20240221T192801Z
UID:10000934-1712880000-1713139199@demercadosmedievales.info
SUMMARY:Del 12 al 14 de Abril Mercado de Artesanía de De Primavera de CÁCERES 2024
DESCRIPTION:Mercado de Artesanía\, alimentación\, restauración\, cultura\, en el centro histórico de Cáceres\, ciudad patrimonio de la humanidad\, con mucho turismo\, con conciertos y animación\, rincón infantil y pasacalles. \n \nMercado de Artesanía De Primavera Cáceres\nFecha de inicio y finalización\n12 AL 14 DE ABRIL DE 2024 \nPlazo de Inscripción ( Hasta que día se pueden apuntar los artesanos y mercaderes)*\nHASTA AGOTAR PLAZAS \nLocalidad y Provincia\nCACERES CAPITAL \n \n  \nUbicación dentro de la localidad (calle\, Plaza\, vía\, etc.)\nCASCO HISTORICO DE CACERES\, (CIUDAD PATRIMONIO DE LA HUMANIDAD Y ASPIRANTE A CAPITAL CULTURAL EUROPEA 2030) PLAZA MAYOR\, PLAZA DE SANTA MARIA\, PLAZA DE SAN JORGE Y PLAZA DE SAN MATEO\, con mucha afluencia de turismo \nDescripción del Evento :\nMercado ARTESANIA\, ALIMENTACION\, RESTAURACION\, CULTURA\, en el centro histórico de Cáceres\, ciudad PATRIMONIO DE LA HUMANIDAD\, con mucho turismo\, con CONCIERTOS Y ANIMACION\, RINCON INFANTIL Y PASACALLES. \nDia y hora de Montaje :\nEl DIA 11 DE ABRIL DE 2024 el montaje se hara POR TURNOS \nFecha y hora de Inauguración\nDIA 12 DE ABRIL A LAS 11:30 \nEl organizador proveerá de : \n\nSeguridad\nAgua\nElectricidad\n\nOrganizador :\nACAC ASOCICACION DE COMERCIANTES Y ARTESANOS DE CACERES\nTeléfono 663882711\nEmail asciaciondecomercioacac@gmail.com\nOtro medio de contacto\nasociacionacaccaceres@gmail.com \nRequisitos de participación\naceptar bases de participación\nPrecio \n\nARTESANIA 75€ M\,\nALIMENTACION Y RESTAURACION CONSULTAR\,\nDESCUENTO ESPECIAL A EMPADRONADOS EN CACERES MAS DE DOS AÑOS Y ZONA GRATUITA (Plaza de San Mateo) PARA ARTESANOS de Cáceres con mas de 2 años de empadronamiento y 1 de actividad\n\n  \n\nCalendario de Mercado Medieval y Ferias 2024 :\n\n\nEnero\nFebrero\nMarzo\nAbril\nMayo\nJunio\nJulio\nAgosto\nSeptiembre\nOctubre\nNoviembre\nDiciembre\n\n Las Ferias y mercados medievales\n\n\nLas ferias medievales son eventos que recrean la atmósfera de la Edad Media. Por lo general\, se llevan a cabo en pueblos o ciudades\, y presentan puestos de vendedores que venden artesanías\, alimentos y bebidas. También puede haber entretenimiento\, como justas\, música y baile. . \nLos Mercados  Medievales son una forma popular de aprender sobre la historia de la Edad Media y experimentar la cultura de la época. También son una actividad divertida para toda la familia.
URL:https://demercadosmedievales.info/mercadomedieval/del-12-al-14-de-abril-mercado-de-artesania-de-de-primavera-de-caceres-2024/
LOCATION:Cáceres (Cáceres) (***)\, centro ciudad\, Cáceres\, Cáceres\, 10001\, España
CATEGORIES:Caceres,Mercado de artesanía y alimentación
ATTACH;FMTTYPE=image/jpeg:https://demercadosmedievales.info/wp-content/uploads/2024/02/mercado_primavera_caceres_2024-F.jpg
ORGANIZER;CN="ACAC%2C ASOCIACION DE COMERCIANTES Y ARTESANOS DE CACERES":MAILTO:acacasociaciondecomercio@gmail.com
GEO:39.4692619;-6.3736297
X-APPLE-STRUCTURED-LOCATION;VALUE=URI;X-ADDRESS=Cáceres (Cáceres) (***) centro ciudad Cáceres Cáceres 10001 España;X-APPLE-RADIUS=500;X-TITLE=centro ciudad:geo:-6.3736297,39.4692619
END:VEVENT
END:VCALENDAR