BEGIN:VCALENDAR
VERSION:2.0
PRODID:-//Mercados Medievales - ECPv6.15.20//NONSGML v1.0//EN
CALSCALE:GREGORIAN
METHOD:PUBLISH
X-WR-CALNAME:Mercados Medievales
X-ORIGINAL-URL:https://demercadosmedievales.info
X-WR-CALDESC:Eventos para Mercados Medievales
REFRESH-INTERVAL;VALUE=DURATION:PT1H
X-Robots-Tag:noindex
X-PUBLISHED-TTL:PT1H
BEGIN:VTIMEZONE
TZID:Europe/Madrid
BEGIN:DAYLIGHT
TZOFFSETFROM:+0100
TZOFFSETTO:+0200
TZNAME:CEST
DTSTART:20230326T010000
END:DAYLIGHT
BEGIN:STANDARD
TZOFFSETFROM:+0200
TZOFFSETTO:+0100
TZNAME:CET
DTSTART:20231029T010000
END:STANDARD
BEGIN:DAYLIGHT
TZOFFSETFROM:+0100
TZOFFSETTO:+0200
TZNAME:CEST
DTSTART:20240331T010000
END:DAYLIGHT
BEGIN:STANDARD
TZOFFSETFROM:+0200
TZOFFSETTO:+0100
TZNAME:CET
DTSTART:20241027T010000
END:STANDARD
BEGIN:DAYLIGHT
TZOFFSETFROM:+0100
TZOFFSETTO:+0200
TZNAME:CEST
DTSTART:20250330T010000
END:DAYLIGHT
BEGIN:STANDARD
TZOFFSETFROM:+0200
TZOFFSETTO:+0100
TZNAME:CET
DTSTART:20251026T010000
END:STANDARD
END:VTIMEZONE
BEGIN:VEVENT
DTSTART;VALUE=DATE:20240327
DTEND;VALUE=DATE:20240401
DTSTAMP:20260420T012914
CREATED:20240210T091612Z
LAST-MODIFIED:20240210T091612Z
UID:10000890-1711497600-1711929599@demercadosmedievales.info
SUMMARY:31º Mercado De Artesanía en Semana Santa de Lorca 2024
DESCRIPTION:Abierto plazo de inscripción para participar en el 31º Mercado de artesanía en Semana Santa de Lorca\, MASS ARTESANIA 2024\, que se celebrará del 27 al 31 de marzo en la céntrica Plaza de Calderón… \n \nMASS ARTESANÍA 2024 – XL Mercado de Artesanía en Semana Santa de Lorca\nFecha de inicio y finalización\ndel 27 al 31 de marzo 2024\nPlazo de Inscripción ( Hasta que día se pueden apuntar los artesanos y mercaderes)*\n20 /febrero/2024\nLocalidad y Provincia\nLORCA – MURCIA\nUbicación dentro de la localidad (calle\, Plaza\, vía\, etc.)\nPlaza Calderón de la Barca \n\nDescripción del Evento :\nAbierto plazo de inscripción para participar en el 31º Mercado de artesanía en Semana Santa de Lorca\, MASS ARTESANIA 2024\, que se celebrará del 27 al 31 de marzo en la céntrica Plaza de Calderón en Lorca\, Murcia. \nMass Artesanía es una cita ineludible de profesionales de la artesanía en estas fechas\, para la promoción y comercialización de sus creaciones en barro\, madera\, metal\, vidrio\, cuero\, textil\, fibras vegetales.. \nSi estás interesado en participar envía la inscripción cumplimentada junto con la documentación que se solicita. El plazo de inscripción finaliza el 20 de febrero. Contacta con nosotros para cualquier aclaración o más información que puedas necesitar. \nDia y hora de Montaje :\nDías 26 y 27 de marzo \nFecha y hora de Inauguración\nMiércoles 27/marzo a las 18:00h \nEl organizador proveerá de :\nSeguridad\nElectricidad\nOtro:  Caseta con cerramiento \nOrganizador :\nCámara Oficial de Comercio\, Industria y Servicios de Lorca – Ayuntamiento de Lorca\nTeléfono 968 477 488 / 629 86 50 66\nEmail eacebo@camaralorca.com \nRequisitos de participación\nToda la información en las normas de participación : NORMAS PARTICIPACION  Descárgatelas \n \nDescárgate la Solicitud de participación :   Solicitud y bases de participación MASS ARTESANÍA 2024 \nPrecio\nStand tipo A: 325€ +IVA \n  \nMercados de Artesania\, Mercados Medievales\, España\, Region de Murcia\, Lorca\, Mass artesania\,
URL:https://demercadosmedievales.info/mercadomedieval/31o-mercado-de-artesania-en-semana-santa-de-lorca-2024/
LOCATION:Lorca (Murcia) (***)\, Lorca\, Murcia\, 30800\, España
CATEGORIES:Feria de artesanía,Region de Murcia
ATTACH;FMTTYPE=image/jpeg:https://demercadosmedievales.info/wp-content/uploads/2024/02/mass_artesania_lorca_2024-f.jpg
ORGANIZER;CN="C%C3%A1mara Oficial de Comercio%2C Industria y Servicios de Lorca - Ayuntamiento de Lorca":MAILTO:eacebo@camaralorca.com
GEO:37.6735925;-1.6968357
END:VEVENT
END:VCALENDAR