BEGIN:VCALENDAR
VERSION:2.0
PRODID:-//Mercados Medievales - ECPv6.15.20//NONSGML v1.0//EN
CALSCALE:GREGORIAN
METHOD:PUBLISH
X-ORIGINAL-URL:https://demercadosmedievales.info
X-WR-CALDESC:Eventos para Mercados Medievales
REFRESH-INTERVAL;VALUE=DURATION:PT1H
X-Robots-Tag:noindex
X-PUBLISHED-TTL:PT1H
BEGIN:VTIMEZONE
TZID:Europe/Madrid
BEGIN:DAYLIGHT
TZOFFSETFROM:+0100
TZOFFSETTO:+0200
TZNAME:CEST
DTSTART:20220327T010000
END:DAYLIGHT
BEGIN:STANDARD
TZOFFSETFROM:+0200
TZOFFSETTO:+0100
TZNAME:CET
DTSTART:20221030T010000
END:STANDARD
BEGIN:DAYLIGHT
TZOFFSETFROM:+0100
TZOFFSETTO:+0200
TZNAME:CEST
DTSTART:20230326T010000
END:DAYLIGHT
BEGIN:STANDARD
TZOFFSETFROM:+0200
TZOFFSETTO:+0100
TZNAME:CET
DTSTART:20231029T010000
END:STANDARD
BEGIN:DAYLIGHT
TZOFFSETFROM:+0100
TZOFFSETTO:+0200
TZNAME:CEST
DTSTART:20240331T010000
END:DAYLIGHT
BEGIN:STANDARD
TZOFFSETFROM:+0200
TZOFFSETTO:+0100
TZNAME:CET
DTSTART:20241027T010000
END:STANDARD
BEGIN:DAYLIGHT
TZOFFSETFROM:+0100
TZOFFSETTO:+0200
TZNAME:CEST
DTSTART:20250330T010000
END:DAYLIGHT
BEGIN:STANDARD
TZOFFSETFROM:+0200
TZOFFSETTO:+0100
TZNAME:CET
DTSTART:20251026T010000
END:STANDARD
BEGIN:DAYLIGHT
TZOFFSETFROM:+0100
TZOFFSETTO:+0200
TZNAME:CEST
DTSTART:20260329T010000
END:DAYLIGHT
BEGIN:STANDARD
TZOFFSETFROM:+0200
TZOFFSETTO:+0100
TZNAME:CET
DTSTART:20261025T010000
END:STANDARD
END:VTIMEZONE
BEGIN:VEVENT
DTSTART;TZID=Europe/Madrid:20251205T000000
DTEND;TZID=Europe/Madrid:20251207T235959
DTSTAMP:20260420T001249
CREATED:20251009T185902Z
LAST-MODIFIED:20251009T191436Z
UID:10002867-1764892800-1765151999@demercadosmedievales.info
SUMMARY:MERCADO NAVIDEÑO DE LUCILLOS 2025 (TOLEDO)
DESCRIPTION:Vive la magia del Mercado Navideño de Lucillos del 5 al 7 de diciembre con artesanía\, talleres y ambiente festivo. \n\n\n\n\n\n\n\n \n\n\n\n\n\n  \n    🎄 Mercado Navideño de Lucillos 2025 (Toledo)\n    \n  \n\n\n  \n    📅 Datos del evento\n    \n      📍 Localidad: Lucillos (Toledo)\n      📆 Fechas: 5\, 6 y 7 de diciembre de 2025\n      🕰 Horario: Consultar organización\n      📌 Lugar: Plaza principal de Lucillos\n      🎪 Lema: «✨ Una Navidad de antaño con sabor a hoy»\n      🎄 Organiza: ANAYAO EVENTOS\n      📞 Contacto e Inscripciones: Sagrario – Tel./WhatsApp: 607 71 57 90\n      ✉️ Email: anayao.eventos@gmail.com\n    \n  \n\n\n  \n    🧾 Descripción del evento\n    El Mercado Navideño de Lucillos (Toledo) se celebrará los días 5\, 6 y 7 de diciembre de 2025\, llenando las calles del municipio de espíritu festivo y tradición. Bajo el lema “Una Navidad de antaño con sabor a hoy”\, el evento ofrecerá puestos de artesanía\, gastronomía\, talleres y animación para todas las edades. \n\n\n    Organizado por ANAYAO EVENTOS\, este mercado invita a vecinos y visitantes a disfrutar de un ambiente acogedor\, con luces\, aromas y música que evocan la magia de la Navidad. \n\n\n    Los asistentes podrán encontrar productos típicos\, regalos únicos y un sinfín de actividades para disfrutar en familia\, en un entorno lleno de encanto. \n\n  \n\n  \n  \n    🎅 Actividades destacadas\n    \n      Puestos de artesanía y productos navideños\n      Degustaciones y gastronomía local\n      Talleres participativos y actividades infantiles\n      Música y animación de calle\n      Decoración temática y ambiente festivo\n    \n  \n\n\n  \n    📝 Información e inscripciones\n    Para participar como artesano o expositor\, contacta con la organización: \n    \n      📞 Sagrario – Tel./WhatsApp: 607 71 57 90\n      📧 Email: anayao.eventos@gmail.com\n    \n  \n\n\n  \n    🏷️ Etiquetas\n    \n      Mercado Navideño\,\n      Lucillos\,\n      Toledo\,\n      Navidad 2025\,\n      Artesanía\,\n      Eventos en Toledo\,\n      ANAYAO Eventos\n     \n  \n\n\n\n\n \n\n\n\n\n    🏡 Sobre Lucillos (Toledo)\n    Lucillos es una encantadora localidad situada en la comarca de Talavera de la Reina\, en la provincia de Toledo. De ambiente tranquilo y hospitalario\, su entorno rural y sus tradiciones hacen de este municipio un lugar ideal para celebrar un evento navideño lleno de autenticidad. \n    Con sus calles decoradas\, su plaza como punto de encuentro y su espíritu festivo\, Lucillos se convierte durante estas fechas en un destino perfecto para vivir la Navidad más tradicional. \n  \n\n\n\n\n\n \n\n\n\nPara más información puedes consultar :\n\n\n\n\nPuedes Consultar en esté enlace las Ferias y Mercados en España\n\n\n\nHaz clic en ESTE enlace :  Conoce los Organizadores de Mercados y Ferias\n\n\n\n\n\n\n\n\n¿Te apuntas? Dale follow y no te lo pierdas.\n\n\n\n\nTelegram: Recibe nuestras noticias y contenido exclusivo (clic aquí).\n\n\n\nNewsletter: Recibe un correos con nuestras últimas noticias (clic aquí).\n\n\n\nWhatsApp: Suscríbete para seguirnos en nuestro canal (clic aquí).\n\n\n\nInstagram: Síguenos en Instagram ( clic aquí )\n\n\n\n\nEn Resumen…\n\n\n\nDel 5 al 7 de diciembre de 2025\, el Mercado Navideño de Lucillos (Toledo) te invita a vivir una experiencia mágica donde la tradición\, la artesanía y la gastronomía se unen para dar la bienvenida a la Navidad. Además\, podrás disfrutar de talleres\, actividades familiares y un ambiente festivo que hará brillar cada rincón del municipio. \n\n\n\n🎄 MERCADO NAVIDEÑO DE LUCILLOS (TOLEDO) 🎄📅 5\, 6 y 7 de diciembre de 2025✨ Una Navidad de antaño con sabor a hoy \n\n\n\nVive un mercado lleno de encanto con artesanía\, talleres\, gastronomía y espíritu festivo en pleno corazón de Lucillos. \n\n\n\n📞 Info e inscripciones: Sagrario 607 71 57 90Organiza: ANAYAO EVENTOS#Navidad2025 #Lucillos #MercadoNavideño #EventosToledo #Artesanía #ANAYAO
URL:https://demercadosmedievales.info/mercadomedieval/mercado-navideno-de-lucillos-2025-toledo/
LOCATION:Lucillos (Toledo) (***)\, en el centro\, Lucillos\, Toledo\, España
CATEGORIES:Castilla La Mancha,Mercados de navidad,Toledo
ATTACH;FMTTYPE=image/jpeg:https://demercadosmedievales.info/wp-content/uploads/2025/10/f_navidad_lucillos.jpg
GEO:39.9858586;-4.6127574
X-APPLE-STRUCTURED-LOCATION;VALUE=URI;X-ADDRESS=Lucillos (Toledo) (***) en el centro Lucillos Toledo España;X-APPLE-RADIUS=500;X-TITLE=en el centro:geo:-4.6127574,39.9858586
END:VEVENT
BEGIN:VEVENT
DTSTART;TZID=Europe/Madrid:20241206T000000
DTEND;TZID=Europe/Madrid:20241208T235959
DTSTAMP:20260420T001249
CREATED:20240907T075543Z
LAST-MODIFIED:20241121T064018Z
UID:10001690-1733443200-1733702399@demercadosmedievales.info
SUMMARY:Mercado Navideño de Lucillos 2024 (Toledo)
DESCRIPTION:Vive la magia del Mercado Navideño de Lucillos del 5 al 7 de diciembre con artesanía\, talleres y ambiente festivo.  \n\n\n\n\n\n\n \n\n\n\nFerias de NavidadLlegan las fechas de los mercados navideños\,  consulta el calendario de Ferias Y Mercados de navidad . \n\n\n\nMercado de Navidad\n\n\n\nCartel\n\n\n\n\n\n\n\nProgramación – Próximamente\n\n\n\n** Próximamente dispondremos del programa con las actividades previstas. \n\n\n\nInformación básica del Mercado\n\n\n\nFecha de celebración Los dias 06 al 08 de diciembre del  2024 \n\n\n\nDonde se realizaEn la localidad de Lucillos que pertenece a la provincia de TOLEDO \n\n\n\nInformación del Organizador\n\n\n\nLa empresa organizadora es ANAYAO \n\n\n\nComo participar \n\n\n\nPara más Información e Inscripciones:  Sagrario 607 71 57 90\n\n\n\nMás fechasPuedes conocer mas ferias y mercados en está provincia\, consultando nuestra sección de Eventos en Toledo \n\n\n\nOtros eventosConsulta Aquí otras ferias y mercados que organizará la empresa Anayao Eventos \n\n\n\notros mercados temáticos y FeriasSi quieres conocer cuando se realizan más ferias y mercados\, puedes consultarlos visitando nuestro  👀 Calendario de Eventos \n\n\n\nCalendario 2024\n\n\n\nSobre los Mercados Medievales\n\n\n\nLas ferias medievales son eventos que recrean la atmósfera de la Edad Media. Por lo general\, se llevan a cabo en pueblos o ciudades\, y presentan puestos de vendedores que venden artesanías\, alimentos y bebidas. También puede haber entretenimiento\, como justas\, música y baile. \n\n\n\n\n\n\n\nDetalles del organizador\n\n\n\n\n\nLocalización\n\n\n\nLucillos es un municipio y localidad española de la provincia de Toledo\, en la comunidad autónoma de Castilla-La Mancha.
URL:https://demercadosmedievales.info/mercadomedieval/mercado-navideno-de-lucillos-2024-toledo/
LOCATION:Lucillos (Toledo) (***)\, en el centro\, Lucillos\, Toledo\, España
CATEGORIES:Cartel,Mercados de navidad,Toledo
ATTACH;FMTTYPE=image/jpeg:https://demercadosmedievales.info/wp-content/uploads/2024/09/mercado_navideno_lucillos_2024-f.jpg
GEO:39.9858586;-4.6127574
X-APPLE-STRUCTURED-LOCATION;VALUE=URI;X-ADDRESS=Lucillos (Toledo) (***) en el centro Lucillos Toledo España;X-APPLE-RADIUS=500;X-TITLE=en el centro:geo:-4.6127574,39.9858586
END:VEVENT
BEGIN:VEVENT
DTSTART;VALUE=DATE:20231208
DTEND;VALUE=DATE:20231210
DTSTAMP:20260420T001249
CREATED:20231024T072704Z
LAST-MODIFIED:20231115T161249Z
UID:10000604-1701993600-1702166399@demercadosmedievales.info
SUMMARY:MERCADILLO NAVIDEÑO DE LUCILLOS (TOLEDO) 2023
DESCRIPTION:El MERCADILLO NAVIDEÑO DE LUCILLOS\, en la provincia de Toledo\, tendrá lugar los días 8 y 9 de diciembre de 2023. Contará con una amplia variedad de puestos de artesanía\, artículos navideños\, juguetes\, complementos y alimentación. \n \nMERCADILLO NAVIDEÑO EN LUCILLOS (TOLEDO) 2023\nFECHAS :  08 y 09 de Diciembre 2023\nLOCALIDAD Y PROVINCIA: LUCILLOS\, TOLEDO  – Lucillos es un municipio y localidad española de la provincia de Toledo\, en la comunidad autónoma de Castilla-La Mancha.\nUBICACION : en el centro de la localidad\nMONTAJE : por confirmar\nEL ORGANIZADOR PROVEERÁ DE :   Agua\, electricidad y vigilancia disuasoria. \nPuedes participar poniéndote en contacto con :\nOrganiza : ANAYAO\nDatos de contacto: Telefono : 925800859 – Sagrario 607 71 57 90\nHorario de atencion : DE LUNES A VIERNES DE 9.00H A 15.00H \nCartel\n \nPróximos mercados y ferias organizados por Anayao \nNo hay eventos programados. \nPróximos mercados y ferias de navidad : \nNo hay eventos programados. \nMás mercados y ferias en Toledo : \nFestival Steampunk de Illescas 2026 (Toledo)24 abril - 26 abrilFeria de Abril en Yeles 2026 música flamenco y gastronomía (Toledo)25 abrilMercado Medieval de Toledo 2026 — Paseo Recaredo30 abril - 3 mayoMercado Cervantino en El Toboso 2026 (Toledo)30 abril - 3 mayoMercado Medieval de Las Ventas con Peña Aguilera 2026 Toledo2 mayo - 3 mayo \nMercados y ferias en Castilla La Mancha\, próximas fechas : \nMercado Barroco de Almansa 2026 (Albacete) 319 Recreación internacional de la Batalla de Almansa24 abril - 26 abrilFestival Steampunk de Illescas 2026 (Toledo)24 abril - 26 abrilFeria de Abril en Yeles 2026 música flamenco y gastronomía (Toledo)25 abrilMercado Medieval de Toledo 2026 — Paseo Recaredo30 abril - 3 mayoMercado Cervantino en El Toboso 2026 (Toledo)30 abril - 3 mayo \n  \nSobre Lucillos\nLucillos es un municipio y localidad española de la provincia de Toledo\, en la comunidad autónoma de Castilla-La Mancha. \nEl municipio se encuentra situado «en terreno llano pero elevado».​ Pertenece a la comarca de Torrijos y linda con los términos municipales de Cardiel de los Montes al norte\, Los Cerralbos e Illán de Vacas al este\, Cebolla y Montearagón y Cazalegas y Castillo de Bayuela al oeste\, todos de Toledo. \nSu clima es continental suavizado por el entorno del valle del Tajo. Sus tierras se componen de monte bajo y cultivos. Por el antiguo despoblado de Brujel circula un arroyo\, seco en la mayor parte del año. \nMERCADOS MEDIEVALES – MERCADILLO NAVIDEÑO DE LUCILLOS (TOLEDO) 2023 \nEspaña\, Castilla La Mancha\, Toledo\, Lucillos\, MERCADOS MEDIEVALES\, MERCADOS DE NAVIDAD\, MERCADILLO NAVIDEÑO DE LUCILLOS
URL:https://demercadosmedievales.info/mercadomedieval/mercadillo-navideno-den-lucillos-toledo-2023/
LOCATION:Lucillos (Toledo) (***)\, en el centro\, Lucillos\, Toledo\, España
CATEGORIES:Anayao eventos temáticos,Lucillos,Mercados de navidad
ATTACH;FMTTYPE=image/jpeg:https://demercadosmedievales.info/wp-content/uploads/2023/10/lucillos_navidad_2023_WEB.jpg
GEO:39.9858586;-4.6127574
X-APPLE-STRUCTURED-LOCATION;VALUE=URI;X-ADDRESS=Lucillos (Toledo) (***) en el centro Lucillos Toledo España;X-APPLE-RADIUS=500;X-TITLE=en el centro:geo:-4.6127574,39.9858586
END:VEVENT
END:VCALENDAR