BEGIN:VCALENDAR
VERSION:2.0
PRODID:-//Mercados Medievales - ECPv6.15.20//NONSGML v1.0//EN
CALSCALE:GREGORIAN
METHOD:PUBLISH
X-WR-CALNAME:Mercados Medievales
X-ORIGINAL-URL:https://demercadosmedievales.info
X-WR-CALDESC:Eventos para Mercados Medievales
REFRESH-INTERVAL;VALUE=DURATION:PT1H
X-Robots-Tag:noindex
X-PUBLISHED-TTL:PT1H
BEGIN:VTIMEZONE
TZID:Europe/Madrid
BEGIN:DAYLIGHT
TZOFFSETFROM:+0100
TZOFFSETTO:+0200
TZNAME:CEST
DTSTART:20220327T010000
END:DAYLIGHT
BEGIN:STANDARD
TZOFFSETFROM:+0200
TZOFFSETTO:+0100
TZNAME:CET
DTSTART:20221030T010000
END:STANDARD
BEGIN:DAYLIGHT
TZOFFSETFROM:+0100
TZOFFSETTO:+0200
TZNAME:CEST
DTSTART:20230326T010000
END:DAYLIGHT
BEGIN:STANDARD
TZOFFSETFROM:+0200
TZOFFSETTO:+0100
TZNAME:CET
DTSTART:20231029T010000
END:STANDARD
BEGIN:DAYLIGHT
TZOFFSETFROM:+0100
TZOFFSETTO:+0200
TZNAME:CEST
DTSTART:20240331T010000
END:DAYLIGHT
BEGIN:STANDARD
TZOFFSETFROM:+0200
TZOFFSETTO:+0100
TZNAME:CET
DTSTART:20241027T010000
END:STANDARD
END:VTIMEZONE
BEGIN:VEVENT
DTSTART;VALUE=DATE:20231007
DTEND;VALUE=DATE:20231009
DTSTAMP:20260421T221126
CREATED:20230924T062750Z
LAST-MODIFIED:20231120T090207Z
UID:10000098-1696636800-1696809599@demercadosmedievales.info
SUMMARY:Feria de la Seda en Los Morales ( Sevilla ) 2023
DESCRIPTION:La Feria de la Seda son Jornadas de recreación histórica para conmemorar la antigua feria de paños y sedas de Los Molares. Mercado de época\, animaciones callejera\, juegos infantiles\, una cena medieval\, visitas guiadas\, conferencias… \n \nFeria de la seda\nFECHAS: 07 y 08 de Octubre del 2023 \nLOCALIDAD Y PROVINCIA : Los Molares\, SEVILLA \nQuien organiza la Feria de la seda ?\nEsta actividad es organizada por la Asociación de la Seda en colaboración con el Ayuntamiento de Los Molares. \nMás información :  feriadelaseda@gmail.com \nCartel\n \nQué es la Feria de la seda ?\nSon jornadas de recreación histórica para conmemorar la antigua feria de paños y sedas de Los Molares. \nUn poco de historia…\nEn 1465 el rey Enrique IV de Castilla concedía a Los Molares la facultad de celebrar una feria franca por el mes de octubre. Con el tiempo dicha feria fue una de las más importantes de España\, especialmente en el comercio de productos textiles lo que le valió el sobrenombre de Feria de la Seda. \nEste año 2023..\nEste año\, el municipio volverá a recrear la importante feria de paños y sedas de Los Molares que fue creada el año 1465 y desapareció en el último tercio del siglo XVII. \nSerá el fin de semana del 7 y 8 de octubre cuando el famoso castillo molareño\, construido en el siglo XV cuando el rey Fernando IV otorga a Lope Gutiérrez de Toledo la heredad del Molar\, se llenará de actividades\, como la instalación de un mercado de época\, animaciones callejera\, juegos infantiles\, una cena medieval\, visitas guiadas\, conferencias… \nSobre Los Morales..\nLos Molares es un municipio español de la provincia de Sevilla\, Andalucía\, situada en la comarca de La Campiña. En 2022 contaba con 3559 habitantes.​ Está a 44 kilómetros de la capital de provincia\, Sevilla. \nmercadosmedievales.net – Feria de la Seda en Los Morales ( Sevilla ) 2023 \nLos Morales\, Sevilla\, Andalucía
URL:https://demercadosmedievales.info/mercadomedieval/feria-de-la-seda-en-los-morales-sevilla-2023/
LOCATION:Los Molares ( Sevilla ) (***)\, Alrededores del Castillo\, Los Molares\, Sevilla\, 41750\, España
CATEGORIES:Asociación de la Seda,Ayuntamiento de Los Morales,Los Morales,Mercado Medieval
ATTACH;FMTTYPE=image/jpeg:https://demercadosmedievales.info/wp-content/uploads/2023/09/LOS_MOLARES_FERIA_DE_SEDA_2023_CARTEL.jpg
ORGANIZER;CN="Asociaci%C3%B3n de la Seda":MAILTO:feriadelaseda@gmail.com
GEO:37.1721658;-5.6773512
X-APPLE-STRUCTURED-LOCATION;VALUE=URI;X-ADDRESS=Los Molares ( Sevilla ) (***) Alrededores del Castillo Los Molares Sevilla 41750 España;X-APPLE-RADIUS=500;X-TITLE=Alrededores del Castillo:geo:-5.6773512,37.1721658
END:VEVENT
END:VCALENDAR