BEGIN:VCALENDAR
VERSION:2.0
PRODID:-//Mercados Medievales - ECPv6.15.20//NONSGML v1.0//EN
CALSCALE:GREGORIAN
METHOD:PUBLISH
X-ORIGINAL-URL:https://demercadosmedievales.info
X-WR-CALDESC:Eventos para Mercados Medievales
REFRESH-INTERVAL;VALUE=DURATION:PT1H
X-Robots-Tag:noindex
X-PUBLISHED-TTL:PT1H
BEGIN:VTIMEZONE
TZID:Europe/Madrid
BEGIN:DAYLIGHT
TZOFFSETFROM:+0100
TZOFFSETTO:+0200
TZNAME:CEST
DTSTART:20230326T010000
END:DAYLIGHT
BEGIN:STANDARD
TZOFFSETFROM:+0200
TZOFFSETTO:+0100
TZNAME:CET
DTSTART:20231029T010000
END:STANDARD
BEGIN:DAYLIGHT
TZOFFSETFROM:+0100
TZOFFSETTO:+0200
TZNAME:CEST
DTSTART:20240331T010000
END:DAYLIGHT
BEGIN:STANDARD
TZOFFSETFROM:+0200
TZOFFSETTO:+0100
TZNAME:CET
DTSTART:20241027T010000
END:STANDARD
BEGIN:DAYLIGHT
TZOFFSETFROM:+0100
TZOFFSETTO:+0200
TZNAME:CEST
DTSTART:20250330T010000
END:DAYLIGHT
BEGIN:STANDARD
TZOFFSETFROM:+0200
TZOFFSETTO:+0100
TZNAME:CET
DTSTART:20251026T010000
END:STANDARD
END:VTIMEZONE
BEGIN:VEVENT
DTSTART;TZID=Europe/Madrid:20241004T000000
DTEND;TZID=Europe/Madrid:20241006T235959
DTSTAMP:20260422T084522
CREATED:20240827T071852Z
LAST-MODIFIED:20240930T093729Z
UID:10001652-1728000000-1728259199@demercadosmedievales.info
SUMMARY:Mercado Medieval ·La Partida de Diego· de Teruel 2024 Programación
DESCRIPTION:A primeros de Octubre se recrea esta historia\, 04 al 06 de Octubre del 2024  \, preludio de la tragedia de Los Amantes de Teruel.  \n\n\n\n\n\n\nMercado Medieval ·La Partida de Diego· de Teruel\n\n\n\nEl amor entre Isabel de Segura y Diego de Marcilla\, la petición de mano y la concesión del plazo para conseguirla\, coincide con el llamamiento del Rey Pedro para la batalla de Las Navas de Tolosa (1212) en la que participaron entre muchos otros\, los caballeros de Teruel y su Comunidad de Aldeas. \nAquí se reunieron pues\, para partir hacia Castilla desde una Villa bulliciosa con los atractivos propios de la Edad Media. \nA primeros de Octubre se recrea esta historia\, preludio de la tragedia de Los Amantes de Teruel \n\n\n\n \n\n\n\n\n\nLa Partida de Diego es una celebración asociada a la leyenda de los Amantes de Teruel con menos eco que las famosas Bodas de Isabel de cada mes de febrero\, pero que sin duda es una tradición ya muy asentada en la capital turolense.\n \n\nDiego parte a la guerra\n\n\n\nPara que Teruel pueda celebrar una de sus fiestas más bonitas (Las Bodas de Isabel) Diego de Marcilla debe partir primero a la guerra para conseguir fortuna y un título\, y poder casarse así con su Isabel. Cuenta la leyenda que la petición de mano de Diego a su amada coincidió con el llamamiento del Rey Pedro para la batalla de Las Navas de Tolosa (1212) en la que participaron entre muchos otros\, los caballeros de Teruel y su Comunidad de Aldeas. Aquí se reunieron pues\, para partir hacia Castilla desde una Villa bulliciosa con los atractivos propios de la Edad Media. \nA primeros de Octubre se recrea esta historia\, preludio de la tragedia de Los Amantes de Teruel. Desde hace más de 10 años\, para estas fechas\, comienza la más hermosa historia de amor jamás contada: la promesa de amor eterno entre Diego e Isabel\, la petición de mano y la concesión de un plazo al amante para buscar fortuna en la batalla y poder desposar a su amada. La Villa de Teruel vuelve al año 1212 para devolver a la vida a sus Amantes. \nProgramación \n \n\n\n\n\nEvento Partida de Diego\nFechas 4 al 6 de Octubre del 2024\nLocalidad y Provincia : En Teruel ( TERUEL )\nPlazo de Inscripción: 4 de Septiembre\nMotivo del Evento Los Amantes de Teruel\nUbicación dentro de la localidad (plaza\, calle\, parque\, etc) Centro de Teruel\nNro de paradas máximo 100\nDía y Hora de Montaje Viernes 4 de Octubre hasta las 14.00 h\nDía y Hora de Inauguración Viernes 4 de Octubre 17.00h\nRequisitos para participar como paradista Documentacion reglamentaria y producto medieval\nVestuario y temática del Puesto Medieval año 1212\nComo Reserva el interesado mercado@bodasdeisabel.com\nPrecio por metro / lineal o de la Caseta consultar en www.bodasdeisabel.com\nEl Organizador proveerá de…. Luz y agua\nEmpresa/Asociación/ayuntamiento que organiza Fundacion Bodas de Isabel\nTeléfono/s del Organizador 616806260\nPersona de Contacto Mapi Hernando\nEmail del Organizador mercado@bodasdeisabel.com\n\nBases de participación : \nNormas de la organización del mercadoNormas y condiciones higiénicasCriterios de adjudicaciónSolicitud y pujaDocumentación a presentar \n\n\n\n\n\n\n\nCalendario 2024 \n\n\n\nSobre los Mercados Medievales\n\n\n\nLas ferias medievales son eventos que recrean la atmósfera de la Edad Media. Por lo general\, se llevan a cabo en pueblos o ciudades\, y presentan puestos de vendedores que venden artesanías\, alimentos y bebidas. También puede haber entretenimiento\, como justas\, música y baile. \n\n\n\n\n\n\n\nDetalles del organizador\n\n\n\n\n\nLocalización
URL:https://demercadosmedievales.info/mercadomedieval/mercado-medieval-%c2%b7la-partida-de-diego%c2%b7-de-teruel-2024/
LOCATION:Teruel (***)\, centro histórico\, Teruel\, Teruel\, 44001\, España
CATEGORIES:Cartel,Mercado Medieval,Programación,Teruel
ATTACH;FMTTYPE=image/jpeg:https://demercadosmedievales.info/wp-content/uploads/2024/09/la-partida-de-diego-teruel-Programa.jpg
ORGANIZER;CN="Fundaci%C3%B3n de las Bodas de Isabel%C2%A0":MAILTO:fundacion@bodasdeisabel.com
GEO:40.3417974;-1.1137191
X-APPLE-STRUCTURED-LOCATION;VALUE=URI;X-ADDRESS=Teruel (***) centro histórico Teruel Teruel 44001 España;X-APPLE-RADIUS=500;X-TITLE=centro histórico:geo:-1.1137191,40.3417974
END:VEVENT
END:VCALENDAR