BEGIN:VCALENDAR
VERSION:2.0
PRODID:-//Mercados Medievales - ECPv6.15.20//NONSGML v1.0//EN
CALSCALE:GREGORIAN
METHOD:PUBLISH
X-WR-CALNAME:Mercados Medievales
X-ORIGINAL-URL:https://demercadosmedievales.info
X-WR-CALDESC:Eventos para Mercados Medievales
REFRESH-INTERVAL;VALUE=DURATION:PT1H
X-Robots-Tag:noindex
X-PUBLISHED-TTL:PT1H
BEGIN:VTIMEZONE
TZID:Europe/Madrid
BEGIN:DAYLIGHT
TZOFFSETFROM:+0100
TZOFFSETTO:+0200
TZNAME:CEST
DTSTART:20220327T010000
END:DAYLIGHT
BEGIN:STANDARD
TZOFFSETFROM:+0200
TZOFFSETTO:+0100
TZNAME:CET
DTSTART:20221030T010000
END:STANDARD
BEGIN:DAYLIGHT
TZOFFSETFROM:+0100
TZOFFSETTO:+0200
TZNAME:CEST
DTSTART:20230326T010000
END:DAYLIGHT
BEGIN:STANDARD
TZOFFSETFROM:+0200
TZOFFSETTO:+0100
TZNAME:CET
DTSTART:20231029T010000
END:STANDARD
BEGIN:DAYLIGHT
TZOFFSETFROM:+0100
TZOFFSETTO:+0200
TZNAME:CEST
DTSTART:20240331T010000
END:DAYLIGHT
BEGIN:STANDARD
TZOFFSETFROM:+0200
TZOFFSETTO:+0100
TZNAME:CET
DTSTART:20241027T010000
END:STANDARD
END:VTIMEZONE
BEGIN:VEVENT
DTSTART;VALUE=DATE:20230922
DTEND;VALUE=DATE:20230925
DTSTAMP:20260422T154425
CREATED:20230918T183613Z
LAST-MODIFIED:20230918T183626Z
UID:10000071-1695340800-1695599999@demercadosmedievales.info
SUMMARY:Mercado medieval en Lopera\, Jaén 2023
DESCRIPTION:Mercado medieval en el entorno del castillo de Lopera \, de participación gratuita para artesanos y mercaderes. 22-24 de Septiembre 2023 \n \nMercado medieval en Lopera\n\nEvento Mercado medieval\nFechas 22 A 24 SEPTIEMBRE 2023\nLocalidad y Provincia LOPERA JAEN\nPlazo de Inscripción : 19 SEPTIEMBRE\nUbicación dentro de la localidad (plaza\, calle\, parque\, etc) CASTILLO\nNro de paradas máximo 30\nDía y Hora de Montaje JUEVES Y VIERNES\nDía y Hora de Inauguración VIERNES 22 A 20.00 HRS\nRequisitos para participar como paradista  GRATIS NOSOTROS CORREMOS CON TODO\nVestuario y temática del Puesto  Medieval\nComo Reserva el interesado EMAIL LOPERACULTURAL@GMAIL.COM\nPrecio por metro / lineal o de la Caseta GRATUITO\nEl Organizador proveerá de….LUZ AGUA Y SEGURIDAD\nEmpresa/Asociación/ayuntamiento que organiza AYUNTAMIENTO LOPERA\nTeléfono/s del Organizador no facilitado\nPersona de Contacto no facilitado\nEmail del Organizador LOPERACULTURAL@GMAIL.COM\nHabitantes de la Localidad 3.668\nDistancia Kilométrica a la capital de provincia 54 km de Jaén capital\n\nmercado medieval\n  \nLopera\, Jaen\, Andalucia
URL:https://demercadosmedievales.info/mercadomedieval/mercado-medieval-en-lopera-jaen-2023/
LOCATION:Lopera ( Jaén ) (***)\, castillo de Lopera\, Lopera\, Jaén\, 23780\, España
CATEGORIES:Ayuntamiento de Lopera,Lopera,Mercado Medieval
ATTACH;FMTTYPE=image/jpeg:https://demercadosmedievales.info/wp-content/uploads/2023/09/lopera_mercado_medieval_2023.jpg
ORGANIZER;CN="Ayuntamiento de Lopera":MAILTO:lopera@lopera.es
GEO:37.9437002;-4.2137178
X-APPLE-STRUCTURED-LOCATION;VALUE=URI;X-ADDRESS=Lopera ( Jaén ) (***) castillo de Lopera Lopera Jaén 23780 España;X-APPLE-RADIUS=500;X-TITLE=castillo de Lopera:geo:-4.2137178,37.9437002
END:VEVENT
END:VCALENDAR