BEGIN:VCALENDAR
VERSION:2.0
PRODID:-//Mercados Medievales - ECPv6.15.20//NONSGML v1.0//EN
CALSCALE:GREGORIAN
METHOD:PUBLISH
X-ORIGINAL-URL:https://demercadosmedievales.info
X-WR-CALDESC:Eventos para Mercados Medievales
REFRESH-INTERVAL;VALUE=DURATION:PT1H
X-Robots-Tag:noindex
X-PUBLISHED-TTL:PT1H
BEGIN:VTIMEZONE
TZID:Europe/Madrid
BEGIN:DAYLIGHT
TZOFFSETFROM:+0100
TZOFFSETTO:+0200
TZNAME:CEST
DTSTART:20230326T010000
END:DAYLIGHT
BEGIN:STANDARD
TZOFFSETFROM:+0200
TZOFFSETTO:+0100
TZNAME:CET
DTSTART:20231029T010000
END:STANDARD
BEGIN:DAYLIGHT
TZOFFSETFROM:+0100
TZOFFSETTO:+0200
TZNAME:CEST
DTSTART:20240331T010000
END:DAYLIGHT
BEGIN:STANDARD
TZOFFSETFROM:+0200
TZOFFSETTO:+0100
TZNAME:CET
DTSTART:20241027T010000
END:STANDARD
BEGIN:DAYLIGHT
TZOFFSETFROM:+0100
TZOFFSETTO:+0200
TZNAME:CEST
DTSTART:20250330T010000
END:DAYLIGHT
BEGIN:STANDARD
TZOFFSETFROM:+0200
TZOFFSETTO:+0100
TZNAME:CET
DTSTART:20251026T010000
END:STANDARD
END:VTIMEZONE
BEGIN:VEVENT
DTSTART;TZID=Europe/Madrid:20241108T000000
DTEND;TZID=Europe/Madrid:20241110T235959
DTSTAMP:20260422T095846
CREATED:20240908T104433Z
LAST-MODIFIED:20241105T114711Z
UID:10001696-1731024000-1731283199@demercadosmedievales.info
SUMMARY:I Mercado de la Villa Siglo XVIII de Las Ventas de Retamosa (Toledo) * PROGRAMACIÓN
DESCRIPTION:Los días 8\, 9 y 10 de noviembre\, el pueblo se viste de gala para celebrar la recreación histórica del Mercado de la Villa.  \n\n\n\n\n\n\nI Mercado de la Villa\n\n\n\nambientado en el siglo XVIII\n\n\n\nUna oportunidad inigualable para conocer cómo era la vida cotidiana de nuestros antepasados\, sus costumbres\, sus oficios y\, por supuesto\, su exquisita gastronomía. \n\n\n\nHorario : Viernes de 17 a 22 horas\, Sábado de 11 a 14h y de 17 a 22h\, Domingo de 11 a 14h y de 17 a 21h \n\n\n\nCartel del evento\n\n\n\nEl cartel presenta un diseño clásico y elegante\, evocando la estética del siglo XVIII al que hace referencia el evento. Predominan los tonos cálidos y suaves\, como el ocre y el dorado\, que crean una atmósfera acogedora y nostálgica. \n\n\n\n\n\n\n\nProgramación \n\n\n\nActividades:Viernes 8:• 17:00 h: El mercado abre sus puertas. Los artesanos despliegan sus productos.• 18:00 h: Pasacalles musical.• 18:00 – 20:00 h: Pintacaras gratuito infantil (previa inscripción en el mercado).• 19:00 h: Los duendes del bosque invaden las calles con sus juegos malabares.• 20:00 h: Los Faunos visitan el mercado.• 21:00 h: Pasacalles de brujas\, las brujas invaden el mercado.• 22:00 h: Cierre del mercado.Sábado 9:• 11:00 h: Apertura del mercado y los puestos de artesanía.• 11:30 h: Taller de Globoflexia para todos los públicos.• 12:30 h: Cuentacuentos infantil.• 13:30 h: Pasacalles musical.• 14:00 h: Descanso para el buen yantar.• 17:00 h: Reapertura del mercado.• 18:00 – 20:00 h: Pintacaras gratuito infantil (previa inscripción en el• mercado).• 19:00 h: Los Faunos visitan el mercado• 20:00 h: Pasacalles musical.• 21:00 h: Pasacalles de brujas.• 22:00 h: Cierre del mercado.Domingo 10:• 11:00 h: Apertura del mercado y los puestos de artesanía.• 11:30 h: Taller de Cariocas para todos los públicos.• 12:30 h: Cuentacuentos infantil.• 13:30 h: Pasacalles musical.• 14:00 h: Descanso para el buen yantar.• 17:00 h: Reapertura del mercado.• 18:00 h: Los Faunos visitan el mercado.• 18:00 – 20:00 h: Pintacaras gratuito infantil (previa inscripción en el• mercado• 19:00 h: Pasacalles musical.• 20:00 h: Pasacalles de brujas.• 21:00 h: Cierre del mercado.¡Te esperamos para disfrutar juntos de este mercado único y apoyar a los artesanos locales! \n\n\n\nInformación básica del Mercado\n\n\n\nFecha de celebración Los dias 08 al 10 de Noviembre  del  2024 \n\n\n\nDonde se realizaEn la localidad de Las Ventas de Retamosa que pertenece a la provincia de TOLEDO \n\n\n\nInformación del Organizador\n\n\n\nLa empresa organizadora es ERAGON EVENTOS \n\n\n\nInformación e Inscripciones:  El PRECIO : El precio es de 25€ el puesto de 1 a 3 metros Teléfono : 610 64 54 53 e-mail : AGUSTINMBXXL@HOTMAIL.COM \n\n\n\nInformación adicional\n\n\n\nMás fechasPuedes conocer mas ferias y mercados en está provincia\, consultando nuestra sección de Eventos en Toledo \n\n\n\nOtros eventosConsulta Aquí otras ferias y mercados que organizará la empresa Eragón Eventos \n\n\n\notros mercados temáticos y FeriasSi quieres conocer cuando se realizan más ferias y mercados\, puedes consultarlos visitando nuestro Calendario de Eventos \n\n\n\nCalendario 2024\n\n\n\nSobre los Mercados Medievales\n\n\n\nLas ferias medievales son eventos que recrean la atmósfera de la Edad Media. Por lo general\, se llevan a cabo en pueblos o ciudades\, y presentan puestos de vendedores que venden artesanías\, alimentos y bebidas. También puede haber entretenimiento\, como justas\, música y baile. \n\n\n\n\n\n\n\nOrganizador\n\n\n\n\n\nLocalización\n\n\n\nLas Ventas de Retamosa es un municipio y localidad española de la provincia de Toledo\, en la comunidad autónoma de Castilla-La Mancha. El término municipal tiene una población de 4088 habitantes.
URL:https://demercadosmedievales.info/mercadomedieval/mercado-campesino-de-las-ventas-de-retamosa-2024-toledo/
LOCATION:Las Ventas de Retamosa (Toledo) (***)\, Las Ventas de Retamosa\, Toledo\, España
CATEGORIES:Cartel,Eragón eventos,Feria tradicional,Mercado tradicional,Programación,Toledo
ATTACH;FMTTYPE=image/jpeg:https://demercadosmedievales.info/wp-content/uploads/2024/10/mercado_villa-ventas-retamosa-cartel.jpg
ORGANIZER;CN="Erag%C3%B3n eventos":MAILTO:AGUSTINMBXXL@HOTMAIL.COM
GEO:40.1550113;-4.1141353
END:VEVENT
END:VCALENDAR