BEGIN:VCALENDAR
VERSION:2.0
PRODID:-//Mercados Medievales - ECPv6.15.20//NONSGML v1.0//EN
CALSCALE:GREGORIAN
METHOD:PUBLISH
X-ORIGINAL-URL:https://demercadosmedievales.info
X-WR-CALDESC:Eventos para Mercados Medievales
REFRESH-INTERVAL;VALUE=DURATION:PT1H
X-Robots-Tag:noindex
X-PUBLISHED-TTL:PT1H
BEGIN:VTIMEZONE
TZID:Europe/Madrid
BEGIN:DAYLIGHT
TZOFFSETFROM:+0100
TZOFFSETTO:+0200
TZNAME:CEST
DTSTART:20230326T010000
END:DAYLIGHT
BEGIN:STANDARD
TZOFFSETFROM:+0200
TZOFFSETTO:+0100
TZNAME:CET
DTSTART:20231029T010000
END:STANDARD
BEGIN:DAYLIGHT
TZOFFSETFROM:+0100
TZOFFSETTO:+0200
TZNAME:CEST
DTSTART:20240331T010000
END:DAYLIGHT
BEGIN:STANDARD
TZOFFSETFROM:+0200
TZOFFSETTO:+0100
TZNAME:CET
DTSTART:20241027T010000
END:STANDARD
BEGIN:DAYLIGHT
TZOFFSETFROM:+0100
TZOFFSETTO:+0200
TZNAME:CEST
DTSTART:20250330T010000
END:DAYLIGHT
BEGIN:STANDARD
TZOFFSETFROM:+0200
TZOFFSETTO:+0100
TZNAME:CET
DTSTART:20251026T010000
END:STANDARD
END:VTIMEZONE
BEGIN:VEVENT
DTSTART;TZID=Europe/Madrid:20240830T000000
DTEND;TZID=Europe/Madrid:20240901T235959
DTSTAMP:20260420T130138
CREATED:20240329T103139Z
LAST-MODIFIED:20240825T062949Z
UID:10001073-1724976000-1725235199@demercadosmedievales.info
SUMMARY:MERCADO MEDIEVAL DE LAS PEDROÑERAS \, Cuenca 2024
DESCRIPTION:El MERCADO MEDIEVAL de Las Pedroñeras en la Av. Juan Carlos l\, los días 30 de Agosto al 01 de Septiembre y es organizado por EL TROVADOR. \n \nMercado Medieval\nEs un mercado anual que se celebra en la villa de Las Pedroñeras\, en la provincia de Cuenca\, España. El mercado se celebra en el mes de septiembre y tiene una duración de dos días. Es un evento que transporta a sus visitantes a otra época\, sumergiéndolos en la rica historia y cultura medieval. \n \n Detalles del MERCADO MEDIEVAL\nCuando se celebra ? Los dias 30 agosto al 1 Septiembre  del  2024.En que localidad y provincia ?LAS PEDROÑERAS provincia de  CUENCA.Cual será la ubicación ? . En la Av. Juan Carlos l de LAS PEDROÑERAS..Para conocer la fecha de más mercados y ferias temáticas \, AQUÍ. \n Quién organiza EL EVENTO? \n La empresa EL TROVADOR   es la encargada de la organización y gestión de paradas/puestos de venta. \n Como participar ? Ponte en contacto con el organizador para conocer los requisitos de participación y solicitar tu participación:Poniendo en contacto con el organizador EL TROVADOR Teléfono y WhatsApp : 675 190 524 \nEl organizador proveerá de los siguientes servicios para los artesanos : \n\nLUZ\nAGUA\nPUBLICIDAD\nVIGILANCIA DISUASORIA\nATRACCIONES\nANIMACION\n\n Acerca de LAS PEDROÑERAS\nLas Pedroñeras es un municipio español situado al suroeste de la provincia de Cuenca\, en la comunidad autónoma de Castilla-La Mancha. \n\nTiene una población de 6550 habitantes.\nLa localidad\, conocida como la «Capital del Ajo» por la excelencia de este producto\, está ubicada en la comarca de La Mancha.\n\n\nCalendario de Mercados Medievales y Ferias temáticas 2024 :\n\n\nEnero\nFebrero\nMarzo\nAbril\nMayo\nJunio\nJulio\nAgosto\nSeptiembre\nOctubre\nNoviembre\nDiciembre\n\n Las Ferias y mercados medievales\n\n\nLas ferias medievales son eventos que recrean la atmósfera de la Edad Media. Por lo general\, se llevan a cabo en pueblos o ciudades\, y presentan puestos de vendedores que venden artesanías\, alimentos y bebidas. También puede haber entretenimiento\, como justas\, música y baile. . \nLos Mercados  Medievales son una forma popular de aprender sobre la historia de la Edad Media y experimentar la cultura de la época. También son una actividad divertida para toda la familia. \n 
URL:https://demercadosmedievales.info/mercadomedieval/mercado-medieval-de-las-pedroneras-cuenca-2024/
LOCATION:Las Pedroñeras (Cuenca) (***)\, Avenida Juan Carlos I\, Las Pedroñeras\, Cuenca\, España
CATEGORIES:Cartel,Cuenca,El Trovador,Mercado Medieval
ATTACH;FMTTYPE=image/jpeg:https://demercadosmedievales.info/wp-content/uploads/2024/03/medieval_las_pedroneras_f.jpg
GEO:39.4480026;-2.6760251
X-APPLE-STRUCTURED-LOCATION;VALUE=URI;X-ADDRESS=Las Pedroñeras (Cuenca) (***) Avenida Juan Carlos I Las Pedroñeras Cuenca España;X-APPLE-RADIUS=500;X-TITLE=Avenida Juan Carlos I:geo:-2.6760251,39.4480026
END:VEVENT
END:VCALENDAR