BEGIN:VCALENDAR
VERSION:2.0
PRODID:-//Mercados Medievales - ECPv6.15.20//NONSGML v1.0//EN
CALSCALE:GREGORIAN
METHOD:PUBLISH
X-ORIGINAL-URL:https://demercadosmedievales.info
X-WR-CALDESC:Eventos para Mercados Medievales
REFRESH-INTERVAL;VALUE=DURATION:PT1H
X-Robots-Tag:noindex
X-PUBLISHED-TTL:PT1H
BEGIN:VTIMEZONE
TZID:Europe/Madrid
BEGIN:DAYLIGHT
TZOFFSETFROM:+0100
TZOFFSETTO:+0200
TZNAME:CEST
DTSTART:20230326T010000
END:DAYLIGHT
BEGIN:STANDARD
TZOFFSETFROM:+0200
TZOFFSETTO:+0100
TZNAME:CET
DTSTART:20231029T010000
END:STANDARD
BEGIN:DAYLIGHT
TZOFFSETFROM:+0100
TZOFFSETTO:+0200
TZNAME:CEST
DTSTART:20240331T010000
END:DAYLIGHT
BEGIN:STANDARD
TZOFFSETFROM:+0200
TZOFFSETTO:+0100
TZNAME:CET
DTSTART:20241027T010000
END:STANDARD
BEGIN:DAYLIGHT
TZOFFSETFROM:+0100
TZOFFSETTO:+0200
TZNAME:CEST
DTSTART:20250330T010000
END:DAYLIGHT
BEGIN:STANDARD
TZOFFSETFROM:+0200
TZOFFSETTO:+0100
TZNAME:CET
DTSTART:20251026T010000
END:STANDARD
END:VTIMEZONE
BEGIN:VEVENT
DTSTART;VALUE=DATE:20240328
DTEND;VALUE=DATE:20240401
DTSTAMP:20260420T045644
CREATED:20240225T210818Z
LAST-MODIFIED:20240225T210818Z
UID:10000952-1711584000-1711929599@demercadosmedievales.info
SUMMARY:X MERCÁU POLESU en La Pola Siero 2024
DESCRIPTION:Convocatoria de la X edición del MERCÁU POLESU – Mercáu Tradicional Asturiano de los Güevos Pintos en La Pola Siero. Bases y toda la información. \n \n\n\n\nX MERCÁU POLESU en La Pola Siero\n\n\n\n\n\n\n\n\n\nFecha de inicio y finalización\n\n\n\n\nDel jueves 28 al domingo 31 de marzo. Opcionalmente : 2 de Abril\n\n\n\n\n\n\n\n\n\nPlazo de Inscripción ( Hasta que día se pueden apuntar los artesanos y mercaderes)*\n\n\n\n\n22 de marzo\n\n\n\n\n\n\n\n\n\nLocalidad y Provincia\n\n\n\n\nPola de Siero\, Asturias\n\n\n\n\n\n\n\n\n\nUbicación dentro de la localidad (calle\, Plaza\, vía\, etc.)\n\n\n\n\nParque Alfonso X El sabio\n\n\n\n\n\n\n\n\n\nDescripción del Evento :\n\n\n\n\nConvocatoria de la X edición del MERCÁU POLESU – Mercáu Tradicional Asturiano de los Güevos Pintos en La Pola Siero.\n\nBases y toda la información en el siguiente enlace: https://festejoslapolasiero.com/convocatoria-mercau-polesu-2024/\n\nDia y hora de Montaje :\n\n\n\n\n\n\n28 de marzo. De 8:00 a 17:00 horas\n\n\n\n\n\n\n\n\nFecha y hora de Inauguración\n\n\n\n\nJueves 28. 17:00 horas\n\n\n\n\n\n\n\n\nEl organizador proveerá de :\n\n\n\n\n\n\n\n\n\nSeguridad\nAgua\nElectricidad\n\n\n\n\n\n\n\n\n\n\n\n\n\n\n\n\n\n\n\n\n\n\nOrganizador del X MERCÁU POLESU :\n Sociedad de Festejos de Pola de Siero\n\n\n\n\n\n\n\n\n\n\nTeléfono:  663 47 04 40\n\n\n\n\n\n\n\n\n\n\nEmail:   mercaupolesu@gmail.com\n\n\n\n\n\n\n\n\n\n\n\n\n\n\n\n\n\n\n\n\n\n\n\n\nRequisitos de participación\nConsultar las bases: https://festejoslapolasiero.com/convocatoria-mercau-polesu-2024/\n\n\n\n\n\n\n\n\n\n\n\nPrecio\n\n\n\n\nConsultar las bases: https://festejoslapolasiero.com/convocatoria-mercau-polesu-2024/\n\n\n\n\n\nCartel del X MERCÁU POLESU\n \n Acerca de Pola de Siero\nPola de Siero\, es una parroquia del concejo asturiano de Siero\, España\, y una villa de dicha parroquia. La villa es la capital del concejo. En el año 2020 contaba con una población empadronada de 12.765 habitantes \n\nCalendario de Mercado Medieval y Ferias 2024 :\n\n\nEnero\nFebrero\nMarzo\nAbril\nMayo\nJunio\nJulio\nAgosto\nSeptiembre\nOctubre\nNoviembre\nDiciembre\n\n Las Ferias y mercados medievales\n\n\nLas ferias medievales son eventos que recrean la atmósfera de la Edad Media. Por lo general\, se llevan a cabo en pueblos o ciudades\, y presentan puestos de vendedores que venden artesanías\, alimentos y bebidas. También puede haber entretenimiento\, como justas\, música y baile. . \nLos Mercados  Medievales son una forma popular de aprender sobre la historia de la Edad Media y experimentar la cultura de la época. También son una actividad divertida para toda la familia. \n\n2024\, España\, Asturias\, La Pola de Siero\, MERCÁU POLESU\, Mercado tradicional\, Convocatoria\, Bases de participacion\,
URL:https://demercadosmedievales.info/mercadomedieval/x-mercau-polesu-en-la-pola-siero-2024/
LOCATION:La Pola de Siero (Asturias) (***)\, Pola de Siero\, Asturias\, Spain
CATEGORIES:Mercado tradicional,Principado de Asturias
ATTACH;FMTTYPE=image/jpeg:https://demercadosmedievales.info/wp-content/uploads/2024/02/MERCAU_POLESU_LA_POLA_DE_SIERO_2024-F.jpg
ORGANIZER;CN="Sociedad de Festejos de Pola de Siero":MAILTO:mercaupolesu@gmail.com
GEO:43.3915224;-5.660825
END:VEVENT
END:VCALENDAR