BEGIN:VCALENDAR
VERSION:2.0
PRODID:-//Mercados Medievales - ECPv6.15.20//NONSGML v1.0//EN
CALSCALE:GREGORIAN
METHOD:PUBLISH
X-WR-CALNAME:Mercados Medievales
X-ORIGINAL-URL:https://demercadosmedievales.info
X-WR-CALDESC:Eventos para Mercados Medievales
REFRESH-INTERVAL;VALUE=DURATION:PT1H
X-Robots-Tag:noindex
X-PUBLISHED-TTL:PT1H
BEGIN:VTIMEZONE
TZID:Europe/Madrid
BEGIN:DAYLIGHT
TZOFFSETFROM:+0100
TZOFFSETTO:+0200
TZNAME:CEST
DTSTART:20230326T010000
END:DAYLIGHT
BEGIN:STANDARD
TZOFFSETFROM:+0200
TZOFFSETTO:+0100
TZNAME:CET
DTSTART:20231029T010000
END:STANDARD
BEGIN:DAYLIGHT
TZOFFSETFROM:+0100
TZOFFSETTO:+0200
TZNAME:CEST
DTSTART:20240331T010000
END:DAYLIGHT
BEGIN:STANDARD
TZOFFSETFROM:+0200
TZOFFSETTO:+0100
TZNAME:CET
DTSTART:20241027T010000
END:STANDARD
BEGIN:DAYLIGHT
TZOFFSETFROM:+0100
TZOFFSETTO:+0200
TZNAME:CEST
DTSTART:20250330T010000
END:DAYLIGHT
BEGIN:STANDARD
TZOFFSETFROM:+0200
TZOFFSETTO:+0100
TZNAME:CET
DTSTART:20251026T010000
END:STANDARD
END:VTIMEZONE
BEGIN:VEVENT
DTSTART;VALUE=DATE:20240614
DTEND;VALUE=DATE:20240617
DTSTAMP:20260421T231514
CREATED:20240324T092608Z
LAST-MODIFIED:20240611T040004Z
UID:10001074-1718323200-1718582399@demercadosmedievales.info
SUMMARY:GRAN MERCADO MEDIEVAL DE LA MUELA (Zaragoza) 2024
DESCRIPTION:GRAN MERCADO MEDIEVAL que formará parte de las fiestas en honor a San Antonio de Padua\, son las fiestas mayores de La Muela. Los días 14 al 16 de Junio y organizado por LANCELOT MEDIEVAL. \n \nMERCADO MEDIEVAL\nHorario del Mercado Medieval:  Inauguración el Viernes a las 18 h\, Sábado y Domingo de 11 a 14h y de 18 a 23 h. Contará con Zona de juegos infantiles\, Cetrería\, Magia\, Taller de Escribanía y Taller Pinta Caras. Estará ubicado en la Plaza Corazón de Jesús y Calle Mayor \n Detalles\nCuando se celebra ?\n Los dias 14\, 15 y 16 de junio del  2024\n.\nEn que localidad y provincia ?\nEn la localidad de La Muela que pertenece a la provincia de ZARAGOZA\n.\nCual será la ubicación ? \n. En la Plaza Corazón de Jesús y Calle Mayor de LA MUELA\n.\n.\nPara conocer la fecha de más mercados y ferias temáticas \, AQUÍ\n. \n Descripción del MERCADO MEDIEVAL\nDia y hora de Montaje :\n. El montaje será el día 14 de Junio por la mañana\n Fecha y hora de Inauguración\n. La inauguración será por la tarde del día 14 de Junio\n Precio \nPara conocer el coste del metro lineal tienes que ponerte en contacto con el organizador. \n Quién organiza EL EVENTO?  La empresa LANCELOT MEDIEVAL  es la encargada de la organización y gestión de paradas/puestos de venta.\n Como participar ? Ponte en contacto con el organizador para conocer los requisitos de participación y solicitar tu participación: \n\nLa persona de contacto es MANOLO y su teléfono WhatsApp 607 6777 01\nE-Mail: info@lancelotmedieval.com\n.\n.\nEl organizador proveerá de los siguientes servicios para los artesanos :\nLUZ\nAGUA\nPUBLICIDAD\nVIGILANCIA DISUASORIA\nANIMACION\nESPECTACULOS\nATRACCIONES INFANTILES\n\nFiestas en honor a San Antonio de Padua.\n\nSon las fiestas mayores de La Muela\, que se celebran la semana del 13 de junio. \nComidas populares\, juegos tradicionales\, bailes\, mercado medieval\, jotas\, rondallas… conforman unas fiestas que el pueblo vive con gran participación y entusiasmo. Cabe destacar la actuación de los danzantes\, una de las manifestaciones artísticas más antiguas ligadas a La Muela. \nEs un baile que se hace con los palos y las espadas al son de una música especial\, entre moros y cristianos. El día del Santo al iniciarse la procesión\, en la puerta de la iglesia\, los danzantes reciben a San Antonio con el paloteado al aire de la Marcha Real. En el recorrido por las calles\, los danzantes bailan varias veces el llamado “Pasacalles”. \n Acerca de LA MUELA\nLa Muela es un municipio y localidad española de la provincia de Zaragoza\, en la comunidad autónoma de Aragón. \n\nSe asienta sobre una meseta situada a 23 km de Zaragoza\, a unos 600m de altitud\, libre de contaminación debido al cierzo\, viento que sopla con frecuencia en el pueblo.\nSu término municipal tiene una superficie de 143.5 kilómetros cuadrados\, y su población aproximada es de 6416 habitantes\, a los que se conoce con el gentilicio de muelano.\nEl casco antiguo está compuesto por calles paralelas y perpendiculares\, diseñado para evitar las fuertes rachas de viento.\n\n\nCalendario de Mercados Medievales y Ferias temáticas 2024 :\n\n\nEnero\nFebrero\nMarzo\nAbril\nMayo\nJunio\nJulio\nAgosto\nSeptiembre\nOctubre\nNoviembre\nDiciembre\n\n Las Ferias y mercados medievales\n\n\nLas ferias medievales son eventos que recrean la atmósfera de la Edad Media. Por lo general\, se llevan a cabo en pueblos o ciudades\, y presentan puestos de vendedores que venden artesanías\, alimentos y bebidas. También puede haber entretenimiento\, como justas\, música y baile. . \nLos Mercados  Medievales son una forma popular de aprender sobre la historia de la Edad Media y experimentar la cultura de la época. También son una actividad divertida para toda la familia.
URL:https://demercadosmedievales.info/mercadomedieval/gran-mercado-medieval-de-la-muela-zaragoza-2024/
LOCATION:La Muela (Zaragoza) (***)\, La Muela\, Zaragoza\, 50196
CATEGORIES:Aragon,Lancelot Medieval,Mercado Medieval,Mercados tematicos,Programación
ATTACH;FMTTYPE=image/jpeg:https://demercadosmedievales.info/wp-content/uploads/2024/03/medieval_la_muela_800x600.jpg
ORGANIZER;CN="Lancelot medieval":MAILTO:info@lancelotmedieval.com
GEO:41.6488226;-0.8890853
END:VEVENT
END:VCALENDAR