BEGIN:VCALENDAR
VERSION:2.0
PRODID:-//Mercados Medievales - ECPv6.15.20//NONSGML v1.0//EN
CALSCALE:GREGORIAN
METHOD:PUBLISH
X-ORIGINAL-URL:https://demercadosmedievales.info
X-WR-CALDESC:Eventos para Mercados Medievales
REFRESH-INTERVAL;VALUE=DURATION:PT1H
X-Robots-Tag:noindex
X-PUBLISHED-TTL:PT1H
BEGIN:VTIMEZONE
TZID:Europe/Madrid
BEGIN:DAYLIGHT
TZOFFSETFROM:+0100
TZOFFSETTO:+0200
TZNAME:CEST
DTSTART:20230326T010000
END:DAYLIGHT
BEGIN:STANDARD
TZOFFSETFROM:+0200
TZOFFSETTO:+0100
TZNAME:CET
DTSTART:20231029T010000
END:STANDARD
BEGIN:DAYLIGHT
TZOFFSETFROM:+0100
TZOFFSETTO:+0200
TZNAME:CEST
DTSTART:20240331T010000
END:DAYLIGHT
BEGIN:STANDARD
TZOFFSETFROM:+0200
TZOFFSETTO:+0100
TZNAME:CET
DTSTART:20241027T010000
END:STANDARD
BEGIN:DAYLIGHT
TZOFFSETFROM:+0100
TZOFFSETTO:+0200
TZNAME:CEST
DTSTART:20250330T010000
END:DAYLIGHT
BEGIN:STANDARD
TZOFFSETFROM:+0200
TZOFFSETTO:+0100
TZNAME:CET
DTSTART:20251026T010000
END:STANDARD
END:VTIMEZONE
BEGIN:VEVENT
DTSTART;VALUE=DATE:20240801
DTEND;VALUE=DATE:20240805
DTSTAMP:20260419T234650
CREATED:20240520T155311Z
LAST-MODIFIED:20240520T171130Z
UID:10001312-1722470400-1722815999@demercadosmedievales.info
SUMMARY:Mercado Medieval de Arroyo Frio  (Jaén) 2024
DESCRIPTION:Mercado Medieval con artesanía\, mercaderías varias\, gastronomía\, Alimentación\, talleres infantiles\,  espectáculos\, juegos y  atracción medieval\, etc. \n \n  \n🎫 Cartel y 📋 Programación  \n** Próximamente dispondremos del cartel y del programa con las actividades previstas. \n  \nFecha de celebración\n Los dias 01 al 04 de Agosto del  2024 \nDonde se realiza\nEn el municipio de Arroyo Frio que pertenece a la provincia de JAEN \nOrganizador\nLa empresa organizadora es ARTESANOS REUNIDOS \nComo participar\nLos organizadores han facilitado los siguientes medios de contacto para que se inscriban y/o consulten los artesanos y mercaderes:\nInformación e Inscripciones: \nartesanosreunidos@gmail.com\nTeléfono Móvil:  633.323.561 \nMás fechas de Jaén\nPuedes conocer mas ferias y mercados en está provincia\, consultando nuestra sección de Eventos de Jaén \nOtros eventos del mismo organizador\nConsulta Aquí otras ferias y mercados que organizará la empresa ARTESANOS REUNIDOS \nRequisitos para participar\nLos requisitos básicos son Parada de madera o hierro con decoración medieval\, vestuario medieval y tener la documentación al día. \nEl Vestuario y decoración de la parada debe ser Medieval \nOtros mercados temáticos y Ferias\nSi quieres conocer cuando se realizan más ferias y mercados\, puedes consultar mas 🗓 fechas de mercados y ferias temáticas \, puedes visitar nuestro 👀 Calendario de Eventos \nInformación e Inscripciones:\nartesanosreunidos@gmail.com\nTeléfono Móvil:  633.323.561 \nAcerca de Arroyo Frio (La Iruela)\nArroyo Frío es una localidad situada en el término municipal de La Iruela\, provincia de Jaén\, en la comunidad autónoma de Andalucía. \nSe encuentra enclavado en el sistema montañoso de la Cordillera Subbética\, dentro del parque natural de Cazorla\, Segura y Las Villas. Esta pequeña localidad cuenta con múltiples servicios\, como son: bares\, restaurantes\, tiendas\, supermercados\, hoteles\, apartamentos\, empresas de turismo activo y demás instalaciones para el turismo en pleno entorno rural. \n\n\n\n \nCalendario 2024\nSobre los Mercados Medievales\nLas ferias medievales son eventos que recrean la atmósfera de la Edad Media. Por lo general\, se llevan a cabo en pueblos o ciudades\, y presentan puestos de vendedores que venden artesanías\, alimentos y bebidas. También puede haber entretenimiento\, como justas\, música y baile. \n  \nTags:  Feria Medieval\,Convocatoria\,2024\,Arroyo frio\,La Iruela\,Jaén\,Andalucia\,España
URL:https://demercadosmedievales.info/mercadomedieval/mercado-medieval-de-arroyo-frio-jaen-2024/
LOCATION:Arroyo Frío ( Jaén ) (***)\, en el centro de la población\, Arroyo Frio\, Jaén\, España
CATEGORIES:Jaén,Mercado Medieval
ATTACH;FMTTYPE=image/jpeg:https://demercadosmedievales.info/wp-content/uploads/2024/05/medieval_arroyo_frio_f.jpg
ORGANIZER;CN="Artesanos reunidos":MAILTO:artesanosreunidos@gmail.com
GEO:37.9472287;-2.921899
X-APPLE-STRUCTURED-LOCATION;VALUE=URI;X-ADDRESS=Arroyo Frío ( Jaén ) (***) en el centro de la población Arroyo Frio Jaén España;X-APPLE-RADIUS=500;X-TITLE=en el centro de la población:geo:-2.921899,37.9472287
END:VEVENT
BEGIN:VEVENT
DTSTART;VALUE=DATE:20240328
DTEND;VALUE=DATE:20240401
DTSTAMP:20260419T234650
CREATED:20240217T071134Z
LAST-MODIFIED:20240325T172649Z
UID:10000918-1711584000-1711929599@demercadosmedievales.info
SUMMARY:Mercado Medieval De ARROYO FRIO (JAEN) 2024
DESCRIPTION:Mercado Medieval aplazado por condiciones atmosféricas adversas. Lamentamos informarles que el evento ha sido aplazado para una nueva fecha debido a las condiciones atmosféricas adversas pronosticadas. \n \nLa seguridad de los asistentes y participantes es la principal prioridad\, y las condiciones climáticas previstas podrían poner en riesgo su bienestar.\nEstán trabajando para reprogramar el Mercado Medieval lo antes posible y les comunicaremos la nueva fecha tan pronto como la tengan confirmada.\nAgradecen su comprensión y les piden disculpas por cualquier inconveniente que este aplazamiento pueda causarles.\nEn caso de que tengan alguna pregunta o necesiten más información\, no duden en contactarnos a través de correo electrónico: artesanosreunidos@gmail.com\no por teléfono 633.323.561 \n Detalles del Mercado Medieval\nCuando se celebra ? Los dias  28 al 31 de Marzo del  2024\nEn que localidad y provincia ?  En Arroyo Frio\, provincia de JAEN\nCual será la ubicación ?  en el centro de la población \n  \n Descripción del evento : Mercado Medieval con artesanía\, mercaderías varias\, gastronomía\, Alimentación\, talleres infantiles\,  espectáculos de fuego\, danza del vientre\, juegos y  atracción medieval\, etc.\nDia y hora de Montaje :  El día 28 de marzo por la mañana\n Fecha y hora de Inauguración La inauguración será el  día 28 de marzo por la tarde\n Precio Para conocer el coste del metro lineal tienes que ponerte en contacto con el organizador. \n  \n  \n Quién lo organiza ?  La empresa ARTESANOS REUNIDOS es la encargada de la organización y gestión de paradas/puestos de venta. \n Como participar ? Ponte en contacto con el organizador para conocer los requisitos de participación y solicitar tu participación. \n\ne-mail: artesanosreunidos@gmail.com\n Teléfono Móvil:  633.323.561\n\n  \nEl organizador proveerá de los siguientes servicios para los artesanos : \n\nLUZ\nAGUA\nPUBLICIDAD\nVIGILANCIA DISUASORIA\nANIMACIÓN\nESPECTACULOS\n\n  \n Acerca de Arroyo Frío\nArroyo Frío es una localidad situada en el término municipal de La Iruela\, provincia de Jaén\, en la comunidad autónoma de Andalucía. \nSe encuentra enclavado en el sistema montañoso de la Cordillera Subbética\, dentro del parque natural de Cazorla\, Segura y Las Villas. Esta pequeña localidad cuenta con múltiples servicios\, como son: bares\, restaurantes\, tiendas\, supermercados\, hoteles\, apartamentos\, empresas de turismo activo y demás instalaciones para el turismo en pleno entorno rural. \n\nCalendario de Mercado Medieval y Ferias 2024 :\n\n\nEnero\nFebrero\nMarzo\nAbril\nMayo\nJunio\nJulio\nAgosto\nSeptiembre\nOctubre\nNoviembre\nDiciembre\n\n Las Ferias y mercados medievales\n\n\nLas ferias medievales son eventos que recrean la atmósfera de la Edad Media. Por lo general\, se llevan a cabo en pueblos o ciudades\, y presentan puestos de vendedores que venden artesanías\, alimentos y bebidas. También puede haber entretenimiento\, como justas\, música y baile. . \nLos Mercados  Medievales son una forma popular de aprender sobre la historia de la Edad Media y experimentar la cultura de la época. También son una actividad divertida para toda la familia.
URL:https://demercadosmedievales.info/mercadomedieval/28-al-31-marzo-mercado-medieval-de-arroyo-frio-jaen-2024/
LOCATION:Arroyo Frío ( Jaén ) (***)\, en el centro de la población\, Arroyo Frio\, Jaén\, España
CATEGORIES:Artesanos Reunidos,Jaén,Mercado Medieval
ATTACH;FMTTYPE=image/jpeg:https://demercadosmedievales.info/wp-content/uploads/2024/02/medieval_arroyo_frio_2024_556X272.jpg
ORGANIZER;CN="Artesanos reunidos":MAILTO:artesanosreunidos@gmail.com
GEO:37.9472287;-2.921899
X-APPLE-STRUCTURED-LOCATION;VALUE=URI;X-ADDRESS=Arroyo Frío ( Jaén ) (***) en el centro de la población Arroyo Frio Jaén España;X-APPLE-RADIUS=500;X-TITLE=en el centro de la población:geo:-2.921899,37.9472287
END:VEVENT
END:VCALENDAR