BEGIN:VCALENDAR
VERSION:2.0
PRODID:-//Mercados Medievales - ECPv6.15.20//NONSGML v1.0//EN
CALSCALE:GREGORIAN
METHOD:PUBLISH
X-ORIGINAL-URL:https://demercadosmedievales.info
X-WR-CALDESC:Eventos para Mercados Medievales
REFRESH-INTERVAL;VALUE=DURATION:PT1H
X-Robots-Tag:noindex
X-PUBLISHED-TTL:PT1H
BEGIN:VTIMEZONE
TZID:Europe/Madrid
BEGIN:DAYLIGHT
TZOFFSETFROM:+0100
TZOFFSETTO:+0200
TZNAME:CEST
DTSTART:20230326T010000
END:DAYLIGHT
BEGIN:STANDARD
TZOFFSETFROM:+0200
TZOFFSETTO:+0100
TZNAME:CET
DTSTART:20231029T010000
END:STANDARD
BEGIN:DAYLIGHT
TZOFFSETFROM:+0100
TZOFFSETTO:+0200
TZNAME:CEST
DTSTART:20240331T010000
END:DAYLIGHT
BEGIN:STANDARD
TZOFFSETFROM:+0200
TZOFFSETTO:+0100
TZNAME:CET
DTSTART:20241027T010000
END:STANDARD
BEGIN:DAYLIGHT
TZOFFSETFROM:+0100
TZOFFSETTO:+0200
TZNAME:CEST
DTSTART:20250330T010000
END:DAYLIGHT
BEGIN:STANDARD
TZOFFSETFROM:+0200
TZOFFSETTO:+0100
TZNAME:CET
DTSTART:20251026T010000
END:STANDARD
END:VTIMEZONE
BEGIN:VEVENT
DTSTART;VALUE=DATE:20240629
DTEND;VALUE=DATE:20240630
DTSTAMP:20260420T142919
CREATED:20240415T181550Z
LAST-MODIFIED:20240415T181550Z
UID:10001172-1719619200-1719705599@demercadosmedievales.info
SUMMARY:La Batalla del Guadalete\, nuestro rio 2024 de La Barca de la Florida\, Cádiz
DESCRIPTION:Recordando la 8ª Batalla del Guadalete entre moros y el último rey visigodo D. Rodrigo\, el día 29 de junio del 2024 . \n \nLa Batalla del Guadalete\, nuestro rio\n  \nDetalles\n📅 Cual es la fecha de celebración ?*\n29 de junio del 2024\n🗓 Hasta que fecha se pueden inscribir los artesanos y mercaderes ?*\nHasta el 8 de junio del 2024 \n🏡 Donde se va a celebrar ? Localidad y provincia*\nEn la localidad de La Barca de la Florida \, Jerez de La Frontera\, en la provincia de CADIZ.\nLa Barca de la Florida es una entidad local autónoma del municipio de Jerez de la Frontera\, en la provincia de Cádiz\, Andalucía. Se encuentra situada a 20 km al este del centro histórico de Jerez\, localizado junto al río Guadalete y el parque periurbano La Suara.\n📍 Cual será la ubicación dentro de la localidad (calle\, Plaza\, vía\, etc.)\nParque Fluvial del Guadalete \n💬 Descripción del Evento :\nRecordando la 8ª Batalla del Guadalete entre moros y el último rey visigodo D. Rodrigo.\n🗓 Dia y hora de Montaje :*\n28 de junio de 2024\n⏰ Fecha y hora de Inauguración\n14:00h \nServicios\n📋 Servicios que proporcionara el organizador a los artesanos y mercaderes participantes * \n\nSeguridad\nAgua\nElectricidad\n\nOrganizador :\n⚜ Quien organiza la Feria y/o Mercado ?*\nExcmo. Ayuntamiento de la Barca de la Florida\, Delegación de Cultura\n📞Teléfono de contacto :\n650339935\n💌 Email de contacto : *\ncultura@labarcadelaflorida.es \nRequisitos y precio\nCuales son los Requisitos de participación ?*\nPrimero queremos hablar con vosotros\n🏷Precio del metro lineal\, parada de madera\, carpa ?*\nPrimero queremos hablar con vosotros \nAcerca de La Barca de la Florida\nLa Barca de la Florida es una entidad local autónoma del municipio de Jerez de la Frontera\, en la provincia de Cádiz\, Andalucía. Se encuentra situada a 20 km al este del centro histórico de Jerez\, localizado junto al río Guadalete y el parque periurbano La Suara. \nCalendario 2024 : \n\nAquí te dejo el calendario donde puedes encontrar mercados medievales y ferias temáticas en España durante el 2024: \n\n\nEnero\nFebrero\nMarzo\nAbril\nMayo\nJunio\nJulio\nAgosto\nSeptiembre\nOctubre\nNoviembre\nDiciembre\n\n Las Ferias y mercados medievales\nLas ferias medievales son eventos que recrean la atmósfera de la Edad Media. Por lo general\, se llevan a cabo en pueblos o ciudades\, y presentan puestos de vendedores que venden artesanías\, alimentos y bebidas. También puede haber entretenimiento\, como justas\, música y baile. . \nEn conclusión\, los Mercados  Medievales son una forma popular de aprender sobre la historia de la Edad Media y experimentar la cultura de la época. También son una actividad divertida para toda la familia. \nTags:  Feria Medieval\,Convocatoria\,plazo\,2024\,La Barca de la Florida\,Jerez de la Frontera\,La Batalla del Guadalete\,
URL:https://demercadosmedievales.info/mercadomedieval/la-batalla-del-guadalete-nuestro-rio-2024-de-la-barca-de-la-florida-cadiz/
LOCATION:La Barca de la Florida (Cádiz) (***)\, La Barca de la Florida\, Cádiz\, España
CATEGORIES:Cadiz,Mercados tematicos
ATTACH;FMTTYPE=image/jpeg:https://demercadosmedievales.info/wp-content/uploads/2024/04/batalla_del_guadalete_Post_web.jpg
ORGANIZER;CN="Ayuntamiento de La Barca de la Florida":MAILTO:cultura@labarcadelaflorida.es
GEO:36.6505403;-5.9335296
END:VEVENT
END:VCALENDAR