BEGIN:VCALENDAR
VERSION:2.0
PRODID:-//Mercados Medievales - ECPv6.15.20//NONSGML v1.0//EN
CALSCALE:GREGORIAN
METHOD:PUBLISH
X-WR-CALNAME:Mercados Medievales
X-ORIGINAL-URL:https://demercadosmedievales.info
X-WR-CALDESC:Eventos para Mercados Medievales
REFRESH-INTERVAL;VALUE=DURATION:PT1H
X-Robots-Tag:noindex
X-PUBLISHED-TTL:PT1H
BEGIN:VTIMEZONE
TZID:Europe/Madrid
BEGIN:DAYLIGHT
TZOFFSETFROM:+0100
TZOFFSETTO:+0200
TZNAME:CEST
DTSTART:20230326T010000
END:DAYLIGHT
BEGIN:STANDARD
TZOFFSETFROM:+0200
TZOFFSETTO:+0100
TZNAME:CET
DTSTART:20231029T010000
END:STANDARD
BEGIN:DAYLIGHT
TZOFFSETFROM:+0100
TZOFFSETTO:+0200
TZNAME:CEST
DTSTART:20240331T010000
END:DAYLIGHT
BEGIN:STANDARD
TZOFFSETFROM:+0200
TZOFFSETTO:+0100
TZNAME:CET
DTSTART:20241027T010000
END:STANDARD
BEGIN:DAYLIGHT
TZOFFSETFROM:+0100
TZOFFSETTO:+0200
TZNAME:CEST
DTSTART:20250330T010000
END:DAYLIGHT
BEGIN:STANDARD
TZOFFSETFROM:+0200
TZOFFSETTO:+0100
TZNAME:CET
DTSTART:20251026T010000
END:STANDARD
END:VTIMEZONE
BEGIN:VEVENT
DTSTART;TZID=Europe/Madrid:20241019T000000
DTEND;TZID=Europe/Madrid:20241020T235959
DTSTAMP:20260421T224006
CREATED:20240923T033337Z
LAST-MODIFIED:20241016T094840Z
UID:10001753-1729296000-1729468799@demercadosmedievales.info
SUMMARY:Mercado medieval – XVII Jornadas de artesanía medieval en Cornago ( La Rioja) 2024 - Programación
DESCRIPTION:XVII Jornadas de Artesanía Medieval en este maravilloso Pueblo Riojano….contará con puestos de venta de alimentos\, decoración\, bisutería\, labores de punto de cruz\, jabones artesanos…   \n\n\n\n\n\n\nMercado medieval\nXVII Jornadas de artesanía medieval\nEl Mercado Medieval de Cornago es una de las principales atracciones turísticas de la provincia de La Rioja\, España. Se celebra cada año durante el fin de semana de octubre más cercano al equinoccio de otoño.\n\nEl mercado se instala en las calles del casco antiguo de Cornago\, un pueblo medieval de origen celtíbero. Los puestos de venta ofrecen una amplia variedad de productos artesanales\, como jabones\, velas\, bisutería\, cerámica\, cuero\, etc. También hay puestos de comida y bebida\, donde se pueden degustar platos típicos de la Edad Media\, como callos\, morcillas\, chorizos\, etc. \nEl mercado cuenta con un programa de actividades que incluye espectáculos de música\, baile\, teatro\, acrobacias\, etc. También hay talleres de artesanía y oficios de la época\, donde los visitantes pueden aprender a hacer velas\, jabones\, cerámica\, etc. \nEl Mercado Medieval de Cornago es una oportunidad única para sumergirse en la Edad Media. Es una experiencia divertida y educativa para toda la familia. \nAquí hay algunos de los aspectos más destacados del mercado: \n\nLos puestos de venta de artesanía\, donde se pueden encontrar productos únicos y elaborados a mano.\nLos espectáculos de música\, baile y teatro\, que transportan a los visitantes a la Edad Media.\nLos talleres de artesanía y oficios\, donde los visitantes pueden aprender a hacer cosas como velas\, jabones o cerámica.\nLas degustaciones de comida y bebida\, donde se pueden probar platos típicos de la Edad Media.\n\n  \n\nCartel  \n \nProgramación \n \nInformación básica del Mercado\nFecha de celebración Los dias 19 y 20 de Octubre  del  2024 Sábado y Domingo \nDonde se realizaEn la localidad de Cornago que pertenece a la provincia de LA RIOJA / Cornago es un pueblo de la provincia y comunidad autónoma de La Rioja\, España \nInformación del Organizador\nAYUNTAMIENTO DE CORNAGO es el organizador \nComo participar \nPara más Información e Inscripciones: \n\n\n\nTelefono\n\n\n\n\n\n\n941 19 60 01\n\n\n\n\n\n\n\n\nEmail*\n\n\n\n\nMEDIEVOCORNAGO@GMAIL.COM\n \n\n\n\nMás fechas  Puedes conocer mas ferias y mercados en está provincia\, consultando nuestra sección de Eventos de La Rioja \notros mercados temáticos y FeriasSi quieres conocer cuando se realizan más ferias y mercados\, puedes consultarlos visitando nuestro   Calendario de Eventos \nCalendario 2024\nSobre los Mercados Medievales\nLas ferias medievales son eventos que recrean la atmósfera de la Edad Media. Por lo general\, se llevan a cabo en pueblos o ciudades\, y presentan puestos de vendedores que venden artesanías\, alimentos y bebidas. También puede haber entretenimiento\, como justas\, música y baile. \n\n\n\n\n\n\n\nDetalles del organizador\n\n\n\n\n\nLocalización\n\n\n\nCornago es un pueblo de la provincia y comunidad autónoma de La Rioja\, España
URL:https://demercadosmedievales.info/mercadomedieval/mercado-medieval-xvii-jornadas-de-artesania-medieval-en-cornago-la-rioja-2024/
LOCATION:Cornago ( La Rioja ) (***)\, en el castillo\, Cornago\, La Rioja\, 26526\, España
CATEGORIES:Cartel,La Rioja,Mercado Medieval,Programación
ATTACH;FMTTYPE=image/jpeg:https://demercadosmedievales.info/wp-content/uploads/2024/09/jornadas_artesania_medieval_cornago-2024-f.jpg
ORGANIZER;CN="Ayuntamiento de Cornago ( La Rioja)":MAILTO:aytocornago@hotmail.es
GEO:42.064661;-2.0965561
X-APPLE-STRUCTURED-LOCATION;VALUE=URI;X-ADDRESS=Cornago ( La Rioja ) (***) en el castillo Cornago La Rioja 26526 España;X-APPLE-RADIUS=500;X-TITLE=en el castillo:geo:-2.0965561,42.064661
END:VEVENT
END:VCALENDAR