BEGIN:VCALENDAR
VERSION:2.0
PRODID:-//Mercados Medievales - ECPv6.15.20//NONSGML v1.0//EN
CALSCALE:GREGORIAN
METHOD:PUBLISH
X-ORIGINAL-URL:https://demercadosmedievales.info
X-WR-CALDESC:Eventos para Mercados Medievales
REFRESH-INTERVAL;VALUE=DURATION:PT1H
X-Robots-Tag:noindex
X-PUBLISHED-TTL:PT1H
BEGIN:VTIMEZONE
TZID:Europe/Madrid
BEGIN:DAYLIGHT
TZOFFSETFROM:+0100
TZOFFSETTO:+0200
TZNAME:CEST
DTSTART:20240331T010000
END:DAYLIGHT
BEGIN:STANDARD
TZOFFSETFROM:+0200
TZOFFSETTO:+0100
TZNAME:CET
DTSTART:20241027T010000
END:STANDARD
BEGIN:DAYLIGHT
TZOFFSETFROM:+0100
TZOFFSETTO:+0200
TZNAME:CEST
DTSTART:20250330T010000
END:DAYLIGHT
BEGIN:STANDARD
TZOFFSETFROM:+0200
TZOFFSETTO:+0100
TZNAME:CET
DTSTART:20251026T010000
END:STANDARD
BEGIN:DAYLIGHT
TZOFFSETFROM:+0100
TZOFFSETTO:+0200
TZNAME:CEST
DTSTART:20260329T010000
END:DAYLIGHT
BEGIN:STANDARD
TZOFFSETFROM:+0200
TZOFFSETTO:+0100
TZNAME:CET
DTSTART:20261025T010000
END:STANDARD
END:VTIMEZONE
BEGIN:VEVENT
DTSTART;TZID=Europe/Madrid:20250117T000000
DTEND;TZID=Europe/Madrid:20250119T235959
DTSTAMP:20260421T203005
CREATED:20241110T094350Z
LAST-MODIFIED:20250115T190955Z
UID:10001921-1737072000-1737331199@demercadosmedievales.info
SUMMARY:Mercado Medieval "Jardín del Salitre" de Murcia  - Programa
DESCRIPTION:Del 17 al 19 de Enero de 2025\, Murcia acoge su Mercado Medieval en el jardín del Salitre. Retrocede en el tiempo y disfruta de un mercado lleno de puestos artesanales\, comida y actividades en un entorno perfecto para ir en familia.  \n\n\n \n\n\n\n\n\n\n\n \n\n\n\nMercado Medieval\n\n\n\n \n\n\n\nCartel  \n\n\n\n\n\n\n\nProgramación  \n\n\n\nMERCADO MEDIEVALJardín del Salitre \n\n\n\nDurante todo el horario de mercado: \n\n\n\n\nPuestos de Artesanía y Alimentación\n\n\n\nGastronomía\n\n\n\nMúsica en directo\n\n\n\nMalabares\n\n\n\nPasacalles con personajes\n\n\n\nEspectáculo de fuego nocturno\n\n\n\nRincón Infantil\n\n\n\nCuentacuentos\n\n\n\nMaquillajes de fantasía\n\n\n\nManualidades\n\n\n\nTaller de tiaras para niñas\n\n\n\n\nHorarios: \n\n\n\n\nViernes 17 de enero:de 17:30 a 22:30 h.\n\n\n\nSábado 18 de enero:de 11:00 a 14:30 h y de 17:30 a 22:30 h.\n\n\n\nDomingo 19 de enero:de 11:00 a 14:30 h y de 17:30 a 21:00 h.\n\n\n\n\n\n\n\n\n \n\n\n\nInformación básica del Mercado\n\n\n\nFecha de celebración Los dias  17 al 19 de Enero del 2025  \n\n\n\nDonde se realizaEn la localidad de Murcia que pertenece a la provincia de MURCIA   /  Murcia es una ciudad universitaria en el sureste de España y la capital de la región también llamada Murcia. La Plaza del Cardenal Belluga es la principal pieza arquitectónica de la ciudad\, donde la adornada catedral\, con su mezcla de estilos desde gótico a barroco\, y el colorido Palacio Episcopal del siglo XVIII se alzan en un impactante contraste con el anexo moderno del Ayuntamiento de la década de 1990\, obra del arquitecto Rafael Moneo. \n\n\n\nUbicación del EventoEstará ubicado en el Jardin del Salitre – El Jardín del Salitre es un parque en el solar de una antigua fábrica de pólvora\, con un estanque con patos\, una zona infantil y una terraza que sirve tapas. Está ubicado en la C. Pasos de Santiago\, 30009 Murcia\, España. \n\n\n\nInformación del Organizador\n\n\n\nLa organización y decoración de este evento están a cargo de PiramideArt . Para más información y registro\, contacta con: artesanosmercados@gmail.com WhatsApp / Telefonos WhatsApp 615 48 37 26 – 621 27 13 24.  Y Descubre las próximas ferias y mercados en su agenda: 👉 Consulta AQUÍ  👈 para acceder al calendario.  \n\n\n\n\n\n\n\nFerias y Mercados en la Provincia de MURCIA\n\n\n\nExplora otros eventos en la misma provincia visitando nuestra sección de Eventos de LA PROVINCIA DE MURCIA\, donde encontrarás información actualizada sobre ferias\, mercados y actividades para todas las edades. \n\n\n\n\n\n\n\nCalendario de Mercados Temáticos y Ferias\n\n\n\n¿Quieres saber cuándo y dónde se realizarán más ferias y mercados?Visita nuestro Calendario de Eventos para obtener detalles de: Calendario 2025: Planifica con anticipación y no te pierdas ninguna cita. \n\n\n\n \n\n\n\n\n\n\n\nLos Mercados y Ferias Medievales\n\n\n\nLas ferias medievales son auténticos viajes en el tiempo. Estos eventos recrean la atmósfera de la Edad Media. Leer más… \n\n\n\n\n\n\n\n\nMERCADOS MEDIEVALES Y TEMATICOS \n\n\n\nInformación de los próximos mercados medievales\, temáticos\, de artesanía a nivel nacional además de ofrecer información sobre servicios de alquiler de casetas\, venta de paradas\, cooperativas\, decoración y más. \n\n\n\nwww.mercados medievales.net \n\n\n\n\n\n\n\n\nOrganizador\n\n\n\n\n\nLocalización\n\n\n\nEl Jardín del Salitre es un parque en el solar de una antigua fábrica de pólvora\, con un estanque con patos\, una zona infantil y una terraza que sirve tapas. Está ubicado en la C. Pasos de Santiago\, 30009 Murcia\, España.
URL:https://demercadosmedievales.info/mercadomedieval/mercado-medieval-jardin-del-salitre-de-murcia-2025/
CATEGORIES:Cartel,Region de Murcia
ATTACH;FMTTYPE=image/jpeg:https://demercadosmedievales.info/wp-content/uploads/2024/11/programa-medieval-salitre-murcia.jpg
ORGANIZER;CN="Piramide Art":MAILTO:artesanosmercados@gmail.com
END:VEVENT
END:VCALENDAR