BEGIN:VCALENDAR
VERSION:2.0
PRODID:-//Mercados Medievales - ECPv6.15.20//NONSGML v1.0//EN
CALSCALE:GREGORIAN
METHOD:PUBLISH
X-WR-CALNAME:Mercados Medievales
X-ORIGINAL-URL:https://demercadosmedievales.info
X-WR-CALDESC:Eventos para Mercados Medievales
REFRESH-INTERVAL;VALUE=DURATION:PT1H
X-Robots-Tag:noindex
X-PUBLISHED-TTL:PT1H
BEGIN:VTIMEZONE
TZID:Europe/Madrid
BEGIN:DAYLIGHT
TZOFFSETFROM:+0100
TZOFFSETTO:+0200
TZNAME:CEST
DTSTART:20220327T010000
END:DAYLIGHT
BEGIN:STANDARD
TZOFFSETFROM:+0200
TZOFFSETTO:+0100
TZNAME:CET
DTSTART:20221030T010000
END:STANDARD
BEGIN:DAYLIGHT
TZOFFSETFROM:+0100
TZOFFSETTO:+0200
TZNAME:CEST
DTSTART:20230326T010000
END:DAYLIGHT
BEGIN:STANDARD
TZOFFSETFROM:+0200
TZOFFSETTO:+0100
TZNAME:CET
DTSTART:20231029T010000
END:STANDARD
BEGIN:DAYLIGHT
TZOFFSETFROM:+0100
TZOFFSETTO:+0200
TZNAME:CEST
DTSTART:20240331T010000
END:DAYLIGHT
BEGIN:STANDARD
TZOFFSETFROM:+0200
TZOFFSETTO:+0100
TZNAME:CET
DTSTART:20241027T010000
END:STANDARD
BEGIN:DAYLIGHT
TZOFFSETFROM:+0100
TZOFFSETTO:+0200
TZNAME:CEST
DTSTART:20250330T010000
END:DAYLIGHT
BEGIN:STANDARD
TZOFFSETFROM:+0200
TZOFFSETTO:+0100
TZNAME:CET
DTSTART:20251026T010000
END:STANDARD
END:VTIMEZONE
BEGIN:VEVENT
DTSTART;VALUE=DATE:20240711
DTEND;VALUE=DATE:20240715
DTSTAMP:20260422T074951
CREATED:20240612T070251Z
LAST-MODIFIED:20240612T080105Z
UID:10001426-1720656000-1721001599@demercadosmedievales.info
SUMMARY:Mercado Romano "Dies Oiassonis" de Irún (Guipúzcoa) 2024
DESCRIPTION:El Mercado Romano de Irún forma parte del Festival Romano Dies Oiassonis que se celebra anualmente\, será del 11 al 14 de julio de 2024. \n \nMercado Romano «Dies Oiassonis»\nDurante el festival\, el Museo Romano Oiasso y sus alrededores se convierten en un escenario que recrea la vida cotidiana\, la gastronomía\, la música y el teatro de la época romana. Uno de los elementos más destacados del festival es el mercado romano\, que se extiende por las calles de la ciudad y ofrece una amplia variedad de productos artesanales y gastronómicos. La próxima edición del Festival Romano Dies Oiassonis tendrá lugar del 11 al 14 de julio de 2024. Se ubicará en el Paseo Colón\, la arteria principal y comercial de  la ciudad y el  horario de cada día es de 10am a 10pm. El domingo acaba a las 17h. \nTags:  Feria Medieval\,Convocatoria\,2024\,Irun\,España \nCartel \n \nProgramación \n** Próximamente dispondremos del programa con las actividades previstas. \nInformación básica del Mercado\nFecha de celebración\n Los dias 11 al 14 de julio del  2024 \nDonde se realiza\nEn el Paseo Colón\, la arteria principal y comercial de  la ciudad de Irún que pertenece a la provincia de  GUIPUZCOA \nUbicación del Evento\nEstará ubicado en el Paseo Colón de Irún \nInformación del Organizador\nLa empresa organizadora es Lucus Events SL \nComo participar\nInformación e Inscripciones: \nTeléfono/s del Organizador 671 58 36 95\nPersona de Contacto Desireé\nInformación e Inscripciones lucusevents@gmail.com \nMontaje\nMontaran el miércoles día 10 desde las 9am y por grupos. \nMás fechas\nPuedes conocer mas ferias y mercados en está provincia\, consultando nuestra sección de Eventos en Guipúzcoa \nOtros eventos\nConsulta Aquí otras ferias y mercados que organizará la empresa Lucus Events \nOtros mercados temáticos y Ferias\nSi quieres conocer cuando se realizan más ferias y mercados\, puedes consultarlos visitando nuestro  👀 Calendario de Eventos \nInformación adicional\nPara conocer más mercados de está misma temática\, visita Mercados romanos . Para más ferias en está misma provincia\, consulta nuestra sección de Eventos en Guipúzcoa ; Y si te interesa conocer más mercados y ferias organizados por Lucus Events o quieres conocer más eventos de ferias y mercados medievales a nivel nacional\,  visita nuestro amplio Calendario de Eventos \n Acerca de Irún\nIrún​ (en euskera: Irun) es una ciudad y municipio español de la provincia de Guipúzcoa\, País Vasco\, fronterizo con Francia\, país del que se encuentra separado por el río Bidasoa. Con 62 910 habitantes (2020)​ es la segunda ciudad más poblada de Guipúzcoa tras su capital\, San Sebastián. Sus principales barrios son Anaca\, Bidasoa\, Meaca\, Ventas\, Behobia\, Olaverría y Lapice. \nCalendario 2024\nSobre los Mercados Medievales\nLas ferias medievales son eventos que recrean la atmósfera de la Edad Media. Por lo general\, se llevan a cabo en pueblos o ciudades\, y presentan puestos de vendedores que venden artesanías\, alimentos y bebidas. También puede haber entretenimiento\, como justas\, música y baile.
URL:https://demercadosmedievales.info/mercadomedieval/mercado-romano-dies-oiassonis-de-irun-guipuzcoa-2024/
LOCATION:Irún (Guipúzcoa) (***)\, Irun\, Gipuzkoa
CATEGORIES:Guipuzcoa,Mercado romano
ATTACH;FMTTYPE=image/jpeg:https://demercadosmedievales.info/wp-content/uploads/2024/06/romano_irun_f.jpg
ORGANIZER;CN="Lucus Events":MAILTO:lucusevents@gmail.com
GEO:43.3381465;-1.7888495
END:VEVENT
BEGIN:VEVENT
DTSTART;VALUE=DATE:20240530
DTEND;VALUE=DATE:20240603
DTSTAMP:20260422T074951
CREATED:20240206T133316Z
LAST-MODIFIED:20240527T175331Z
UID:10000873-1717027200-1717372799@demercadosmedievales.info
SUMMARY:Mercado Medieval de Behobia / Irún (Guipúzcoa) 2024
DESCRIPTION:Un año más llega el Mercado Medieval a Behobia con artesanía\, alimentación\, animación asi como también espectáculos\,  Comida \, Bares\, Talleres Infantiles\, Ambiente Musical \, Conciertos\, Teatros de Calle…\n \nMercado Medieval\nCartel\n \n📋 Programación \n \nDetalles\nCuando se celebra ? Los dias 30 mayo al 2 de junio  del  2024\nEn que localidad y provincia ? En el municipio del Barrio Behobia de Irun \,GUIPUZCOA\nCual será la ubicación ? en el Barrio de Behobia\nTemática\nLa temática será Medieval tanto para la decoración ya ambientación de la paradas como para el vestuario de los artesanos y mercaderes. \nOrganizador\nLucus Events SL \nTeléfono/s del Organizador 680923387 / 618 08 42 74 / 671 58 36 95\nPersona de Contacto Héctor\nInformación e Inscripciones\nlucusevents@gmail.com\nComo participar ? \nEnviar email con  los siguientes datos:\n\n\nNombre y apellidos completo y DNI del titular del puesto\nProducto a vender\nMetros lineales\nMetros de fondo\nMatrícula\nTeléfono de contacto\nFotografía del puesto actual\n\nAcerca de Behobia\n\nBehovia (en vasco y oficialmente Behobia) es un barrio español perteneciente al municipio de Irún\, en la provincia de Guipúzcoa\, comunidad autónoma del País Vasco. Está situado en su extremo oriental del municipio\, al sur del río Bidasoa\, en plena frontera con Francia.\n\n\nBehovia contiene varias barriadas:\nDumboa\, levantado sobre antiguos territorios marismeños del Bidasoa.\nAzken Portu\, también conocido como Polígono 54 y\, erróneamente\, como Artía.\nGazteluzar\, en torno a la fortaleza del siglo XVI.\n\nEl propio casco histórico de Behovia\, junto al puente internacional y a la antigua aduana.\n  \n\nCalendario 2024 :\n\n\nEnero\nFebrero\nMarzo\nAbril\nMayo\nJunio\nJulio\nAgosto\nSeptiembre\nOctubre\nNoviembre\nDiciembre\n\nFerias y mercados medievales\n\n\nLas Ferias y mercados medievales son eventos populares que recrean el ambiente y la atmósfera de la Edad Media. Durante estas Ferias y mercados medievales\, se recrea un pueblo o una ciudad medieval\, con puestos de artesanía\, alimentos\, entretenimiento y actividades relacionadas con la época. Los participantes\, vestidos con trajes medievales\, venden productos tradicionales como joyería\, armas\, vestimenta\, objetos de cuero\, cerámica y otros productos artesanales. Los alimentos y bebidas también desempeñan un papel importante en las ferias medievales.
URL:https://demercadosmedievales.info/mercadomedieval/mercado-medieval-de-behobia-irun-guipuzcoa/
LOCATION:Behobia\, Irún  (Guipúzcoa) (***)\, Behobia\, Irun\, Guipuzcoa\, España
CATEGORIES:Cartel,Guipuzcoa,Lucus events,Mercado Medieval,Programación
ATTACH;FMTTYPE=image/jpeg:https://demercadosmedievales.info/wp-content/uploads/2024/02/medieval_behobia_f.jpg
ORGANIZER;CN="Lucus Events":MAILTO:lucusevents@gmail.com
GEO:43.343125;-1.762103
X-APPLE-STRUCTURED-LOCATION;VALUE=URI;X-ADDRESS=Behobia Irún  (Guipúzcoa) (***) Behobia Irun Guipuzcoa España;X-APPLE-RADIUS=500;X-TITLE=Behobia:geo:-1.762103,43.343125
END:VEVENT
BEGIN:VEVENT
DTSTART;VALUE=DATE:20230511
DTEND;VALUE=DATE:20230515
DTSTAMP:20260422T074951
CREATED:20230501T092930Z
LAST-MODIFIED:20240505T071827Z
UID:10000012-1683763200-1684108799@demercadosmedievales.info
SUMMARY:Feria medieval en Behobia\, Irun\, Guipuzcoa
DESCRIPTION:Un año más llega la feria medieval a Behobia con artesanía\, alimentación\, animación y espectáculos. Manualidades \, Comida \, Bares \, Talleres Infantiles \, Ambiente Musical \, Conciertos \, Teatros de Calle. \n \nFERIA MEDIEVAL\nLOCALIDAD Y PROVINCIA :  Behobia\, Irun \, GUIPUZCOA\nBehovia (en vasco y oficialmente Behobia) es un barrio español perteneciente al municipio de Irún\, en la provincia de Guipúzcoa\, comunidad autónoma del País Vasco. Está situado en su extremo oriental del municipio\, al sur del río Bidasoa\, en plena frontera con Francia.\nBehovia contiene varias barriadas:\nDumboa\, levantado sobre antiguos territorios marismeños del Bidasoa.\nAzken Portu\, también conocido como Polígono 54 y\, erróneamente\, como Artía.\nGazteluzar\, en torno a la fortaleza del siglo XVI.\nEl propio casco histórico de Behovia\, junto al puente internacional y a la antigua aduana.\nFecha 11 al 14 de Mayo 2023\nTemática Medieval\nSi estáis interesados por favor enviadnos los siguientes datos:\n\n\nNombre y apellidos completo y DNI del titular del puesto\nProducto a vender\nMetros lineales\nMetros de fondo\nMatrícula\nTeléfono de contacto\nFotografía del puesto actual\n\nEmpresa/Asociación que organiza Lucus Events SL\nTeléfono/s del Organizador 680923387 // 618 08 42 74 / 671 58 36 95\nPersona de Contacto Héctor\nEmail del Organizador lucusevents@gmail.com \n\nMercado medieval\, feria medieval\, behobia\, irun\, guipuzcoa \, gipuzkoa\, feria\, 2023\, feria de artesania\,feria-mercados\,mercados y ferias medievales\, ferias y mercados medievales\, artesanos\, medieval\, \n  \nINFORMACION\n\n\n2023 calendario de mercados\nLOS MERCADOS Y FERIAS EN CADA PROVINCIA\nEMPRESAS QUE ORGANIZAN\nSUSCRIBETE A NUESTRO EMAIL \nGALERIA MEDIEVAL\nVESTUARIO
URL:https://demercadosmedievales.info/mercadomedieval/feria-medieval-en-behobia-irun-guipuzcoa/
LOCATION:Behobia\, Irún  (Guipúzcoa) (***)\, Behobia\, Irun\, Guipuzcoa\, España
CATEGORIES:Behobia,Guipuzcoa,Lucus events,Mercado Medieval
ATTACH;FMTTYPE=image/jpeg:https://demercadosmedievales.info/wp-content/uploads/2023/05/Behobia_irun_medieval_2023.jpg
GEO:43.343125;-1.762103
X-APPLE-STRUCTURED-LOCATION;VALUE=URI;X-ADDRESS=Behobia Irún  (Guipúzcoa) (***) Behobia Irun Guipuzcoa España;X-APPLE-RADIUS=500;X-TITLE=Behobia:geo:-1.762103,43.343125
END:VEVENT
END:VCALENDAR