BEGIN:VCALENDAR
VERSION:2.0
PRODID:-//Mercados Medievales - ECPv6.15.20//NONSGML v1.0//EN
CALSCALE:GREGORIAN
METHOD:PUBLISH
X-WR-CALNAME:Mercados Medievales
X-ORIGINAL-URL:https://demercadosmedievales.info
X-WR-CALDESC:Eventos para Mercados Medievales
REFRESH-INTERVAL;VALUE=DURATION:PT1H
X-Robots-Tag:noindex
X-PUBLISHED-TTL:PT1H
BEGIN:VTIMEZONE
TZID:Europe/Madrid
BEGIN:DAYLIGHT
TZOFFSETFROM:+0100
TZOFFSETTO:+0200
TZNAME:CEST
DTSTART:20220327T010000
END:DAYLIGHT
BEGIN:STANDARD
TZOFFSETFROM:+0200
TZOFFSETTO:+0100
TZNAME:CET
DTSTART:20221030T010000
END:STANDARD
BEGIN:DAYLIGHT
TZOFFSETFROM:+0100
TZOFFSETTO:+0200
TZNAME:CEST
DTSTART:20230326T010000
END:DAYLIGHT
BEGIN:STANDARD
TZOFFSETFROM:+0200
TZOFFSETTO:+0100
TZNAME:CET
DTSTART:20231029T010000
END:STANDARD
BEGIN:DAYLIGHT
TZOFFSETFROM:+0100
TZOFFSETTO:+0200
TZNAME:CEST
DTSTART:20240331T010000
END:DAYLIGHT
BEGIN:STANDARD
TZOFFSETFROM:+0200
TZOFFSETTO:+0100
TZNAME:CET
DTSTART:20241027T010000
END:STANDARD
BEGIN:DAYLIGHT
TZOFFSETFROM:+0100
TZOFFSETTO:+0200
TZNAME:CEST
DTSTART:20250330T010000
END:DAYLIGHT
BEGIN:STANDARD
TZOFFSETFROM:+0200
TZOFFSETTO:+0100
TZNAME:CET
DTSTART:20251026T010000
END:STANDARD
END:VTIMEZONE
BEGIN:VEVENT
DTSTART;VALUE=DATE:20230929
DTEND;VALUE=DATE:20231002
DTSTAMP:20260420T153313
CREATED:20230917T170328Z
LAST-MODIFIED:20230919T045826Z
UID:10000059-1695945600-1696204799@demercadosmedievales.info
SUMMARY:Mercado medieval de Jaca (Huesca) 2023
DESCRIPTION:El Mercado medieval de Jaca se traslada al último fin de semana de septiembre\, 29 de Septiembre al 01 de Octubre\, como siempre contará con una multitud de puestos de artesanos y mercaderes\, acompañados animación teatral y musical\, exposiciones temáticas\, animación\, personajes\, cuentacuentos\, pasacalles de gran formato\, actividades infantiles\, rincón y atracciones infantiles\, talleres demostrativos… \n \nMercado medieval de Jaca\nLas nuevas jornadas ‘Jaca\, Reino y Leyenda’ pondrán en valor la importancia de Jaca en el Reino de Aragón – Mercado Medieval \nJACA (HUESCA) \n29 Y 30 DE SEPTIEMBRE Y 1 DE OCTUBRE DEL 2023\nPZA. DE BISCOS\, PZA. DE RIPA\, PZA. DE LA CATEDRAL\, PZA. DE SAN PEDRO\, GLACIS DE LA CIUDADELA \nLA FRAGUA DE VULCANO nos cuenta sobre esté mercado medieval : \n\nNuestra empresa ha sido propuesta como adjudicataria del Mercado Medieval de Jaca (Huesca). \nEl Mercado Medieval se celebra como cada año en el centro histórico de Jaca y en su edición de 2023\, nos ha sido propuesta la adjudicación del mercado medieval que se celebrará como cada año\, en las inmediaciones de la Plaza de San Isidoro. \nEste año se celebrará durante el fin de semana del «Veranillo de San Miguel» en el que el Ayuntamiento ha preparado diversos actos y actividades que atraerán a un gran número de visitantes\, además que\, de por si\, ya suelen visitar esta localidad durante los fines de semana. \nSe realizará un esfuerzo en comunicación y promoción de esta nueva fecha del evento\, tanto por parte del Ayuntamiento\, como por parte de nuestra empresa.  \nEl mercado contará con un completo programa de actividades de animación teatral y musical\, exposiciones temáticas\, animación\, personajes\, cuentacuentos\, pasacalles de gran formato\, actividades infantiles\, rincón y atracciones infantiles\, talleres demostrativos… \n\nUbicación: Centro Histórico de Jaca\nMontaje: Pendiente de confirmación turnos de montaje \nInformación e inscripciones:\nMail: lafragua@espectaculosamb.com \nComo participar en el Mercado medieval ?\nPonte en contacto con LA FRAGUA DE VULCANO Tel. 963 400 037 Mail: lafragua@espectaculosamb.com \n \nLas nuevas jornadas ‘Jaca\, Reino y Leyenda’ pondrán en valor la importancia de Jaca en el Reino de Aragón – Mercado Medieval \nSobre Jaca (Huesca)…\n\n\n\n\n\n\n\n\n\n\n\n\nJaca ​ es un municipio y una ciudad de la provincia de Huesca\, capital de la comarca de la Jacetania en la comunidad autónoma de Aragón\, España.\n\nEl término municipal\, además del casco urbano de Jaca\, incluye los núcleos de población de .\n\nAbay\,\nAbena\,\nAra\,\nAraguás del Solano\,\nAscara\,\nAsieso\,\nAstún\,\nAtarés\,\nBadaguás\,\nBanaguás\,\nBaraguás\,\nBarós\,\nBernués\,\nBescós de Garcipollera\,\nBinué\,\nBotaya\,\nCaniás\,\nEspuéndolas\,\nFraginal\,\nGracionépel\,\nGuasa\,\nGuasillo\,\nIpas\,\nJarlata\,\nLastiesas Altas\,\nLastiesas Bajas\,\nLerés\,\nMartillué\,\nNavasa\,\nNavasilla\,\nNovés\,\nOrante\,\nOsia\,\nUlle y Villanovilla\, denominados «barrios rurales» y que acogían a inicios de 2018 a 951 habitantes.\n\n\nTambién incluye los núcleos despoblados de\n\nAcín\,\nBataraguá\,\nBergosa\,\nescansa\,\nLarrosa y Yosa de Garcipollera\, y la población residente en Puerto de Astún\, la urbanización de la estación de esquí de Astún.\n\n\n\n\nDistancias y comunicaciones\nEs la capital de la comarca de La Jacetania y dista 72 km de Huesca y 143 km de Zaragoza.\nEl término municipal está atravesado por la autovía A-23 y por las carreteras nacionales N-240\, que discurre por el Canal de Berdún hacia Pamplona\, y N-330\, entre los pK 636 y 649\, que conecta con Canfranc y Huesca\, además de por las carreteras autonómicas A-1205\, que conecta con Riglos\, y A-1603\, que se dirige hacia Santa Cruz de la Serós.\n\n\n\n\n\n\n\n\n\n\n\n\n\n\nmercadosmedievales.net – Mercado medieval de Jaca ( Huesca ) 2023\nJaca\, Huesca\, Aragón\n  \n 
URL:https://demercadosmedievales.info/mercadomedieval/mercado-medieval-de-jaca-huesca-2023/
LOCATION:Jaca (Huesca) (***)\, PZA. DE BISCOS\, PZA. DE RIPA\, PZA. DE LA CATEDRAL\, PZA. DE SAN PEDRO\, GLACIS DE LA CIUDADELA\, Jaca\, Huesca\, 22700\, España
CATEGORIES:Huesca,Jaca,Mercado Medieval,Musical Sport
ATTACH;FMTTYPE=image/jpeg:https://demercadosmedievales.info/wp-content/uploads/2023/09/jaca_reino_y_leyenda_cartel_2023.jpg
ORGANIZER;CN="La Fragua de Vulcano":MAILTO:lafragua@espectaculosamb.com
GEO:42.1384416;-0.4072436
X-APPLE-STRUCTURED-LOCATION;VALUE=URI;X-ADDRESS=Jaca (Huesca) (***) PZA. DE BISCOS PZA. DE RIPA PZA. DE LA CATEDRAL PZA. DE SAN PEDRO GLACIS DE LA CIUDADELA Jaca Huesca 22700 España;X-APPLE-RADIUS=500;X-TITLE=PZA. DE BISCOS\, PZA. DE RIPA\, PZA. DE LA CATEDRAL\, PZA. DE SAN PEDRO\, GLACIS DE LA CIUDADELA:geo:-0.4072436,42.1384416
END:VEVENT
BEGIN:VEVENT
DTSTART;VALUE=DATE:20231206
DTEND;VALUE=DATE:20231210
DTSTAMP:20260420T153313
CREATED:20231001T063936Z
LAST-MODIFIED:20231203T173200Z
UID:10000145-1701820800-1702166399@demercadosmedievales.info
SUMMARY:Programación del Mercado Navideño de Panticosa ( Huesca ) 2023
DESCRIPTION:El Mercado navideño de Panticosa será una opción perfecta para vivir el ambiente navideño en un lugar único y lleno de encanto\, en  uno de los pueblos más bonitos del Pirineo Aragonés. \n \nEste año\, Panticosa se convertirá del 6 al 9 de diciembre\, en un destino ideal para pasar el Puente de la Constitución y la Inmaculada\, gracias al mercado navideño que ofrecerá diversas actividades y entretenimiento para todas las edades. \nEste mercado será una de las mayores novedades del año en Panticosa por eso invitamos a turistas y locales a acercarse con amigos\, con niños y en familia. \nEl mercado se ubicará en el centro del pueblo y contará con una cuidada selección de mercaderes y artesanos con productos navideños. \nEl plato fuerte será también la animación orientada sobre todo al público infantil\, con duendes de navidad\, hadas\, títeres y cuentos\, pasacalles con seres de fantasía\, etc… \nDeseamos este mercado se convierta en uno de los más visitados del Valle de Tena por su singularidad digna de los mejores mercados europeos. \nEn definitiva\, el mercado navideño de Panticosa será una opción perfecta para vivir el ambiente navideño en un lugar único y lleno de encanto\, en  uno de los pueblos más bonitos del Pirineo Aragonés. \n  \n \n  \nMercado Navideño de Panticosa\nFECHAS : 06 AL 09 DE DICIEMBRE 2023\n\nUBICACIÓN : en el centro de municipio\, en el parking de la Fajuala.\n\nDESCRIPCIÓN DEL EVENTO :\nCasetas de madera con decoración navideña\n\n\n\nCoincidiendo con el doble Puente de la Constitución y la Inmaculada\, y siendo además temporada de esquí en toda la zona\, nuestra empresa organiza para estas Navidades de 2023\, el Mercado Navideño de Panticosa.  \nMunicipio ubicado en Pireneo oscense\, que cuenta con pistas de esquí de inmejorable calidad\, y cuyo mercado se lleva a cabo en el centro neurálgico del municipio. \nEste mercado contará con decoración y ambientación navideña\, y otros atractivos dirigidos a público familiar\, teniendo en cuenta especialmente a los más pequeños. \nPara este mercado se instalarán casetas de madera\, ambientadas y decorados de temática navideña. \nSi es de vuestro interés\, solicitad más información lo antes posible. \nMontaje: Pendiente de confirmar día y hora\nInformación e Inscripciones: \n\ngestion@espectaculosamb.com  \n\nHorario del Mercado: de 11 a 22 horas\nMontaje: Martes 5 de diciembre. Turnos de montaje por concretar\nLugar: EN EL CENTRO DEL MUNICIPIO\n\n\nComo participar ?\nPonte en contacto con LA FRAGUA DE VULCANO \nTeléfono 963 400 037\nlafragua@espectaculosamb.com \n\n  \n  \n\nMercado Navideño de Panticosa (Huesca) 2023 \nFechas: 06 al 09 de diciembre de 2023 \nLugar: Centro del municipio de Panticosa\, Huesca \nOrganizador: La Fragua de Vulcano \nActividades: \n\nMercado navideño con casetas de madera\nArtesanía\nProductos y artículos de Navidad\nComplementos\nAnimación navideña\n\nInscripciones: \nLas inscripciones están abiertas para artesanos\, productores y vendedores de productos y artículos de Navidad\, complementos\, etc.
URL:https://demercadosmedievales.info/mercadomedieval/mercado-navideno-de-panticosa-huesca-2023/
LOCATION:Panticosa (Huesca) (***)\, Panticosa\, Huesca\, España
CATEGORIES:Huesca,La Fragua de Vulcano,Mercados de navidad
ATTACH;FMTTYPE=image/jpeg:https://demercadosmedievales.info/wp-content/uploads/2023/12/PANTICOSA_cartel_NAVIDAD_2023.jpg
ORGANIZER;CN="La Fragua de Vulcano":MAILTO:lafragua@espectaculosamb.com
GEO:42.7269014;-0.2432307
END:VEVENT
BEGIN:VEVENT
DTSTART;VALUE=DATE:20240421
DTEND;VALUE=DATE:20240422
DTSTAMP:20260420T153313
CREATED:20240207T174808Z
LAST-MODIFIED:20240304T095849Z
UID:10000877-1713657600-1713743999@demercadosmedievales.info
SUMMARY:21 de abril 2024 Feria De Artesanos De La Faldeta De Fragua (Huesca) 2024
DESCRIPTION:Feria De Artesanos durante la celebración de la fiesta del día de la faldeta en Fraga\, de un solo día de duración. \n \n Detalles de la Feria De Artesanos de La Faldeta\nCuando se celebra ? El día 21 de abril 2024 del  2024\nEn que localidad y provincia ? en el municipio de Fraga provincia de HUESCA\nCual será la ubicación ? Paseo Barrón ( Centro Historico ) \n Descripción del evento\n Horario 10:00 horas – 15:00 horas / 16:30 horas – 20:30 horas\n Precio\nMáximo paradas en esta feria 30\nPlazas ocupadas : 5\nPlazas disponibles : 25 \n Quién lo organiza ? Linares Godia producciones\n Como participar ? Cómo Solicitar una parada\nInscripción en la Feria de Artesanos\nPuede solicitar una parada para mostrar y vender productos artesanos de fabricación propia en la Feria de Artesanos de Fraga\, a través de los siguientes medio de contacto :\nmercados@linaresgodiaproducciones.com\nJosé Luis Linares\nTelf.: 654.889.103 \nNota: Las paradas las pone la organización sin ningún tipo de coste para artesanos\nRequisitos : Para poder participar en nuestros mercados es imprescindible estar dado de alta en hacienda y la seguridad social\n«Si no esta dado de alta nos lo comunique para darle de baja de nuestra lista de difusión» \n Acerca de Día de la Faldeta de Fraga\nFoto de Turismo de Aragón\nNo te pierdas la celebración del Día de la Faldeta de Fraga\, jornada festiva en la que se ensalza el traje típico fragatino a través de la recreación de una boda tradicional del siglo XIX. Se celebra el domingo más próximo al 23 de abril. En el año 2024 será el 21 de Abril del 2024. \nLa celebracion del Día de la Faldeta de Fraga comenzó en el año 1977 y tiene lugar el domingo más próximo al 23 de abril. \nCon los años se ha convertido en el Día de exaltación del traje típico\, en el que todos los fragatinos lucen en las calles sus vestimentas centenarias\, las mujeres con sus siete faldas superpuestas\, mantones de manila\, maravillosa orfebrería y característicos peinados. \n¡Todo un espectáculo! \nAntiguamente ese traje era lucido de manera cotidiana en su versión de diario\, en la que predomina el color negro\, y está formado por siete faldas superpuestas\, corsé\, jubón\, mantilla y unos peinados denominados rosca y picaport. \nLa fiesta evoluciona en la línea de recuperación de vestimentas\, peinados y costumbres\, y se complementa con actividades de carácter etnológico\, costumbrista y festivo\, que se alargan durante las semanas anterior y posterior a dicho día con una participación de personas\, que ataviadas con el traje típico\, ronda la cifra de 600. \n Acerca de Fraga\nFraga es un municipio y ciudad española del sureste de la provincia de Huesca\, en la comunidad autónoma de Aragón. Ubicada en el último tramo del valle del río Cinca\, es cabeza de partido judicial y capital de la comarca del Bajo Cinca. El término municipal cuenta con 15 250 habitantes. \n\nCalendario de Mercado Medieval y Ferias 2024 :\n\n\nEnero\nFebrero\nMarzo\nAbril\nMayo\nJunio\nJulio\nAgosto\nSeptiembre\nOctubre\nNoviembre\nDiciembre\n\n Las Ferias y mercados medievales\n\n\nLas Ferias y mercados medievales son eventos populares que recrean el ambiente y la atmósfera de la Edad Media. \n\n\n\nDurante estas Ferias y mercados medievales\, se recrea un pueblo o una ciudad medieval\, con puestos de artesanía\, alimentos\, entretenimiento y actividades relacionadas con la época. Los participantes\, vestidos con trajes medievales\, venden productos tradicionales como joyería\, armas\, vestimenta\, objetos de cuero\, cerámica y otros productos artesanales.\nLos alimentos y bebidas también desempeñan un papel importante en las ferias medievales. \n\nMercados Medievales de Aragon\, Feria de artesanos\, España\, Aragon\, Huesca\, Fraga\, \n  \n 
URL:https://demercadosmedievales.info/mercadomedieval/21-de-abril-2024-feria-de-artesanos-de-la-faldeta-de-fragua-huesca-2024/
LOCATION:Fraga (Huesca) (***)\, Fraga\, Huesca\, 22520\, España
CATEGORIES:Feria de artesanía,Huesca
ATTACH;FMTTYPE=image/jpeg:https://demercadosmedievales.info/wp-content/uploads/2024/02/feria_faldeta_fraga_2024_f.jpg
ORGANIZER;CN="Linares Godia Producciones":MAILTO:mercados@linaresgodiaproducciones.com
GEO:41.5234875;0.3404468
END:VEVENT
BEGIN:VEVENT
DTSTART;TZID=Europe/Madrid:20241031T000000
DTEND;TZID=Europe/Madrid:20241103T235959
DTSTAMP:20260420T153313
CREATED:20240807T092434Z
LAST-MODIFIED:20241027T095212Z
UID:10001594-1730332800-1730678399@demercadosmedievales.info
SUMMARY:Mercado Renacentista de Huesca 2024 del 31 de Octubre al 03 de Noviembre
DESCRIPTION:Esté año la temática será Renacentista y como siempre contará con una multitud de puestos de artesanos y mercaderes\, acompañados animación teatral y musical\, exposiciones temáticas\, animación\, personajes\, cuentacuentos\, pasacalles de gran formato\, actividades infantiles\, rincón y atracciones infantiles\, talleres demostrativos… \n\n\n\n\n\n\n\nMercado Renacentista de Huesca 2024\n\n\n\nArtesanía\, Alimentación y Restauración. \n\n\n\nRecreación de la ceremonia de Insaculación o Extracción de oficios \nEl conserje\, el prior de jurados\, el almutazaf (que llevaba el control de los mercados)\, el cequiero… Hasta 18 cargos y oficios se elegían por sorteo para formar\, durante un año\, el Concejo de Huesca. Se trataba de una ceremonia que se celebró cada 1 de noviembre entre los siglos XV y XVIII\, al igual que en toda la Corona de Aragón. Extracción de oficios.  \nCartel \n \nMapa\n \nPrograma\n \n\n\n\n\n\n \n \n \n \n\n\n\nInformación básica del Mercado\n\n\n\nFecha de celebraciónLos días 31 de Octubre al 03 de Noviembre del  2024 \n\n\n\nDonde se realizaEn la localidad de Huesca capital \n\n\n\nUbicación del EventoEstará ubicado en Plaza López Allúe y calles del entorno. \n\n\n\nInformación del Organizador\n\n\n\nLa empresa organizadora es RIVENDEL MERCADOS TEMATICOS \n\n\n\nInformación e Inscripciones :mercados@rivendelmercados.com \n\n\n\nY su página Web donde se pueden inscribir :https://rivendelmercados.com/rivendelmercadosslu/ \n\n\n\nOtros eventosConsulta Aquí otras ferias y mercados que organizará la empresa Rivendel Mercados Temáticos \n\n\n\nOtros mercados temáticos y FeriasSi quieres conocer cuando se realizan más ferias y mercados\, puedes consultarlos visitando nuestro  👀 Calendario de Eventos \nAcerca de Huesca\nHuesca ​​​ es una ciudad y municipio español\, capital de la provincia homónima y de la comarca de la Hoya de Huesca\, situada al norte de la comunidad autónoma de Aragón. \n\nCalendario 2024\nSobre los Mercados Medievales\nLas ferias medievales son eventos que recrean la atmósfera de la Edad Media. Por lo general\, se llevan a cabo en pueblos o ciudades\, y presentan puestos de vendedores que venden artesanías\, alimentos y bebidas. También puede haber entretenimiento\, como justas\, música y baile. \nTags: 2024\, convocatoria\, cuando\, donde\, feria medieval\, Huesca\, localización\, mercado renacentista\, organizador \n\n\n\n\n\nInformación del organizador\n\n\n\n\n\nMapa de localización
URL:https://demercadosmedievales.info/mercadomedieval/mercado-renacentista-de-huesca-2024/
LOCATION:Huesca capital (***)\, Plaza Luis López Allué\, Huesca\, Huesca\, 22001
CATEGORIES:Cartel,Huesca,Mercado Renacentista y Siglo de Oro,Programación
ATTACH;FMTTYPE=image/jpeg:https://demercadosmedievales.info/wp-content/uploads/2024/08/medieval_huesca_cartel.jpg
ORGANIZER;CN="Rivendel mercados tem%C3%A1ticos":MAILTO:mercados@rivendelmercados.com
GEO:42.1380224;-0.4080947
X-APPLE-STRUCTURED-LOCATION;VALUE=URI;X-ADDRESS=Huesca capital (***) Plaza Luis López Allué Huesca Huesca 22001;X-APPLE-RADIUS=500;X-TITLE=Plaza Luis López Allué:geo:-0.4080947,42.1380224
END:VEVENT
END:VCALENDAR