BEGIN:VCALENDAR
VERSION:2.0
PRODID:-//Mercados Medievales - ECPv6.15.20//NONSGML v1.0//EN
CALSCALE:GREGORIAN
METHOD:PUBLISH
X-WR-CALNAME:Mercados Medievales
X-ORIGINAL-URL:https://demercadosmedievales.info
X-WR-CALDESC:Eventos para Mercados Medievales
REFRESH-INTERVAL;VALUE=DURATION:PT1H
X-Robots-Tag:noindex
X-PUBLISHED-TTL:PT1H
BEGIN:VTIMEZONE
TZID:Europe/Madrid
BEGIN:DAYLIGHT
TZOFFSETFROM:+0100
TZOFFSETTO:+0200
TZNAME:CEST
DTSTART:20250330T010000
END:DAYLIGHT
BEGIN:STANDARD
TZOFFSETFROM:+0200
TZOFFSETTO:+0100
TZNAME:CET
DTSTART:20251026T010000
END:STANDARD
BEGIN:DAYLIGHT
TZOFFSETFROM:+0100
TZOFFSETTO:+0200
TZNAME:CEST
DTSTART:20260329T010000
END:DAYLIGHT
BEGIN:STANDARD
TZOFFSETFROM:+0200
TZOFFSETTO:+0100
TZNAME:CET
DTSTART:20261025T010000
END:STANDARD
BEGIN:DAYLIGHT
TZOFFSETFROM:+0100
TZOFFSETTO:+0200
TZNAME:CEST
DTSTART:20270328T010000
END:DAYLIGHT
BEGIN:STANDARD
TZOFFSETFROM:+0200
TZOFFSETTO:+0100
TZNAME:CET
DTSTART:20271031T010000
END:STANDARD
END:VTIMEZONE
BEGIN:VEVENT
DTSTART;TZID=Europe/Madrid:20260306T000000
DTEND;TZID=Europe/Madrid:20260308T235959
DTSTAMP:20260419T220428
CREATED:20251218T193104Z
LAST-MODIFIED:20260302T131936Z
UID:10003081-1772755200-1773014399@demercadosmedievales.info
SUMMARY:VIII Mercat Romà d’Ilerda 2026 en Lleida | 6\, 7 y 8 de marzo
DESCRIPTION:La historia vuelve a tomar las calles de Lleida con la llegada del VIII Mercat Romà d’Ilerda\, un evento ya consolidado que convierte el centro de la ciudad en un auténtico escenario de época. \n\n\n\n\n\n\n\n \n\n\n\nÍndice Ilerda revive Roma: Mercat Romà d’IlerdaCartel Mercat Romà d’IlerdaInformación para artesanos y mercaderes :Lleida (Ilerda)Sobre los Mercados MedievalesPara más información puedes consultar :Si quieres seguirnos en las Redes Sociales\, aquí te dejamos los enlaces :En Resumen…\n\n\n\n \n\n\n\n \n\n\n\nIlerda revive Roma: Mercat Romà d’Ilerda\n\n\n\nDurante tres días\, vecinos y visitantes podrán disfrutar de una experiencia cultural única que rinde homenaje al pasado romano de la ciudad\, combinando tradición\, comercio y divulgación histórica. \n\n\n\n \n\n\n\nCartel Mercat Romà d’Ilerda\n\n\n\nMercat Romà d’Ilerda\n\n\n\n \n\n\n\nInformación para artesanos y mercaderes :\n\n\n\n\nEvento : Mercat Romà d’Ilerda\n\n\n\nLocalidad: Lleida capital\, LLEIDA\n\n\n\nFechas: 6\, 7 y 8 de marzo de 2026\n\n\n\nTemática: Mercado Romano\n\n\n\nEdición: VIII edición\n\n\n\nEvento de todo el día: Si\n\n\n\nCategoría : Mercados Temáticos\, Mercado Romano\, Artesanía\, Historia\n\n\n\nDESCRIPCIÓN DEL EVENTO : El Mercat Romà d’Ilerda regresa en su octava edición para recrear la esencia de la antigua ciudad romana de Ilerda\, con artesanía\, productos tradicionales y ambiente histórico.\n\n\n\nORGANIZA : Comerç Democràcia Cardenal Remolins\n\n\n\nINFORMACIÓN E INSCRIPCIONES  :  Correo electrónico: democracia.remolins@gmail.com\n\n\n\n\n \n\n\n\nDel 6 al 8 de marzo de 2026\, Lleida celebrará una nueva edición del Mercat Romà d’Ilerda\, una cita imprescindible para los amantes de la historia\, la artesanía y los mercados temáticos. Este evento\, que alcanza ya su octava edición\, se ha convertido en uno de los referentes culturales y comerciales de la ciudad. \n\n\n\n \n\n\n\n\n\n\n\n\n\n\n \n\n\n\nLleida (Ilerda) \n\n\n\nLleida\, conocida históricamente como Ilerda\, es una ciudad con un profundo legado romano y medieval situada en el corazón de Cataluña. Su historia\, patrimonio y dinamismo cultural la convierten en un enclave perfecto para la celebración de mercados históricos. El Mercat Romà se integra de forma natural en la ciudad\, reforzando su identidad y atrayendo visitantes de toda la provincia y comunidades cercanas. \n\n\n\n\n\n \n\n\n\nSobre los Mercados Medievales\n\n\n\nLas ferias medievales son eventos que recrean la atmósfera de la Edad Media. Por lo general\, se llevan a cabo en pueblos o ciudades\, y presentan puestos de vendedores que venden artesanías\, alimentos y bebidas. También puede haber entretenimiento\, como justas\, música y baile. \n\n\n\n \n\n\n\nPara más información puedes consultar :\n\n\n\n\nConsulta las fechas de las próximas Ferias y Mercados en España\n\n\n\nHaz clic en ESTE enlace :  Conoce los Organizadores de Mercados y Ferias\n\n\n\n\nSi quieres seguirnos en las Redes Sociales\, aquí te dejamos los enlaces :\n\n\n\n\nTelegram Newsletter WhatsApp Instagram y Por supuesto en Facebook\n\n\n\n\nEn Resumen…
URL:https://demercadosmedievales.info/mercadomedieval/viii-mercat-roma-dilerda-2026-en-lleida-6-7-y-8-de-marzo/
LOCATION:Lleida capital (Lleida)\, Carrers Democracoa i Cardenal Remolins\, Lleida\, Lleida\, España
CATEGORIES:Cataluña,Lleida,Mercado romano
ATTACH;FMTTYPE=image/jpeg:https://demercadosmedievales.info/wp-content/uploads/2025/12/mercat_roma_ilerda_fb.jpg
ORGANIZER;CN="Comer%C3%A7 Democr%C3%A0cia Cardenal Remolins":MAILTO:democracia.remolins@gmail.com
END:VEVENT
END:VCALENDAR