BEGIN:VCALENDAR
VERSION:2.0
PRODID:-//Mercados Medievales - ECPv6.15.20//NONSGML v1.0//EN
CALSCALE:GREGORIAN
METHOD:PUBLISH
X-WR-CALNAME:Mercados Medievales
X-ORIGINAL-URL:https://demercadosmedievales.info
X-WR-CALDESC:Eventos para Mercados Medievales
REFRESH-INTERVAL;VALUE=DURATION:PT1H
X-Robots-Tag:noindex
X-PUBLISHED-TTL:PT1H
BEGIN:VTIMEZONE
TZID:Europe/Madrid
BEGIN:DAYLIGHT
TZOFFSETFROM:+0100
TZOFFSETTO:+0200
TZNAME:CEST
DTSTART:20230326T010000
END:DAYLIGHT
BEGIN:STANDARD
TZOFFSETFROM:+0200
TZOFFSETTO:+0100
TZNAME:CET
DTSTART:20231029T010000
END:STANDARD
BEGIN:DAYLIGHT
TZOFFSETFROM:+0100
TZOFFSETTO:+0200
TZNAME:CEST
DTSTART:20240331T010000
END:DAYLIGHT
BEGIN:STANDARD
TZOFFSETFROM:+0200
TZOFFSETTO:+0100
TZNAME:CET
DTSTART:20241027T010000
END:STANDARD
BEGIN:DAYLIGHT
TZOFFSETFROM:+0100
TZOFFSETTO:+0200
TZNAME:CEST
DTSTART:20250330T010000
END:DAYLIGHT
BEGIN:STANDARD
TZOFFSETFROM:+0200
TZOFFSETTO:+0100
TZNAME:CET
DTSTART:20251026T010000
END:STANDARD
END:VTIMEZONE
BEGIN:VEVENT
DTSTART;VALUE=DATE:20240503
DTEND;VALUE=DATE:20240506
DTSTAMP:20260422T091958
CREATED:20240419T171316Z
LAST-MODIFIED:20240419T171316Z
UID:10001189-1714694400-1714953599@demercadosmedievales.info
SUMMARY:Hippie Market Primavera La Línea (Cádiz) 2024
DESCRIPTION:Fiesta de la primavera «Hippie Market» primaveral en el corazón de La línea. Fiesta que proclama la llegada de la primavera \, llena de flores y buenos augurios para el arribo del equinoccio. \n \nHippie Market Primavera La Línea\nDetalles del Mercado\n📅 Cual es la fecha de celebración ?*\nDel 3 al 5 de Mayo 2024\n🗓 Hasta que fecha se pueden inscribir los artesanos y mercaderes ?*\nHasta completar plazas \n🏡 Donde se va a celebrar ? Localidad y provincia*\nEn La Línea de la Concepción de la provincia de CADIZ\n📍 Cual será la ubicación dentro de la localidad (calle\, Plaza\, vía\, etc.)\nEstará ubicado en la Plaza Fariñas \n💬 Descripción del Hippie Market\nFiesta de la primavera «Hippie Market» primaveral en el corazón de La línea. Fiesta que proclama la llegada de la primavera \, llena de flores y buenos augurios para el arribo del equinoccio. \nLa Línea de la Concepción es un municipio español del sur de la provincia de Cádiz\, en la comunidad autónoma de Andalucía. Perteneciente a la comarca del Campo de Gibraltar\, en 2021 contaba con 63 365 habitantes. Se asienta sobre el istmo arenoso que une el peñón de Gibraltar con la costa\, en el flanco este de la bahía de Algeciras\, entre Sierra Carbonera y el Peñón. \n🗓 Dia y hora de Montaje :*\nDía viernes 5 de mayo en horario de mañana\n⏰ Fecha y hora de Inauguración\nDía 5 de mayo en horario de tarde\n📋 Servicios que proporcionara el organizador a los artesanos y mercaderes participantes *\nSeguridad\nAgua\nElectricidad\nOtro: Electricidad \nOrganizador Hippie Market\n⚜ Quien organiza la Feria y/o Mercado ?*\nLa empresa MALIK MERCADOS TEMATICOS  . Son los encargados de la organización y gestión de paradas/puestos de venta\, además de la decoración medieval así como también de  la ambientación. \nTeléfono de contacto :\n657665994\nEmail de contacto : *\nasociacionmalik@hotmail.com \n\n\n\n \nAcerca de La Línea de la Concepción\nLa Línea de la Concepción es un municipio español del sur de la provincia de Cádiz\, en la comunidad autónoma de Andalucía. Perteneciente a la comarca del Campo de Gibraltar\, en 2021 contaba con 63 365 habitantes. \nCalendario 2024 : \n\nAquí te dejo el calendario donde puedes encontrar mercados medievales y ferias temáticas en España durante el 2024: \n\n\nEnero\nFebrero\nMarzo\nAbril\nMayo\nJunio\nJulio\nAgosto\nSeptiembre\nOctubre\nNoviembre\nDiciembre\n\n Las Ferias y mercados medievales\nLas ferias medievales son eventos que recrean la atmósfera de la Edad Media. Por lo general\, se llevan a cabo en pueblos o ciudades\, y presentan puestos de vendedores que venden artesanías\, alimentos y bebidas. También puede haber entretenimiento\, como justas\, música y baile. . \nEn conclusión\, los Mercados  Medievales son una forma popular de aprender sobre la historia de la Edad Media y experimentar la cultura de la época. También son una actividad divertida para toda la familia. \nTags:  Feria Medieval\,Convocatoria\,plazo\,2024\,Hippie Market Primavera\, La Linea de la Concepción\,Andalucia\,España\, \n  \n 
URL:https://demercadosmedievales.info/mercadomedieval/hippie-market-primavera-la-linea-cadiz-2024/
LOCATION:La Línea de la Concepción (Cádiz) (***)\, La Linea de la Concepción\, Cadiz\, España
CATEGORIES:Cadiz,Malik mercados tematicos,Mercado Hippie
ATTACH;FMTTYPE=image/jpeg:https://demercadosmedievales.info/wp-content/uploads/2024/04/hippie_market_la_laguna_Post_Facebook.jpg
ORGANIZER;CN="Malik Culture Eventos":MAILTO:asociacionmalim@hotmail.com
END:VEVENT
END:VCALENDAR