BEGIN:VCALENDAR
VERSION:2.0
PRODID:-//Mercados Medievales - ECPv6.15.20//NONSGML v1.0//EN
CALSCALE:GREGORIAN
METHOD:PUBLISH
X-WR-CALNAME:Mercados Medievales
X-ORIGINAL-URL:https://demercadosmedievales.info
X-WR-CALDESC:Eventos para Mercados Medievales
REFRESH-INTERVAL;VALUE=DURATION:PT1H
X-Robots-Tag:noindex
X-PUBLISHED-TTL:PT1H
BEGIN:VTIMEZONE
TZID:Europe/Madrid
BEGIN:DAYLIGHT
TZOFFSETFROM:+0100
TZOFFSETTO:+0200
TZNAME:CEST
DTSTART:20250330T010000
END:DAYLIGHT
BEGIN:STANDARD
TZOFFSETFROM:+0200
TZOFFSETTO:+0100
TZNAME:CET
DTSTART:20251026T010000
END:STANDARD
BEGIN:DAYLIGHT
TZOFFSETFROM:+0100
TZOFFSETTO:+0200
TZNAME:CEST
DTSTART:20260329T010000
END:DAYLIGHT
BEGIN:STANDARD
TZOFFSETFROM:+0200
TZOFFSETTO:+0100
TZNAME:CET
DTSTART:20261025T010000
END:STANDARD
BEGIN:DAYLIGHT
TZOFFSETFROM:+0100
TZOFFSETTO:+0200
TZNAME:CEST
DTSTART:20270328T010000
END:DAYLIGHT
BEGIN:STANDARD
TZOFFSETFROM:+0200
TZOFFSETTO:+0100
TZNAME:CET
DTSTART:20271031T010000
END:STANDARD
END:VTIMEZONE
BEGIN:VEVENT
DTSTART;TZID=Europe/Madrid:20260619T000000
DTEND;TZID=Europe/Madrid:20260621T235959
DTSTAMP:20260420T053834
CREATED:20260419T204426Z
LAST-MODIFIED:20260417T204431Z
UID:10003425-1781827200-1782086399@demercadosmedievales.info
SUMMARY:II Mercado Medieval de La Cistérniga (Valladolid) 2026 * Evento en 2026
DESCRIPTION:La historia vuelve a la provincia de Valladolid\,  con la celebración del II Mercado Medieval de La Cistérniga 2026\, un evento que transformará la Plaza Mayor en un auténtico escenario de la Edad Media del 19 al 21 de junio  \n\n\n\n\n\n\n\n \n\n\n\n\n\n\n\n¿Eres artesano o amante de las ferias temáticas? > Descubre el mayor calendario de mercados medievales 2026. Síguenos en nuestro Instagram oficial o conecta con nosotros vía WhatsApp para recibir novedades sobre plazos de inscripción y fechas de eventos. No olvides suscribirte a nuestra Newsletter para no perderte ninguna publicación. \n\n\n\n\n\n\n\n \n\n\n\nII Mercado Medieval de La Cistérnigaℹ Información🎭 Cartel y Programa El plazo de inscripción para artesanos y mercaderes está abiertoMercados medievales y temáticosÚnete a la Red de Artesanos y Mercaderes\n\n\n\n \n\n\n\nℹ Información\n\n\n\n\nEvento :        II Mercado Medieval de La Cistérniga\n\n\n\nTemática:      Medieval\n\n\n\nFechas :        19 al 21 de junio  de 2026\n\n\n\nUbicación :    Plaza Mayor\n\n\n\nMunicipio y provincia :             La Cistérniga\, Valladolid\n\n\n\nHorario de apertura y cierra :   Se inaugura y apertura del mercado: el día Viernes.\n\n Sábado y Domingo\, el horario será de mañana y tarde. \n\n\n\n\n\n\n \n\n\n\n🎭 Cartel y Programa \n\n\n\n🧧Cartel oficial del II Mercado Medieval de La Cistérniga  \n\n\n\nII Mercado Medieval de La Cistérniga\n\n\n\n \n\n\n\n📋 Programa de actividades  del II Mercado Medieval de La Cistérniga \n\n\n\n\n\n\n\n \n\n\n\nEl plazo de inscripción para artesanos y mercaderes está abierto\n\n\n\nEn el siguiente enlace tienes la información 👇 \n\n\n\n\nAbiertas las inscripciones II Mercado Medieval de La Cistérniga 2026 (Valladolid)\n\n\n\n\n \n\n\n\n🚗 Cómo llegar al II Mercado Medieval de La Cistérniga \n\n\n\nLa Cistérniga es una localidad cercana a Valladolid\, situada a pocos kilómetros al sureste. Destaca por su crecimiento\, su ambiente tranquilo y su buena conexión con la capital. Combina tradición y modernidad\, siendo un lugar ideal para eventos culturales y festivos gracias a su accesibilidad y entorno acogedor. \n\n\n\nPara llegar en coche\, desde Valladolid el trayecto es rápido\, de unos 10 minutos. Puedes tomar la VA-30 o la N-122 en dirección a Soria. Una vez en La Cistérniga\, sigue las indicaciones hacia el centro urbano. \n\n\n\nLa Plaza Mayor de La Cistérniga se encuentra en pleno centro\, con acceso sencillo y bien señalizado. Hay zonas de aparcamiento cercanas\, desde donde podrás llegar caminando cómodamente al evento. \n\n\n\n \n\n\n\n\n\n\n\n\n\n \n\n\n\n🗓 Eventos más próximos \n\n\n\nAdemás de este evento\, la provincia acoge otras ferias de artesanía y mercados temáticos. A continuación\, destacamos tres opciones adicionales donde también puedes solicitar tu participación: \n\n\n\nMercado Renacentista de Torrelobatón 2026 (Valladolid) 🏰 Cartel y Programación23 abrilMercado Comarcal Villalón 2026 feria agroalimentaria (Valladolid)13 junio - 14 junioII Mercado Medieval de La Cistérniga (Valladolid) 2026 * Evento en 202619 junio - 21 junio \n\n\n\n \n\n\n\n\n\n\n\n \n\n\n\nMercados medievales y temáticos\n\n\n\n \n\n\n\nPróximas Ferias y Mercados en España: Consulta las localidades confirmadas y las fechas de los próximos eventos para planificar tu ruta anual. \n\n\n\nGuía de Organizadores de Mercados y Ferias: Accede al listado de empresas organizadoras para solicitar bases de participación\, precios de metros y condiciones de montaje. \n\n\n\n \n\n\n\nMercados Medievales 2026 Calendario de Ferias y Mercados : \n\n\n\nMercados Medievales en la RED\n\n\n\n¿Eres artesano o mercader y buscas nuevos eventos para exponer tus productos? España ofrece una de las agendas de ferias temáticas y mercados medievales más dinámicas de Europa. Estos eventos son el escaparate perfecto para la artesanía de autor\, combinando un gran flujo de visitantes con entornos de venta estratégicos. \n\n\n\nSi tu objetivo es ampliar tu ruta de mercados y asegurar tu participación en las mejores plazas\, esta es tu plataforma profesional de referencia. \n\n\n\n\n\n\n\n \n\n\n\nÚnete a la Red de Artesanos y Mercaderes\n\n\n\nLas plazas en los mejores mercados se agotan rápido. No te quedes fuera de las convocatorias más importantes del año. Únete a nuestros canales exclusivos para profesionales y recibe alertas sobre nuevas aperturas de plazos e inscripciones: \n\n\n\nComunidad y Visibilidad: Conecta con nosotros en Instagram\, Facebook y nuestra Newsletter profesional. \n\n\n\nAlertas Inmediatas: Únete a nuestro Telegram o WhatsApp para recibir avisos de última hora.
URL:https://demercadosmedievales.info/mercadomedieval/ii-mercado-medieval-de-la-cisterniga/
LOCATION:Cistérniga (Valladolid)\, Cistérniga\, Valladolid\, España
CATEGORIES:Castilla y Leon,Comunidades y Ciudades Autónomas,eventos 2026,Mercado Medieval,Mercados tematicos,Valladolid
ATTACH;FMTTYPE=image/jpeg:https://demercadosmedievales.info/wp-content/uploads/2026/04/medieval-la-cisterniga-2026-1200.jpg
ORGANIZER;CN="Fusi%C3%B3n medieval s.l.":MAILTO:fusionservicios.tem@gmail.com
END:VEVENT
END:VCALENDAR