BEGIN:VCALENDAR
VERSION:2.0
PRODID:-//Mercados Medievales - ECPv6.15.20//NONSGML v1.0//EN
CALSCALE:GREGORIAN
METHOD:PUBLISH
X-WR-CALNAME:Mercados Medievales
X-ORIGINAL-URL:https://demercadosmedievales.info
X-WR-CALDESC:Eventos para Mercados Medievales
REFRESH-INTERVAL;VALUE=DURATION:PT1H
X-Robots-Tag:noindex
X-PUBLISHED-TTL:PT1H
BEGIN:VTIMEZONE
TZID:Europe/Madrid
BEGIN:DAYLIGHT
TZOFFSETFROM:+0100
TZOFFSETTO:+0200
TZNAME:CEST
DTSTART:20220327T010000
END:DAYLIGHT
BEGIN:STANDARD
TZOFFSETFROM:+0200
TZOFFSETTO:+0100
TZNAME:CET
DTSTART:20221030T010000
END:STANDARD
BEGIN:DAYLIGHT
TZOFFSETFROM:+0100
TZOFFSETTO:+0200
TZNAME:CEST
DTSTART:20230326T010000
END:DAYLIGHT
BEGIN:STANDARD
TZOFFSETFROM:+0200
TZOFFSETTO:+0100
TZNAME:CET
DTSTART:20231029T010000
END:STANDARD
BEGIN:DAYLIGHT
TZOFFSETFROM:+0100
TZOFFSETTO:+0200
TZNAME:CEST
DTSTART:20240331T010000
END:DAYLIGHT
BEGIN:STANDARD
TZOFFSETFROM:+0200
TZOFFSETTO:+0100
TZNAME:CET
DTSTART:20241027T010000
END:STANDARD
BEGIN:DAYLIGHT
TZOFFSETFROM:+0100
TZOFFSETTO:+0200
TZNAME:CEST
DTSTART:20250330T010000
END:DAYLIGHT
BEGIN:STANDARD
TZOFFSETFROM:+0200
TZOFFSETTO:+0100
TZNAME:CET
DTSTART:20251026T010000
END:STANDARD
END:VTIMEZONE
BEGIN:VEVENT
DTSTART;TZID=Europe/Madrid:20240920T000000
DTEND;TZID=Europe/Madrid:20240922T235959
DTSTAMP:20260422T102242
CREATED:20240906T182126Z
LAST-MODIFIED:20240919T063727Z
UID:10001687-1726790400-1727049599@demercadosmedievales.info
SUMMARY:Mercado de época AÑO 1900 de Furelos-Melide 2024 (La Coruña)
DESCRIPTION:Programación del Mercado de época Año 1900 en la localidad de Furelos\, organizado por Tempus Aevus Colaborando con La Fabrica de los Manjares.  \n\n\n\n\n\n\nVII mercado de época AÑO 1900\n\n\n\nEl mercado abrirá sus puertas a partir de las 18.00 horas del viernes 20\, y permanecerá abierto durante todo el fin de semana\, de 11.30 a 22.30 horas el sábado 21 y de 11.30 a 22.00 horas el domingo 22. \nTradición \, Artesanía \, Música \, Animación\nLa programación incluye varios desfiles a lo largo del fin de semana\, además de espectáculos de circo\, fuego\, musicales y teatrales. Los visitantes también podrán disfrutar de magníficas exposiciones que recrean la vida de principios del siglo XX\, como la barbería\, el notario\, el taller de costura\, el tendero\, la cantina\, la carpintería\, la bodega\, la lavandería o el tienda de juguetes. También habrá talleres demostrativos de diversas artes y atracciones infantiles para que la diversión no falte. \n\n\n\nCartel\n \nProgramación \nViernes :\n \nSábado :\n \nDomingo :\n \nInformación básica del Mercado\nFecha de celebración Los dias 20 al 22 de septiembre  del  2024 \nDonde se realizaEn la localidad de Furelos (Melide)  que pertenece a la provincia de  LA CORUÑA \nInformación del Organizador\nLa empresa TEMPUS AEVUSInformación e InscripcionesE-Mail:  Tempusaevus@gmail.comTeléfono :    622 712 382 \nRequisitos : Recuerde que tiene que estar dado de alta en Seguridad Social\, autónomo o cooperativa\, y tener un seguro de RC de su puesto\, así como alta en IAE. Si tiene alimentación\, carnet de manipulador\, registro sanitario o en su defecto facturas y o albaranes de compra. \nMás fechas  Puedes conocer mas ferias y mercados en está provincia\, consultando nuestra sección de Eventos en La Coruña \nConsulta Aquí otras ferias y mercados que organizará la empresa Tempus Aevus \notros mercados temáticos y FeriasSi quieres conocer cuando se realizan más ferias y mercados\, puedes consultarlos visitando nuestro  👀 Calendario de Eventos \nCalendario 2024\nSobre los Mercados Medievales\nLas ferias medievales son eventos que recrean la atmósfera de la Edad Media. Por lo general\, se llevan a cabo en pueblos o ciudades\, y presentan puestos de vendedores que venden artesanías\, alimentos y bebidas. También puede haber entretenimiento\, como justas\, música y baile. \n\n\n\n\n\n\n\nDetalles del organizador\n\n\n\n\n\nLocalizador\n\n\n\nFurelos​ o San Juan de Furelos​ es una parroquia del municipio de Melide\, en la provincia de La Coruña\, Galicia\, España.
URL:https://demercadosmedievales.info/mercadomedieval/mercado-de-epoca-ano-1900-de-furelos-melide-2024-la-coruna/
LOCATION:Furelos ( Melide\, La Coruña ) (***)\, centro\, Furelos\, La Coruña\, 15809\, España
CATEGORIES:Cartel,La Coruña,Mercado modernista,Mercados tematicos,Programación
ATTACH;FMTTYPE=image/jpeg:https://demercadosmedievales.info/wp-content/uploads/2024/09/mercado-epoca-furelos-2024-f.jpg
ORGANIZER;CN="Tempus Aevus":MAILTO:tempusaevus@gmail.com
GEO:42.9094875;-7.999141
X-APPLE-STRUCTURED-LOCATION;VALUE=URI;X-ADDRESS=Furelos ( Melide La Coruña ) (***) centro Furelos La Coruña 15809 España;X-APPLE-RADIUS=500;X-TITLE=centro:geo:-7.999141,42.9094875
END:VEVENT
BEGIN:VEVENT
DTSTART;VALUE=DATE:20230922
DTEND;VALUE=DATE:20230925
DTSTAMP:20260422T102242
CREATED:20230918T102339Z
LAST-MODIFIED:20230918T102641Z
UID:10000065-1695340800-1695599999@demercadosmedievales.info
SUMMARY:VI mercado de época AÑO 1900 modernista en Furelos ( Melide \, La Coruña) 2023
DESCRIPTION:Mercado de época Año 1900\, modernista en la localidad de Furelos que pertenece a Melide (La Coruña) \, organizado por Tempus Aevus Colaborando con La Fabrica de los Manjares. \n\nTradición\nArtesanía\nMúsica\nAnimación\n\n \nVI Mercado de época Año 1900 de Furelos\nFECHAS : 22 AL 24 DE SEPTIEMBRE 2023\nLOCALIDAD Y PROVINCIA : FURELOS\, MELIDE ( LA CORUÑA )\nVESTUARIO Y DECORACION : MODERNISTA \nPara participar ponte en contacto con ..\n TEMPUS AEVUS  Colaborando con La fábrica de los Manjares  \nCONTACTO :\nE-Mail:\ntempusaevus@gmail.com\nTlf: 622 712 382 \n \nMercado de época Año 1900 en Furelos\nEl Ayuntamiento de Melide celebrará la sexta edición del Mercado de Furelos 1900 los días 22\, 23 y 24 de septiembre 2023. Animación\, música\, teatro\, artesanía y exposiciones configuran una variada oferta de ocio para el fin de semana.\nLos próximos días 22\, 23 y 24 (viernes\, sábado y domingo) de septiembre\, la parroquia de Furelos (Melide) vuelve al año 1900 con su ya tradicional Mercado de la Vendimia. \nUn evento que contará con talleres\, exposiciones\, recreaciones de época\, música\, animación\, tradición y artesanía para que el barrio y los visitantes entren en la máquina del tiempo y regresen al año 1900. Además\, para facilitar la llegada a Furelos\, este evento contará con un atractivo añadido : el Tren Turístico\, que unirá el centro de la localidad (parada junto a la Ermita de San Roque) con la parroquia de Furelos. \nDesde el Ayuntamiento de Melide invitamos a todas las personas\, tanto del municipio como visitantes\, a venir a Furelos durante el fin de semana del 22 al 24 de septiembre para disfrutar de nuestras raíces\, cultura\, oficios y música a través de una visita al año 1900. \n_______ \nmercadosmedievales.net – VI mercado de época modernista en Furelos ( Melide \, La Coruña) 2023 \nFurelos\, Melide\, La Coruña\, Galicia
URL:https://demercadosmedievales.info/mercadomedieval/vi-mercado-de-epoca-modernista-en-furelos-melide-la-coruna-2023/
LOCATION:Furelos ( Melide\, La Coruña ) (***)\, centro\, Furelos\, La Coruña\, 15809\, España
CATEGORIES:Furelos (Melide),Mercado modernista,Tempus Aevus
ATTACH;FMTTYPE=image/jpeg:https://demercadosmedievales.info/wp-content/uploads/2023/09/furelos_ano1900_modernista_cartel.jpg
ORGANIZER;CN="Tempus Aevus":MAILTO:tempusaevus@gmail.com
GEO:42.9094875;-7.999141
X-APPLE-STRUCTURED-LOCATION;VALUE=URI;X-ADDRESS=Furelos ( Melide La Coruña ) (***) centro Furelos La Coruña 15809 España;X-APPLE-RADIUS=500;X-TITLE=centro:geo:-7.999141,42.9094875
END:VEVENT
END:VCALENDAR