BEGIN:VCALENDAR
VERSION:2.0
PRODID:-//Mercados Medievales - ECPv6.15.20//NONSGML v1.0//EN
CALSCALE:GREGORIAN
METHOD:PUBLISH
X-ORIGINAL-URL:https://demercadosmedievales.info
X-WR-CALDESC:Eventos para Mercados Medievales
REFRESH-INTERVAL;VALUE=DURATION:PT1H
X-Robots-Tag:noindex
X-PUBLISHED-TTL:PT1H
BEGIN:VTIMEZONE
TZID:Europe/Madrid
BEGIN:DAYLIGHT
TZOFFSETFROM:+0100
TZOFFSETTO:+0200
TZNAME:CEST
DTSTART:20230326T010000
END:DAYLIGHT
BEGIN:STANDARD
TZOFFSETFROM:+0200
TZOFFSETTO:+0100
TZNAME:CET
DTSTART:20231029T010000
END:STANDARD
BEGIN:DAYLIGHT
TZOFFSETFROM:+0100
TZOFFSETTO:+0200
TZNAME:CEST
DTSTART:20240331T010000
END:DAYLIGHT
BEGIN:STANDARD
TZOFFSETFROM:+0200
TZOFFSETTO:+0100
TZNAME:CET
DTSTART:20241027T010000
END:STANDARD
BEGIN:DAYLIGHT
TZOFFSETFROM:+0100
TZOFFSETTO:+0200
TZNAME:CEST
DTSTART:20250330T010000
END:DAYLIGHT
BEGIN:STANDARD
TZOFFSETFROM:+0200
TZOFFSETTO:+0100
TZNAME:CET
DTSTART:20251026T010000
END:STANDARD
END:VTIMEZONE
BEGIN:VEVENT
DTSTART;TZID=Europe/Madrid:20240824T000000
DTEND;TZID=Europe/Madrid:20240824T235959
DTSTAMP:20260420T112937
CREATED:20240815T065344Z
LAST-MODIFIED:20240815T065554Z
UID:10001616-1724457600-1724543999@demercadosmedievales.info
SUMMARY:Mercado Medieval de Fuentenovilla (Guadalajara) 2024
DESCRIPTION:El Mercado Medieval será el día 24 de Agosto en el centro histórico de Fuentenovilla\, los artesanos pueden participar de manera gratuita. \n\n\n\n\n\n\n\n\n\nMercado Medieval\n\n\n\nDesde 2004\, Fuentenovilla reivindica su pasado con la ayuda de decenas de vecinos que se visten de época. La Jornada medieval conmemora\, entre otras cosas\, la fundación de Fuentenovilla -no existe fecha precisa ni acto determinado- por los caballeros de la orden de Calatrava\, hecho probado por la historia. \nLos festejos persiguen recordar la importancia que tuvieron los caballeros calatravos que lucharon contra los musulmanes durante la Reconquista; además permiten ver la huella que dejaron en esta villa durante su presencia que duró cuatro siglos\, dejando su cruz estampada en su escudo municipal. \n\n\n\nCartel y Programación \n\n\n\n** Próximamente dispondremos del cartel y del programa con las actividades previstas. \n\n\n\nInformación básica del Mercado\n\n\n\nFecha de celebraciónEl día 24 de Agosto (Sábado) del  2024 \n\n\n\nDonde se realizaEn la localidad de Fuentenovilla que pertenece a la provincia de GUADALAJARA \n\n\n\nUbicación del EventoEstará ubicado en el centro de la población \n\n\n\nPrecio Gratuito \n\n\n\nInformación del Organizador\n\n\n\nLa empresa organizadora es MICHEL (Professional history) \n\n\n\nComo participar\n\n\n\nInformación e Inscripciones:  phartesanos@gmail.com \n\n\n\nMás fechas  Puedes conocer mas ferias y mercados en está provincia\, consultando nuestra amplia sección de Eventos en Guadalajara \n\n\n\nOtros eventos  Consulta Aquí otras ferias y mercados que organizará la empresa Michel (Professional history) \n\n\n\notros mercados temáticos y FeriasSi quieres conocer cuando se realizan más ferias y mercados\, puedes consultarlos visitando nuestro  👀 Calendario de Eventos \n\n\n\nAcerca de Fuentenovilla\n\n\n\nFuentenovilla es un municipio y localidad española de la provincia de Guadalajara\, en la comunidad autónoma de Castilla-La Mancha.  \n\n\n\nCalendario 2024\n\n\n\nSobre los Mercados Medievales\n\n\n\nLas ferias medievales son eventos que recrean la atmósfera de la Edad Media. Por lo general\, se llevan a cabo en pueblos o ciudades\, y presentan puestos de vendedores que venden artesanías\, alimentos y bebidas. También puede haber entretenimiento\, como justas\, música y baile. \n\n\n\nTags:  Fuentenovilla\, Castilla La Mancha\,Feria Medieval\,Convocatoria\,2024\,España  \n  \n\n\n\n\n\nDetalles del organizador\n\n\n\n\n\nMapa de localización
URL:https://demercadosmedievales.info/mercadomedieval/mercado-medieval-de-fuentenovilla-guadalajara-2024/
LOCATION:Fuentenovilla (Guadalajara) (***)\, Centro histórico\, Fuentenovilla\, Guadalajara\, 19113\, España
CATEGORIES:Guadalajara,Mercado Medieval
ATTACH;FMTTYPE=image/jpeg:https://demercadosmedievales.info/wp-content/uploads/2024/08/medieval_fuentenovilla_f.jpg
ORGANIZER;CN="Michel - Recreaciones hist%C3%B3ricas eventos y espect%C3%A1culos":MAILTO:phartesanos@gmail.com
GEO:40.3651533;-3.0945694
X-APPLE-STRUCTURED-LOCATION;VALUE=URI;X-ADDRESS=Fuentenovilla (Guadalajara) (***) Centro histórico Fuentenovilla Guadalajara 19113 España;X-APPLE-RADIUS=500;X-TITLE=Centro histórico:geo:-3.0945694,40.3651533
END:VEVENT
END:VCALENDAR