BEGIN:VCALENDAR
VERSION:2.0
PRODID:-//Mercados Medievales - ECPv6.15.20//NONSGML v1.0//EN
CALSCALE:GREGORIAN
METHOD:PUBLISH
X-WR-CALNAME:Mercados Medievales
X-ORIGINAL-URL:https://demercadosmedievales.info
X-WR-CALDESC:Eventos para Mercados Medievales
REFRESH-INTERVAL;VALUE=DURATION:PT1H
X-Robots-Tag:noindex
X-PUBLISHED-TTL:PT1H
BEGIN:VTIMEZONE
TZID:Europe/Madrid
BEGIN:DAYLIGHT
TZOFFSETFROM:+0100
TZOFFSETTO:+0200
TZNAME:CEST
DTSTART:20230326T010000
END:DAYLIGHT
BEGIN:STANDARD
TZOFFSETFROM:+0200
TZOFFSETTO:+0100
TZNAME:CET
DTSTART:20231029T010000
END:STANDARD
BEGIN:DAYLIGHT
TZOFFSETFROM:+0100
TZOFFSETTO:+0200
TZNAME:CEST
DTSTART:20240331T010000
END:DAYLIGHT
BEGIN:STANDARD
TZOFFSETFROM:+0200
TZOFFSETTO:+0100
TZNAME:CET
DTSTART:20241027T010000
END:STANDARD
BEGIN:DAYLIGHT
TZOFFSETFROM:+0100
TZOFFSETTO:+0200
TZNAME:CEST
DTSTART:20250330T010000
END:DAYLIGHT
BEGIN:STANDARD
TZOFFSETFROM:+0200
TZOFFSETTO:+0100
TZNAME:CET
DTSTART:20251026T010000
END:STANDARD
END:VTIMEZONE
BEGIN:VEVENT
DTSTART;VALUE=DATE:20240712
DTEND;VALUE=DATE:20240717
DTSTAMP:20260420T100502
CREATED:20240504T112918Z
LAST-MODIFIED:20240504T114414Z
UID:10001269-1720742400-1721174399@demercadosmedievales.info
SUMMARY:Feria Medieval de Rianxo / La Coruña 2024
DESCRIPTION:La Feria Medieval de Rianxo será este año en horario nocturno\, los días 12 al 16 de julio\, ambos incluidos. \nFERIA MEDIEVAL RIANXO\nRIANXO paseo de Ribera (12 al 16 de Julio 2024)\nSerá un Mercado Nocturno de 19:00 horas a 01:00 de la madrugada o según afluencia de publico\n\n🏰Información del Mercado Medieval \n\n📋 Fechas\, Localidad u Ubicación.\nFecha de celebración\n Los dias  12 al 16 de Julio del  2024 \nLocalidad y provincia donde se realiza\nEn la localidad de Rianxo que pertenece a la provincia de LA CORUÑA \nUbicación del Evento\nEstará ubicado en Paseo Da Ribera de Rianxo \nMás fechas de La Coruña\nPuedes conocer mas ferias y mercados en está provincia\, consultando nuestra sección de  eventos en  La Coruña \nConsulta mercados temáticos y Ferias\nSi quieres conocer cuando se realizan más ferias y mercados\, puedes consultar mas 🗓 fechas de mercados y ferias temáticas \, puedes visitar nuestro 👀 Calendario de Eventos \n  \n👤 Organizador del Mercado Medieval\nIACOBUS GESTORA DE EVENTOS\, es la empresa encargada de la organización y gestión de paradas/puestos de venta\, además de la decoración medieval así como también de  la ambientación. \n📋 Montaje e Inauguración\, como participar\, requisitos\, precio y servicios.\nMontaje e Inauguración\nEl Montaje del Mercado tendrá lugar el próximo día 12 de julio por la mañana.\nLa inauguración oficial se celebrará por la tarde del mismo día 12 de julio. \nEl desmontaje de los puestos será el día 16 de julio una vez finalice el mercado. \nComo participar\nLos interesados deben rellenar el siguiente formulario : https://form.jotform.com/IACOBUS_iacobusgestora/FERIAMEDIEVALRIANXO2024 \nRequisitos para participar\nLos requisitos básicos para participar son Parada de madera o hierro con decoración medieval\, vestuario medieval y tener la documentación al día. \nPara más información y consultar dudas : Teléfonos / WhatsApp :   670 210 745 \ne-mail :ARTESANOS@IACOBUSGESTORA.ES \nPrecio\nARTESANÍA :  60 x metro*\nALIMENTACIÓN:  90 x metro *\n*impuestos no incluidos \nVestuario y parada: Deben estar adecuados a la temática Medieval \n🏡 Acerca de\n\nRianxo​​​​ es un municipio español\, situado en el sur de la provincia de La Coruña\, en la comunidad autónoma de Galicia. Limita al norte con los municipios de Lousame y Rois\, al oeste con Boiro\, al este con Dodro y Catoira a través del puente sobre el río Ulla\, y al sur con la ría de Arosa. \nFerias y mercados medievales\nLas ferias medievales son eventos que recrean la atmósfera de la Edad Media. Por lo general\, se llevan a cabo en pueblos o ciudades\, y presentan puestos de vendedores que venden artesanías\, alimentos y bebidas. También puede haber entretenimiento\, como justas\, música y baile. \n  \nTags:  Feria Medieval\,Convocatoria\,plazo\,2024\,Formulario de inscripción\,Bases de participación.Rianxo\,Galicia\,España\, \n** La web no es responsable de la información publicada en ella ni de las relaciones entre
URL:https://demercadosmedievales.info/mercadomedieval/feria-medieval-de-rianxo-la-coruna-2024/
LOCATION:Rianxo (La Coruña) (***)\, praza castelao\, Rianxo\, La Coruña\, España
CATEGORIES:La Coruña,Mercado Medieval
ATTACH;FMTTYPE=image/jpeg:https://demercadosmedievales.info/wp-content/uploads/2024/05/medieval_rianxo-facebook.jpg
ORGANIZER;CN="Iacobus gestora de eventos":MAILTO:ARTESANOS@IACOBUSGESTORA.ES
GEO:42.6525107;-8.8183556
X-APPLE-STRUCTURED-LOCATION;VALUE=URI;X-ADDRESS=Rianxo (La Coruña) (***) praza castelao Rianxo La Coruña España;X-APPLE-RADIUS=500;X-TITLE=praza castelao:geo:-8.8183556,42.6525107
END:VEVENT
END:VCALENDAR