BEGIN:VCALENDAR
VERSION:2.0
PRODID:-//Mercados Medievales - ECPv6.15.20//NONSGML v1.0//EN
CALSCALE:GREGORIAN
METHOD:PUBLISH
X-ORIGINAL-URL:https://demercadosmedievales.info
X-WR-CALDESC:Eventos para Mercados Medievales
REFRESH-INTERVAL;VALUE=DURATION:PT1H
X-Robots-Tag:noindex
X-PUBLISHED-TTL:PT1H
BEGIN:VTIMEZONE
TZID:Europe/Madrid
BEGIN:DAYLIGHT
TZOFFSETFROM:+0100
TZOFFSETTO:+0200
TZNAME:CEST
DTSTART:20240331T010000
END:DAYLIGHT
BEGIN:STANDARD
TZOFFSETFROM:+0200
TZOFFSETTO:+0100
TZNAME:CET
DTSTART:20241027T010000
END:STANDARD
BEGIN:DAYLIGHT
TZOFFSETFROM:+0100
TZOFFSETTO:+0200
TZNAME:CEST
DTSTART:20250330T010000
END:DAYLIGHT
BEGIN:STANDARD
TZOFFSETFROM:+0200
TZOFFSETTO:+0100
TZNAME:CET
DTSTART:20251026T010000
END:STANDARD
BEGIN:DAYLIGHT
TZOFFSETFROM:+0100
TZOFFSETTO:+0200
TZNAME:CEST
DTSTART:20260329T010000
END:DAYLIGHT
BEGIN:STANDARD
TZOFFSETFROM:+0200
TZOFFSETTO:+0100
TZNAME:CET
DTSTART:20261025T010000
END:STANDARD
END:VTIMEZONE
BEGIN:VEVENT
DTSTART;TZID=Europe/Madrid:20250530T000000
DTEND;TZID=Europe/Madrid:20250601T235959
DTSTAMP:20260422T074530
CREATED:20250413T121154Z
LAST-MODIFIED:20250413T121322Z
UID:10002395-1748563200-1748822399@demercadosmedievales.info
SUMMARY:XIII edición de la Fira d’Estiu Comerç i Artesans de Barcelona 30 de Mayo al 01 de Junio 2025
DESCRIPTION:Del 30 de mayo al 1 de junio\, las calles de Rosellón y Rocafort en Barcelona se transformarán en el escenario de la XIII edición de la Fira d’Estiu Comerç i Artesans\, un evento ya consolidado que celebra el comercio local y el talento artesanal. \n\n\n\n\n\n\n\nHaz clic en este enlace : Mercados medievales en la provincia de Barcelona\n\n\n\nCatalunya / Cataluña\n\n\n\n✔Consulta el calendario completo del mes de MAYO \n\n\n\nXIII edición de la Fira d’Estiu Comerç i Artesans\n\n\n\n\n\n\n\n \n\n\n\n \n\n\n\nDel 30 de mayo al 1 de junio\, las calles de Rosellón y Rocafort en Barcelona se transformarán en el escenario de la XIII edición de la Fira d’Estiu Comerç i Artesans\, un evento ya consolidado que celebra el comercio local y el talento artesanal. \n\n\n\nPor ello\, se abre la inscripción para artesanos\, comerciantes y creadores que deseen participar en esta cita clave del calendario ferial barcelonés.   \n\n\n\nAdemás\, los expositores contarán con luz y vigilancia nocturna\, lo que garantiza un entorno seguro y funcional. \n\n\n\n\n  Requisitos: Carpa o parada de madera y documentación en regla.\n\n\n\n  Plazo de inscripción: Hasta agotar plazas.\n\n\n\n\nEn consecuencia\, esta feria representa una oportunidad ideal para dar a conocer productos exclusivos\, conectar con nuevos clientes y formar parte de uno de los eventos comerciales más esperados del verano en Barcelona. \n\n\n\n \n\n\n\nOrganiza :\n\n\n\n\n\nLocalización \n\n\n\nEstará ubicada en las calles de Rosellón y Rocafort en Barcelona. \n\n\n\n\n\n \n\n\n\nOtros enlaces :\n\n\n\nPodría ser de tu interés : \n\n\n\n\nPuedes Consultar en esté enlace las Ferias y Mercados en España\n\n\n\nHaz clic en ESTE enlace : y Conoce los Organizadores de Mercados y Ferias \n\n\n\n\n\nVisita nuestro Calendario de Eventos para obtener detalles de: Calendario 2025: Planifica con anticipación y no te pierdas ninguna cita.\n\n\n\n\n\nLas ferias medievales son auténticos viajes en el tiempo. Estos eventos recrean la atmósfera de la Edad Media. Leer más…\n\n\n\n\n\n\n\n\n \n\n\n\nSíguenos.\n\n\n\n\nTelegram: Recibe nuestras noticias y contenido exclusivo (clic aquí).\n\n\n\nNewsletter: Recibe un correos con nuestras últimas noticias (clic aquí).\n\n\n\nWhatsApp: Suscríbete para seguirnos en nuestro canal  (clic aquí).\n\n\n\nInstagram:  Síguenos en Instagram ( clic aquí )\n\n\n\n\n \n\n\n\n\n\n\n\n\n\n\n\nMercadosmedievales.net \n\n\n\nLos Mercados Medievales son eventos que transportan a los asistentes a la atmósfera de la Edad Media\, recreando su esencia y estética de manera auténtica. A lo largo de estos mercados\, es posible encontrar una gran variedad de puestos que ofrecen artesanía\, productos gastronómicos y objetos característicos de la época.  \n\n\n\n\n\n\n\nAdemás\, suelen contar con numerosas actividades y espectáculos inspirados en las tradiciones medievales\, como justas\, teatro callejero\, música en vivo y danzas folclóricas. En definitiva\, representan una excelente oportunidad para sumergirse en la cultura\, la gastronomía y el arte de una de las épocas más cautivadoras de la historia.
URL:https://demercadosmedievales.info/mercadomedieval/xiii-edicion-de-la-fira-destiu-comerc-i-artesans-de-barcelona-2025/
LOCATION:Barcelona (Barcelona) (***)\, Barcelona\, Barcelona
CATEGORIES:Barcelona,Cataluña,Multisectorial
ATTACH;FMTTYPE=image/jpeg:https://demercadosmedievales.info/wp-content/uploads/2025/04/1200-feria-generico.jpg
ORGANIZER;CN="Eventos SJ del Valles":MAILTO:eventos.sja1@gmail.com
GEO:41.3873974;2.168568
END:VEVENT
END:VCALENDAR