BEGIN:VCALENDAR
VERSION:2.0
PRODID:-//Mercados Medievales - ECPv6.15.20//NONSGML v1.0//EN
CALSCALE:GREGORIAN
METHOD:PUBLISH
X-WR-CALNAME:Mercados Medievales
X-ORIGINAL-URL:https://demercadosmedievales.info
X-WR-CALDESC:Eventos para Mercados Medievales
REFRESH-INTERVAL;VALUE=DURATION:PT1H
X-Robots-Tag:noindex
X-PUBLISHED-TTL:PT1H
BEGIN:VTIMEZONE
TZID:Europe/Madrid
BEGIN:DAYLIGHT
TZOFFSETFROM:+0100
TZOFFSETTO:+0200
TZNAME:CEST
DTSTART:20230326T010000
END:DAYLIGHT
BEGIN:STANDARD
TZOFFSETFROM:+0200
TZOFFSETTO:+0100
TZNAME:CET
DTSTART:20231029T010000
END:STANDARD
BEGIN:DAYLIGHT
TZOFFSETFROM:+0100
TZOFFSETTO:+0200
TZNAME:CEST
DTSTART:20240331T010000
END:DAYLIGHT
BEGIN:STANDARD
TZOFFSETFROM:+0200
TZOFFSETTO:+0100
TZNAME:CET
DTSTART:20241027T010000
END:STANDARD
BEGIN:DAYLIGHT
TZOFFSETFROM:+0100
TZOFFSETTO:+0200
TZNAME:CEST
DTSTART:20250330T010000
END:DAYLIGHT
BEGIN:STANDARD
TZOFFSETFROM:+0200
TZOFFSETTO:+0100
TZNAME:CET
DTSTART:20251026T010000
END:STANDARD
END:VTIMEZONE
BEGIN:VEVENT
DTSTART;VALUE=DATE:20240530
DTEND;VALUE=DATE:20240603
DTSTAMP:20260420T094806
CREATED:20240425T062647Z
LAST-MODIFIED:20240425T063336Z
UID:10001220-1717027200-1717372799@demercadosmedievales.info
SUMMARY:XIII Mercado De Artesanía Fiestas De San Fernando 2024 de Aranjuez (Madrid) 2024
DESCRIPTION:El Mercado de artesanía\, se celebrará en los paseos laterales del jardín de la Princesita\, frente a la fuente de la Mari Blanca y zona del brillante\, junto a la nueva oficina de turismo\, los días 30 y 31 de mayo\, 1 y 2 de junio de 2024. Este constara de unos 75 puestos aproximadamente. \n \nXIII Mercado De Artesanía\nFiestas De San Fernando 2024\n \n  \n🏰 Información detallada del Evento\nFecha de celebración del Mercado De Artesanía\n El Mercado de artesanía se celebrara los dias 30 y 31 de mayo\, 1 y 2 de junio del  2024 \nLocalidad y provincia donde se realiza\nEn la localidad de Aranjuez que pertenece a la provincia de  MADRID. Aranjuez es una ciudad que se encuentra en el sur de Madrid (centro de España) a orillas del río Tajo. \nUbicación del Mercado Medieval\nEl Mercado de artesanía\, se celebrará en los paseos laterales del jardín de la Princesita\, frente a la fuente de la Mari Blanca y zona del brillante\, junto a la nueva oficina de turismo \nInfórmate sobre las próximas fechas de Madrid\nPuedes conocer mas ferias y mercados consultando nuestra sección de eventos en la Comunidad de Madrid \nConsulta donde se celebran más mercados temáticos y Ferias y donde\nSi quieres conocer cuando se realizan más ferias y mercados\, puedes consultar mas 🗓 fechas de mercados y ferias temáticas \, puedes visitar nuestro 👀 Calendario de Eventos \nHorarios de Montaje\, Inauguración y desmontaje\n30 de mayo de 2024 …………………montaje a partir de las 10:00h\n………………….inauguración a las 18:00h.\n………………….apertura\, venta y cierre de 18:00h a 00:00h.\n31 de mayo de 2024 ………………..apertura\, venta y cierre de 11:00h a 14:30h y de 18:00h a 00:00h.\n1 de junio de 2024 ………………….apertura\, venta y cierre de 11:00h a 14:30h y de 18:00h a 00:00h.\n2 de junio de 2024 ………………….apertura\, venta y cierre de 11:00h a 14:30h y de 18:00h a 00:00h.\n…………………desmontaje a partir de las 00:00h \nDecoración y Luz:\nTodos los puestos deberán tener el toldo de color blanco y crudo\, bombillas de bajo consumo\, magneto térmico y alargadera\, es importante\, por el bien de todos\, es necesario cumplir con los requisitos de la luz; Si hubiese algún problema\, por no cumplir este requisito\, no podrá conectarse. \nPrecio\nPara conocer el coste del metro lineal de este Mercado\, tienes que ponerte en contacto con el organizador. \n👤 Organizador del Mercado De Artesanía\nCARPETANA MERCADOS TEMÁTICOS es la empresa encargada de la organización y gestión de paradas/puestos de venta\, además de la decoración medieval así como también de  la ambientación. \nComo participar\nPara poder participar\, es necesario que mandes fotografías del puesto\, donde se aprecie bien el género\, solicitud y  declaración de participación\,  DNI y  seguro de responsabilidad civil del puesto\, al correo electrónico del mercado aranjuezmercados@hotmail.com \nSi no tienes la solicitud\, puedes solicitarla al mismo correo.\nPara cualquier aclaración\, llame al teléfono 625 49 29 79. \nRequisitos imprescindibles\n– Cada participante de la feria de artesanía\, tendrá que cumplir con todo lo referente\na la nueva normativa de seguridad e higiene. \n– También será responsable\, de tener toda la documentación en regla durante los días\ndel mercado\, excluyendo a la organización y al ayuntamiento de Aranjuez\, de cualquier responsabilidad ocasionada por los mismos. \nDocumentación que tiene que mandar\n\n– Solicitud y declaración responsable\, rellena y firmada.\n– Fotografía del puesto\, donde se aprecie bien el género.\n– DNI.\n– Seguro de responsabilidad civil.\n– Registro sanitario. (solo alimentación)\n– Carnet de manipulador de alimentos. (solo alimentación)\n\nCarpetana mercados temáticos se compromete a suministrar y se hará cargo de:\n\n Luz eléctrica (importante cumplir con este requisito)\n Vigilancia nocturna de 00:00 a 10:00 h.\, en ningún caso\, el ayuntamiento o la organización\, serán responsables de hurtos o desperfectos\, que se puedan ocasionar en el mercado \, aun teniendo vigilancia contratada.\n Publicidad en redes sociales\, cartelería y cuñas de radio.\n La organización le responderá\, mediante correo electrónico\, si esta aceptado o no\, a su petición de solicitud al mercado de artesanía.​\n\n\n\n\n \n🏡 Acerca de Aranjuez\nAranjuez es una ciudad que se encuentra en el sur de Madrid (centro de España) a orillas del río Tajo. Su Palacio Real\, de estilo renacentista con influencia francesa\, tiene una fachada elaborada y un interior con decoración lujosa\, incluida una habitación de porcelana. \nEn los terrenos del palacio\, junto al río\, hay jardines ornamentales como el Jardín de la Isla. En el Jardín del Príncipe se encuentra la Casa del Labrador\, una ornamentada mansión neoclásica\, y también hay un estanque ornamental con un Pabellón Chinesco \n🗓 Calendario 2024 : \n\nAquí te dejo el calendario donde puedes encontrar mercados medievales y ferias temáticas en España durante el 2024: \n\n\nEnero\nFebrero\nMarzo\nAbril\nMayo\nJunio\nJulio\nAgosto\nSeptiembre\nOctubre\nNoviembre\nDiciembre\n\nFerias y mercados medievales\nLas ferias medievales son eventos que recrean la atmósfera de la Edad Media. Por lo general\, se llevan a cabo en pueblos o ciudades\, y presentan puestos de vendedores que venden artesanías\, alimentos y bebidas. También puede haber entretenimiento\, como justas\, música y baile. . \nFinalmente\, los Mercados  Medievales son una forma popular de aprender sobre la historia de la Edad Media y experimentar la cultura de la época. También son una actividad divertida para toda la familia. \nTags:  Feria Medieval\,Convocatoria\,plazo\,2024\,Mercado De Artesanía\,Fiestas De San Fernando 2024\,Aranjuez\,España\,
URL:https://demercadosmedievales.info/mercadomedieval/xiii-mercado-de-artesania-fiestas-de-san-fernando-2024-de-aranjuez-madrid-2024/
LOCATION:Aranjuez (Madrid) (***)\, Aranjuez\, Madrid\, España
CATEGORIES:Comunidad de Madrid,Mercado Artesanal
ATTACH;FMTTYPE=image/jpeg:https://demercadosmedievales.info/wp-content/uploads/2024/04/aranjuez_mercado_artesania_junio_2024.jpg
ORGANIZER;CN="Carpetana Mercados Tem%C3%A1ticos":MAILTO:aranjuezmercados@hotmail.com
GEO:40.0305018;-3.6040527
END:VEVENT
END:VCALENDAR